{"text_format":"1","workbook":"xlsx","n_sheets":6,"sheets":["Sheet1","タクシー","集計用","エラーチェック","補助","レンタ"],"not_rendered":{"charts":0,"images":0,"macros":1,"external_links":0,"defined_names":3,"comments":0,"pivot_tables":0},"unopened":[],"bounds":{"document_bytes":16777216,"sheet_cells":100000,"rows_first":2000,"rows_last":500,"rows_between":2000,"halvings":0,"cell_chars":16384,"cell_head_chars":4096},"cells_cut":0,"cells_raw":0,"read":"whole","date_system":"1900"}

{"sheet":"Sheet1","index":0,"n_rows":54,"n_cols":14,"rows_kept":54,"cut":false,"hidden":true,"merged":[[19,4,19,13],[16,8,16,9],[16,11,16,13],[17,8,17,9],[17,11,17,13],[13,8,13,9],[13,11,13,13],[14,8,14,9],[14,11,14,13],[15,8,15,9],[15,11,15,13],[2,3,2,13],[4,3,4,13],[42,4,42,11],[24,9,24,13],[25,9,25,13],[22,4,22,6],[22,7,22,13],[23,4,23,6],[24,4,24,6],[25,4,25,6],[23,7,23,8],[24,7,24,8],[11,4,11,13],[12,4,12,13],[25,7,25,8],[23,9,23,13],[53,4,53,13],[41,4,41,13],[28,4,28,13],[29,12,29,13],[21,4,21,13],[30,4,30,11],[31,4,31,11],[32,4,32,11],[33,4,33,11],[34,4,34,11],[35,4,35,11],[36,4,36,11],[26,4,26,6],[37,4,37,11],[38,4,38,11],[39,4,39,11],[26,7,26,8],[26,9,26,13],[42,12,42,13],[51,4,51,11],[52,4,52,11],[43,4,43,11],[44,4,44,11],[45,4,45,11],[46,4,46,11],[47,4,47,11],[48,4,48,11],[49,4,49,11],[50,4,50,11]]}
[]
[]
[null,null,null,"令和元年度　バス関係補助事業にかかる要望調査　回答票"]
[]
[null,null,null,"会社名：　　　　　　　　　　　　　　　　担当者：　　　　　　　　　連絡先：　　　　　　　　　　　　."]
[]
[]
[]
[]
[]
[]
[null,null,null,"Ⅰ．","計画等に関して"]
[null,null,null,null,"Ｑ１．事業の実施を計画している都道府県、市町村名および事業実施路線が観光庁長官が国際観光振興法※による告示で指定した区間に該当する場合は、そちらについてもお答えください（複数回答可）。"]
[null,null,null,null,"実施地域①","都道府県名",null,"市町村名",null,null,"告示区間"]
[null,null,null,null,"実施地域②","都道府県名",null,"市町村名",null,null,"告示区間"]
[null,null,null,null,"実施地域③","都道府県名",null,"市町村名",null,null,"告示区間"]
[null,null,null,null,"実施地域④","都道府県名",null,"市町村名",null,null,"告示区間"]
[null,null,null,null,"実施地域⑤","都道府県名",null,"市町村名",null,null,"告示区間"]
[]
[null,null,null,null,"Ｑ２．訪日外国人旅行者のニーズが特に高い取り組みを一体的に進める事業で、重点的に国の支援を受ける（補助率１／２～）場合は、「観光振興事業費補助金交付要綱」に定める「公共交通利用環境刷新計画」を提出する必要があります。\nそちらの提出状況をお答えください。"]
[]
[null,null,null,"Ⅰ．\n","　Ｈ２９年度の要望調査において、提出した事業の計画期間について、A又はBに○を付け、Bの場合はその年度を記載して下さい。"]
[null,null,null,"項番","事　　　　　　業",null,null,"計画期間"]
[null,null,null,"１．","全国共通ＩＣカードシステム",null,null,"A．平成２９単年度",null,"B．　複数年度（平成　　年度～平成　　年度）"]
[null,null,null,"２．","多言語バスロケーションシステム",null,null,"A．平成２９単年度",null,"B．　複数年度（平成　　年度～平成　　年度）"]
[null,null,null,"\n３．\n","多言語標記等",null,null,"A．平成２９単年度",null,"B．　複数年度（平成　　年度～平成　　年度）"]
[null,null,null,"\n４．\n","無料公衆無線ＬＡＮ",null,null,"A．平成２９単年度",null,"B．　複数年度（平成　　年度～平成　　年度）"]
[]
[null,null,null,"Ⅱ．\n","　補助対象事業を実施する地域が、次の訪日外国人の受け入れに関し一定の体制を整えている地域又は観光振興に意欲を有する地域に該当する場合は、回答欄の「はい」、「いいえ」のいずれかに○を付して、当該市町村名をお答え下さい。"]
[null,null,null,"項番","質問",null,null,null,null,null,null,null,"回答"]
[null,null,null,"１．\n"," カテゴリーⅡ以上のJNTO認定外国観光案内所が立地する地域\n　（市町村名：　　　　　　　　　　　　　　　　　　　　　　　　　　　　　　　　　　　　　　　　　）",null,null,null,null,null,null,null,"はい","いいえ"]
[null,null,null,"２．\n"," 広域観光周遊ルート形成計画の広域観光拠点地区\n　（市町村名：　　　　　　　　　　　　　　　　　　　　　　　　　　　　　　　　　　　　　　　　　）",null,null,null,null,null,null,null,"はい","いいえ"]
[null,null,null,"３．\n"," 観光圏整備実施計画認定地域\n　（市町村名：　　　　　　　　　　　　　　　　　　　　　　　　　　　　　　　　　　　　　　　　　）",null,null,null,null,null,null,null,"はい","いいえ"]
[null,null,null,"４．\n"," 観光地魅力創造事業の認定地域\n　（市町村名：　　　　　　　　　　　　　　　　　　　　　　　　　　　　　　　　　　　　　　　　　）",null,null,null,null,null,null,null,"はい","いいえ"]
[null,null,null,"５．\n\n"," 「文化財総合活用・観光振興戦略プラン」に基づき文化財を中核とする観光拠点の整備に取り組む地域\n　（市町村名：　　　　　　　　　　　　　　　　　　　　　　　　　　　　　　　　　　　　　　　　　）",null,null,null,null,null,null,null,"はい","いいえ"]
[null,null,null,"６．\n\n"," 「国立公園満喫プロジェクト」の先導モデルとして選定され、「国立公園ステップアッププログラム２０２０」の策定に取り組む地域\n　（市町村名：　　　　　　　　　　　　　　　　　　　　　　　　　　　　　　　　　　　　　　　　　）",null,null,null,null,null,null,null,"はい","いいえ"]
[null,null,null,"７．\n"," 観光立国ショーケース選定都市\n　（市町村名：　　　　　　　　　　　　　　　　　　　　　　　　　　　　　　　　　　　　　　　　　）",null,null,null,null,null,null,null,"はい","いいえ"]
[null,null,null,"８．\n"," 東京オリンピック・パラリンピック競技会場立地都市\n　（市町村名：　　　　　　　　　　　　　　　　　　　　　　　　　　　　　　　　　　　　　　　　　）",null,null,null,null,null,null,null,"はい","いいえ"]
[null,null,null,"９．\n"," ラグビーワールドカップ競技会場立地都市\n　（市町村名：　　　　　　　　　　　　　　　　　　　　　　　　　　　　　　　　　　　　　　　　　）",null,null,null,null,null,null,null,"はい","いいえ"]
[null,null,null,"10．\n\n"," その他観光ビジョン推進地方ブロック戦略会議が訪日外国人旅行者の受入環境整備を実施すべき地域と認めたもの\n　（市町村名：　　　　　　　　　　　　　　　　　　　　　　　　　　　　　　　　　　　　　　　　　）",null,null,null,null,null,null,null,"はい","いいえ"]
[]
[null,null,null,"Ⅲ．\n","　貴社で実施しているインバンド対策の取組について回答欄の「はい」、「いいえ」のいずれかに○を付してお答え下さい。また、質問欄の（　　）には「はい」と回答した場合の具体的内容を記載して下さい。"]
[null,null,null,"項番","質問",null,null,null,null,null,null,null,"回答"]
[null,null,null,"１．","多言語でバス路線図やバスマップを作成し配布している",null,null,null,null,null,null,null,"はい","いいえ"]
[null,null,null,"２．\n","バス車内で多言語案内を行っている\n　（内容：　　　　　　　　　　　　　　　　　　　　　　　　　　　　　　　　　　　　　　　　　）",null,null,null,null,null,null,null,"はい","いいえ"]
[null,null,null,"３．","停留所等標板の多言語表示を行っている",null,null,null,null,null,null,null,"はい","いいえ"]
[null,null,null,"４．\n","外国人専用のバス案内所を設置している\n　（設置場所：　　　　　　　　　　　　　　　　　　　　　　　　　　　　　　　　　　　　　　）",null,null,null,null,null,null,null,"はい","いいえ"]
[null,null,null,"５．","多言語対応のバスロケーションシステムを導入している",null,null,null,null,null,null,null,"はい","いいえ"]
[null,null,null,"６．","全国共通ＩＣカードシステムを導入している",null,null,null,null,null,null,null,"はい","いいえ"]
[null,null,null,"７．\n","インバウンド対策として観光施設等と連携した企画乗車券を発売している\n　（内容：　　　　　　　　　　　　　　　　　　　　　　　　　　　　　　　　　　　　　　　　　）",null,null,null,null,null,null,null,"はい","いいえ"]
[null,null,null,"８．\n","インバウンド対策として他の交通機関と連携した企画乗車券を発売している\n　（内容：　　　　　　　　　　　　　　　　　　　　　　　　　　　　　　　　　　　　　　　　　）",null,null,null,null,null,null,null,"はい","いいえ"]
[null,null,null,"９．\n","インバウンド対応で自治体から助成を受けている\n　（自治体名、内容：　　　　　　　　　　　　　　　　　　　　　　　　　　　　　　　　　　）",null,null,null,null,null,null,null,"はい","いいえ"]
[null,null,null,"１０．\n","インバウンド対策で自治体と連携して施策を行っている\n　（自治体名、内容：　　　　　　　　　　　　　　　　　　　　　　　　　　　　　　　　　　　　　　）",null,null,null,null,null,null,null,"はい","いいえ"]
[null,null,null,"\n１１．","\nその他のインバウンド対策（自由表記）"]

{"sheet":"タクシー","index":1,"n_rows":334,"n_cols":64,"rows_kept":334,"cut":false,"hidden":false,"merged":[[332,3,332,64],[258,53,258,54],[333,3,333,64],[318,3,318,64],[319,3,319,64],[320,3,320,64],[321,3,321,64],[322,3,322,64],[316,2,316,64],[260,3,260,64],[261,3,261,64],[262,3,262,64],[263,3,263,64],[264,3,264,64],[313,40,313,44],[313,45,313,49],[314,40,314,42],[314,43,314,44],[314,45,314,47],[325,20,325,24],[331,3,331,64],[325,45,325,49],[268,63,268,64],[325,40,325,44],[267,35,267,39],[258,35,258,37],[306,60,306,64],[284,48,284,49],[258,60,258,62],[326,20,326,22],[284,60,284,62],[330,3,330,64],[166,2,167,2],[168,2,169,2],[170,2,171,2],[213,4,213,11],[207,4,207,11],[170,45,170,47],[206,53,206,54],[205,50,205,52],[206,50,206,52],[202,35,202,39],[202,20,202,24],[185,23,185,24],[214,40,214,42],[170,20,171,22],[257,43,257,44],[214,50,214,52],[186,2,187,2],[207,2,208,2],[186,3,187,3],[207,3,208,3],[220,8,220,11],[220,12,220,13],[230,4,230,11],[227,35,227,39],[219,15,219,18],[219,20,219,22],[230,33,230,34],[219,43,219,44],[228,50,228,52],[168,45,168,47],[183,12,183,13],[229,12,229,13],[325,25,325,34],[314,60,314,62],[326,40,326,42],[309,33,309,34],[307,63,307,64],[267,60,267,64],[222,3,223,3],[229,45,229,47],[257,53,257,54],[268,23,268,24],[268,25,268,32],[328,2,328,64],[326,23,326,24],[326,25,326,32],[326,33,326,34],[326,43,326,44],[326,45,326,47],[308,43,308,44],[308,33,308,34],[257,58,257,59],[228,58,228,59],[268,33,268,34],[308,38,308,39],[228,63,228,64],[229,63,229,64],[284,55,284,57],[284,58,284,59],[258,40,258,42],[258,43,258,44],[258,45,258,47],[258,48,258,49],[257,40,257,42],[2,2,2,4],[219,58,219,59],[205,35,205,37],[184,25,184,32],[236,50,236,52],[236,48,236,49],[222,40,222,42],[310,55,310,57],[310,40,310,42],[268,45,268,47],[207,48,207,49],[207,53,207,54],[205,58,205,59],[205,20,205,22],[248,1,248,65],[257,4,257,7],[267,15,267,19],[268,60,268,62],[256,20,256,24],[207,63,207,64],[214,60,214,62],[207,55,207,57],[204,53,204,54],[206,55,206,57],[149,13,149,19],[213,40,213,44],[213,45,213,49],[214,48,214,49],[206,58,206,59],[235,2,235,3],[235,4,235,14],[235,15,235,19],[164,40,164,42],[181,45,181,49],[166,25,167,32],[168,23,169,24],[202,12,202,14],[221,40,221,42],[221,43,221,44],[221,45,221,47],[183,33,183,34],[218,40,218,44],[205,55,205,57],[207,40,207,42],[213,35,213,39],[206,38,206,39],[221,33,221,34],[219,40,219,42],[205,43,205,44],[204,23,204,24],[202,50,202,54],[220,43,220,44],[206,43,206,44],[182,38,182,39],[182,23,182,24],[203,33,203,34],[183,48,183,49],[183,50,183,52],[183,53,183,54],[214,33,214,34],[214,43,214,44],[205,25,205,32],[164,45,164,47],[213,60,213,64],[204,50,204,52],[205,45,205,47],[205,60,205,62],[186,4,186,11],[218,60,218,64],[214,63,214,64],[204,58,204,59],[203,58,203,59],[213,2,213,3],[205,23,205,24],[207,23,207,24],[218,8,218,11],[218,12,218,14],[204,35,204,37],[205,15,205,18],[206,15,206,18],[206,12,206,13],[206,23,206,24],[214,55,214,57],[206,63,206,64],[207,33,207,34],[202,2,202,3],[207,38,207,39],[214,23,214,24],[214,25,214,32],[214,38,214,39],[213,12,213,14],[214,15,214,18],[214,35,214,37],[207,12,207,13],[204,20,204,22],[169,55,169,57],[230,48,230,49],[230,58,230,59],[218,50,218,54],[218,45,218,49],[214,53,214,54],[222,43,222,44],[218,25,218,34],[220,23,220,24],[184,33,184,34],[222,23,222,24],[227,20,227,24],[221,58,221,59],[222,20,222,22],[230,38,230,39],[222,58,222,59],[227,50,227,54],[207,58,207,59],[206,40,206,42],[206,45,206,47],[206,35,206,37],[206,48,206,49],[220,58,220,59],[202,45,202,49],[219,48,219,49],[214,58,214,59],[170,55,170,57],[171,55,171,57],[221,50,221,52],[207,20,207,22],[183,23,183,24],[222,38,222,39],[129,45,129,47],[130,45,130,47],[163,40,163,44],[163,45,163,49],[164,43,165,44],[171,40,171,42],[129,55,129,57],[174,3,174,64],[182,58,182,59],[186,50,186,52],[130,60,130,62],[128,55,128,57],[161,2,161,64],[164,23,165,24],[163,12,163,14],[129,19,130,19],[147,4,147,11],[166,12,167,13],[149,2,149,10],[179,2,179,24],[182,15,182,18],[143,20,143,22],[139,14,140,14],[129,7,130,7],[127,48,128,49],[160,2,160,24],[145,12,146,13],[145,4,146,11],[164,58,165,59],[182,43,182,44],[181,50,181,54],[170,53,171,54],[129,48,130,49],[165,60,165,62],[163,2,163,3],[166,58,167,59],[166,43,167,44],[164,50,164,52],[165,55,165,57],[228,15,228,18],[229,15,229,18],[182,45,182,47],[182,48,182,49],[214,45,214,47],[185,58,185,59],[182,25,182,32],[205,40,205,42],[204,48,204,49],[181,25,181,34],[220,25,220,32],[207,60,207,62],[203,48,203,49],[203,43,203,44],[204,45,204,47],[186,43,186,44],[218,15,218,19],[207,45,207,47],[207,35,207,37],[181,60,181,64],[183,60,183,62],[183,63,183,64],[184,53,184,54],[166,33,167,34],[166,53,167,54],[163,55,163,59],[166,63,167,64],[164,35,164,37],[166,35,166,37],[164,60,164,62],[163,20,163,24],[163,25,163,34],[166,23,167,24],[167,55,167,57],[164,48,165,49],[166,48,167,49],[135,3,135,64],[142,12,143,13],[141,12,141,13],[142,23,143,24],[142,19,143,19],[166,45,166,47],[167,45,167,47],[164,20,165,22],[164,12,165,13],[164,19,165,19],[166,40,166,42],[166,19,167,19],[165,45,165,47],[166,60,166,62],[165,40,165,42],[166,50,166,52],[164,53,165,54],[164,3,165,3],[138,4,138,11],[163,60,163,64],[164,63,165,64],[168,63,169,64],[167,60,167,62],[168,60,168,62],[186,53,186,54],[186,45,186,47],[183,38,183,39],[185,50,185,52],[205,53,205,54],[205,38,205,39],[202,55,202,59],[168,19,169,19],[171,35,171,37],[178,1,178,65],[170,43,171,44],[182,12,182,13],[181,35,181,39],[168,58,169,59],[170,58,171,59],[168,53,169,54],[185,4,185,11],[186,23,186,24],[186,25,186,32],[185,45,185,47],[204,25,204,32],[204,12,204,13],[166,14,167,14],[204,63,204,64],[186,63,186,64],[180,2,180,64],[183,58,183,59],[183,20,183,22],[203,63,203,64],[283,50,283,54],[258,50,258,52],[222,35,222,37],[228,43,228,44],[220,45,220,47],[229,20,229,22],[221,25,221,32],[220,20,220,22],[229,53,229,54],[229,23,229,24],[222,50,222,52],[229,35,229,37],[229,38,229,39],[222,4,222,7],[227,4,227,11],[227,12,227,14],[222,12,222,13],[228,35,228,37],[235,35,235,39],[235,50,235,54],[236,40,236,42],[236,43,236,44],[236,45,236,47],[236,53,236,54],[256,35,256,39],[257,38,257,39],[229,50,229,52],[227,45,227,49],[228,40,228,42],[220,40,220,42],[230,23,230,24],[230,25,230,32],[258,63,258,64],[267,20,267,24],[267,25,267,34],[267,50,267,54],[266,2,266,24],[258,33,258,34],[258,15,258,18],[230,12,230,13],[204,40,204,42],[217,2,217,54],[213,50,213,54],[208,4,208,64],[213,20,213,24],[213,25,213,34],[219,63,219,64],[235,60,235,64],[230,63,230,64],[229,60,229,62],[230,60,230,62],[230,50,230,52],[228,60,228,62],[219,53,219,54],[267,55,267,59],[220,60,220,62],[228,38,228,39],[219,23,219,24],[218,4,218,7],[228,53,228,54],[236,33,236,34],[219,25,219,32],[219,60,219,62],[227,40,227,44],[235,55,235,59],[186,48,186,49],[186,40,186,42],[218,55,218,59],[221,55,221,57],[219,33,219,34],[218,35,218,39],[219,45,219,47],[205,63,205,64],[203,60,203,62],[202,60,202,64],[213,55,213,59],[204,43,204,44],[221,63,221,64],[222,60,222,62],[310,53,310,54],[308,35,308,37],[310,35,310,37],[257,55,257,57],[257,63,257,64],[236,55,236,57],[230,43,230,44],[230,45,230,47],[230,53,230,54],[221,60,221,62],[223,4,223,64],[267,45,267,49],[257,60,257,62],[256,40,256,44],[283,60,283,64],[228,55,228,57],[204,55,204,57],[310,25,310,32],[308,63,308,64],[268,55,268,57],[307,53,307,54],[307,55,307,57],[307,43,307,44],[307,45,307,47],[308,40,308,42],[307,12,307,13],[283,25,283,34],[284,20,284,22],[284,23,284,24],[284,25,284,32],[284,33,284,34],[310,12,310,13],[310,15,310,18],[306,55,306,59],[309,20,309,22],[309,23,309,24],[307,25,307,32],[309,43,309,44],[309,45,309,47],[268,48,268,49],[268,50,268,52],[268,53,268,54],[284,50,284,52],[284,63,284,64],[308,45,308,47],[268,58,268,59],[308,58,308,59],[284,53,284,54],[283,55,283,59],[306,8,306,11],[307,8,307,10],[308,8,308,10],[306,50,306,54],[283,20,283,24],[308,23,308,24],[308,25,308,32],[287,2,287,64],[289,3,289,64],[236,4,236,14],[236,35,236,37],[257,50,257,52],[258,20,258,22],[236,63,236,64],[230,55,230,57],[236,58,236,59],[284,43,284,44],[284,45,284,47],[284,35,284,37],[257,15,257,18],[256,45,256,49],[256,50,256,54],[256,12,256,14],[283,40,283,44],[283,45,283,49],[284,40,284,42],[230,20,230,22],[258,23,258,24],[258,25,258,32],[256,55,256,59],[256,60,256,64],[267,40,267,44],[184,63,184,64],[184,58,184,59],[187,4,187,64],[186,35,186,37],[184,4,184,11],[203,45,203,47],[184,20,184,22],[184,40,184,42],[184,45,184,47],[184,48,184,49],[307,50,307,52],[307,38,307,39],[291,3,291,64],[292,3,292,64],[306,20,306,24],[306,25,306,34],[307,20,307,22],[206,60,206,62],[306,40,306,44],[204,60,204,62],[229,55,229,57],[228,45,228,47],[229,43,229,44],[227,55,227,59],[222,63,222,64],[227,60,227,64],[205,33,205,34],[206,25,206,32],[203,23,203,24],[185,48,185,49],[203,40,203,42],[203,55,203,57],[326,48,326,49],[326,50,326,52],[326,53,326,54],[326,55,326,57],[326,58,326,59],[326,60,326,62],[307,58,307,59],[307,60,307,62],[325,50,325,54],[325,55,325,59],[325,60,325,64],[310,63,310,64],[309,48,309,49],[309,50,309,52],[309,53,309,54],[309,55,309,57],[309,58,309,59],[326,63,326,64],[313,50,313,54],[313,55,313,59],[313,60,313,64],[310,50,310,52],[314,58,314,59],[314,63,314,64],[314,53,314,54],[314,55,314,57],[314,50,314,52],[314,48,314,49],[310,60,310,62],[309,60,309,62],[309,63,309,64],[308,60,308,62],[182,63,182,64],[182,60,182,62],[168,12,169,13],[168,38,169,39],[166,4,167,11],[168,35,168,37],[169,45,169,47],[170,12,171,13],[168,55,168,57],[170,60,170,62],[171,50,171,52],[166,20,167,22],[168,33,169,34],[183,35,183,37],[169,60,169,62],[170,40,170,42],[170,15,171,18],[170,19,171,19],[183,25,183,32],[183,45,183,47],[182,33,182,34],[170,33,171,34],[181,15,181,19],[183,40,183,42],[171,45,171,47],[166,15,167,18],[175,3,175,64],[166,3,167,3],[168,3,169,3],[170,3,171,3],[170,63,171,64],[183,4,183,11],[184,55,184,57],[183,43,183,44],[181,55,181,59],[182,50,182,52],[182,53,182,54],[182,55,182,57],[184,43,184,44],[185,43,185,44],[200,1,200,65],[202,25,202,34],[203,25,203,32],[184,23,184,24],[201,2,201,24],[185,35,185,37],[203,20,203,22],[186,38,186,39],[186,55,186,57],[185,60,185,62],[182,35,182,37],[202,40,202,44],[203,53,203,54],[203,50,203,52],[182,40,182,42],[181,4,181,11],[186,33,186,34],[184,38,184,39],[185,40,185,42],[186,58,186,59],[186,60,186,62],[203,35,203,37],[203,4,203,11],[185,63,185,64],[171,60,171,62],[165,50,165,52],[168,40,168,42],[169,40,169,42],[168,15,169,18],[168,43,169,44],[164,55,164,57],[166,55,166,57],[168,50,168,52],[169,50,169,52],[170,50,170,52],[164,14,165,14],[164,15,165,18],[170,4,171,11],[166,38,167,39],[186,20,186,22],[185,20,185,22],[181,20,181,24],[182,20,182,22],[170,25,171,32],[170,38,171,39],[167,50,167,52],[170,35,170,37],[185,53,185,54],[168,48,169,49],[170,48,171,49],[184,35,184,37],[185,55,185,57],[181,40,181,44],[184,60,184,62],[168,20,169,22],[185,38,185,39],[221,35,221,37],[308,55,308,57],[268,15,268,18],[221,53,221,54],[222,53,222,54],[207,15,207,18],[308,48,308,49],[227,25,227,34],[228,20,228,22],[228,23,228,24],[222,48,222,49],[219,38,219,39],[222,25,222,32],[222,33,222,34],[207,25,207,32],[219,55,219,57],[220,55,220,57],[222,55,222,57],[257,48,257,49],[219,50,219,52],[228,33,228,34],[230,40,230,42],[207,50,207,52],[213,15,213,19],[207,43,207,44],[233,1,233,65],[220,4,220,7],[227,15,227,19],[220,48,220,49],[236,60,236,62],[220,63,220,64],[229,58,229,59],[284,15,284,18],[310,48,310,49],[306,45,306,49],[307,40,307,42],[258,55,258,57],[258,58,258,59],[222,45,222,47],[221,48,221,49],[228,48,228,49],[229,48,229,49],[268,40,268,42],[268,43,268,44],[256,2,256,3],[306,15,306,19],[257,12,257,13],[258,12,258,13],[271,2,271,64],[228,12,228,13],[221,4,221,7],[229,4,229,11],[236,15,236,18],[310,38,310,39],[290,3,290,64],[267,2,267,3],[257,45,257,47],[256,4,256,7],[256,8,256,11],[229,40,229,42],[310,58,310,59],[308,12,308,13],[235,45,235,49],[235,40,235,44],[257,23,257,24],[314,33,314,34],[308,15,308,18],[309,15,309,18],[258,38,258,39],[256,15,256,19],[306,35,306,39],[309,4,309,7],[267,4,267,14],[258,4,258,7],[253,18,253,19],[230,15,230,18],[230,35,230,37],[313,35,313,39],[313,15,313,19],[313,12,313,14],[313,8,313,11],[314,35,314,37],[314,12,314,13],[310,33,310,34],[314,38,314,39],[310,8,310,10],[306,12,306,14],[307,23,307,24],[314,15,314,18],[313,20,313,24],[313,25,313,34],[309,25,309,32],[314,20,314,22],[314,23,314,24],[314,25,314,32],[307,33,307,34],[229,25,229,32],[229,33,229,34],[309,38,309,39],[314,8,314,10],[206,20,206,22],[220,35,220,37],[221,12,221,13],[222,15,222,18],[252,18,252,19],[236,20,236,22],[236,23,236,24],[236,25,236,32],[235,20,235,24],[235,25,235,34],[232,2,232,24],[228,4,228,11],[234,2,234,24],[222,2,223,2],[257,8,257,10],[258,8,258,10],[284,4,284,14],[255,2,255,24],[283,35,283,39],[284,38,284,39],[221,15,221,18],[221,38,221,39],[221,20,221,22],[221,23,221,24],[268,35,268,37],[268,38,268,39],[257,20,257,22],[214,20,214,22],[121,60,121,62],[257,35,257,37],[309,35,309,37],[310,20,310,22],[120,55,120,59],[127,33,128,34],[326,4,326,14],[326,35,326,37],[220,38,220,39],[219,4,219,7],[219,8,219,11],[219,12,219,13],[220,15,220,18],[185,15,185,18],[202,4,202,11],[203,15,203,18],[186,12,186,13],[216,2,216,24],[218,2,218,3],[204,15,204,18],[214,4,214,11],[214,12,214,13],[219,35,219,37],[228,25,228,32],[218,20,218,24],[326,38,326,39],[326,15,326,18],[325,2,325,3],[325,4,325,14],[204,38,204,39],[202,15,202,19],[212,2,212,24],[163,50,163,54],[325,15,325,19],[325,35,325,39],[314,4,314,7],[96,2,96,21],[97,2,97,21],[121,15,122,18],[120,25,120,34],[81,2,81,21],[83,2,83,24],[121,14,122,14],[121,25,122,32],[127,58,128,59],[125,60,125,62],[127,38,128,39],[126,45,126,47],[127,45,127,47],[128,45,128,47],[120,45,120,49],[120,60,120,64],[121,63,122,64],[123,63,124,64],[123,48,124,49],[121,33,122,34],[123,53,124,54],[121,48,122,49],[125,35,125,37],[122,35,122,37],[125,63,126,64],[126,60,126,62],[123,55,123,57],[124,55,124,57],[3,5,3,8],[5,2,5,4],[5,5,5,8],[7,2,8,4],[7,5,8,8],[16,1,16,4],[17,2,18,4],[17,5,18,8],[17,9,18,12],[19,2,20,4],[21,2,22,4],[23,2,24,4],[164,4,165,11],[10,3,10,5],[79,2,79,21],[80,2,80,21],[7,9,8,12],[55,21,55,24],[53,21,53,24],[19,5,20,24],[66,2,66,4],[66,5,66,8],[123,12,124,13],[125,12,126,13],[127,12,128,13],[127,8,128,11],[121,8,122,11],[123,8,124,11],[164,2,165,2],[5,9,5,12],[142,15,143,18],[142,14,143,14],[123,60,123,62],[124,60,124,62],[27,5,28,24],[29,5,30,24],[29,2,30,4],[123,43,124,44],[137,2,137,24],[142,4,143,11],[139,19,140,19],[123,25,124,32],[37,2,37,24],[38,2,38,24],[40,2,40,24],[75,2,75,23],[127,50,127,52],[128,50,128,52],[129,50,129,52],[51,21,51,24],[121,20,122,22],[141,4,141,11],[121,55,121,57],[122,55,122,57],[126,55,126,57],[127,55,127,57],[125,48,126,49],[123,45,123,47],[53,8,53,17],[123,14,124,14],[127,4,128,6],[44,31,50,54],[125,55,125,57],[45,17,45,20],[19,31,20,45],[184,12,184,13],[184,15,184,18],[183,15,183,18],[22,31,23,31],[22,32,23,32],[22,33,23,33],[22,34,23,34],[45,8,45,16],[33,2,33,10],[126,35,126,37],[125,15,126,18],[127,15,128,18],[129,15,130,18],[123,35,123,37],[163,15,163,19],[163,35,163,39],[45,21,45,24],[47,21,47,24],[49,21,49,24],[139,2,141,3],[138,2,138,3],[139,4,140,11],[144,4,144,11],[51,8,51,17],[68,1,68,65],[69,2,69,64],[70,2,70,64],[71,2,71,64],[72,2,72,64],[73,2,73,64],[124,45,124,47],[94,2,94,24],[206,33,206,34],[185,25,185,32],[181,12,181,14],[184,50,184,52],[182,4,182,11],[122,45,122,47],[98,2,98,21],[123,15,124,18],[129,8,130,11],[125,20,126,22],[115,1,115,65],[204,33,204,34],[129,4,130,6],[168,14,169,14],[168,4,169,11],[132,3,132,64],[133,3,133,64],[129,25,130,32],[170,23,171,24],[125,45,125,47],[121,12,122,13],[145,14,146,14],[163,4,163,11],[101,2,101,21],[205,48,205,49],[102,3,102,64],[120,50,120,54],[123,38,124,39],[205,12,205,13],[205,4,205,11],[206,4,206,11],[57,2,57,10],[89,2,89,21],[181,2,181,3],[164,25,165,32],[164,33,165,34],[127,53,128,54],[130,50,130,52],[125,50,125,52],[126,50,126,52]],"merged_total":1203,"flags":["merged_cut"]}
[null,null,"令和５年度補正予算　登録情報の変更申請用紙（２次募集：タクシー関係）　",null,null,null,null,null,null,null,null,null,null,null,null,null,null,null,null,null,null,null,null,null,null,null,null,null,null,"☑"]
[null,null,null,null,null,null,null,null,null,null,null,null,null,null,null,null,null,null,null,null,null,null,null,null,null,null,"□","□","□","□"]
[null,null,"整理番号"]
[null,null,"事業者名",null,null,null,null,null,null,"住所"]
[null,null,null,null,null,null,null,null,null,null,null,null,null,null,null,null,null,null,null,null,null,null,null,null,null,null,null,null,null,{"$f":"IF(P4=\"\",1,0)","v":1}]
[null,null,"代表者氏名",null,null,null,null,null,null,"ご担当者名"]
[]
[null,null,"ご連絡先\n(ご担当者)",null,null,null,null,null,null,"E-mail \n(ご担当者)"]
[]
[null,null,null,null,null,null,null,null,null,null,null,null,null,null,null,null,null,null,null,null,null,null,null,null,null,null,null,null,null,{"$f":"IF(F8=\"\",1,0)","v":1}]
[null,null,null,"事業許可の種類",null,null,null,null,"法人タクシー（一般、福祉輸送事業限定の両方）",null,null,null,null,null,null,null,null,null,null,null,null,null,null,"□",null,null,null,null,4,{"$f":"IF(COUNTIF(X11:X32,AD$1)=1,0,1)","v":1}]
[null,null,null,"（該当するもの「１つに」チェックしてください）",null,null,null,null,"法人タクシー（一般）",null,null,null,null,null,null,null,null,null,null,null,null,null,null,"□",null,null,null,null,3]
[null,null,null,null,null,null,null,null,"法人タクシー（福祉輸送事業限定）",null,null,null,null,null,null,null,null,null,null,null,null,null,null,"□",null,null,null,null,2]
[null,null,null,null,null,null,null,null,"個人タクシー",null,null,null,null,null,null,null,null,null,null,null,null,null,null,"□",null,null,null,null,1]
[]
[]
[null,"振込先銀行情報"]
[null,null,"銀行名",null,null,null,null,null,null,"金融機関コード"]
[]
[null,null,"支店名",null,null,null,null,null,null,null,null,null,null,null,null,null,null,null,null,null,null,null,null,null,null,null,null,null,null,null,null,"ゆうちょ銀行の方は銀行名に「ゆうちょ銀行」と入力してから\n下記に入力してください"]
[]
[null,null,"支店番号",null,null,null,null,null,null,null,null,null,null,null,null,null,null,null,null,null,null,null,null,null,null,null,null,null,null,null,null,null,"A","B","C","D","E",null,"F","G","H","I","J","K","L","M"]
[null,null,null,null,null,null,null,null,null,null,null,null,null,null,null,null,null,null,null,null,null,null,null,null,null,null,null,null,null,null,null,"記号",null,null,null,null,null,"番号"]
[null,null,"口座の種類"]
[null,null,null,null,null,null,null,null,null,null,null,null,null,null,null,null,null,null,null,null,null,null,null,null,null,null,null,null,null,null,null,"※A～Mは１桁ずつ入力してください"]
[null,null,"口座番号",null,null,null,null,null,null,null,null,null,null,null,null,null,null,null,null,null,null,null,null,null,null,null,null,null,null,null,null,"※記号（A～E）は計５桁,Fは記入なし,番号(F～M)は最大計８桁"]
[null,null,null,null,null,null,null,null,null,null,null,null,null,null,null,null,null,null,null,null,null,null,null,null,null,null,null,null,null,null,null,"※番号が８桁未満の場合は左詰めで記入してください"]
[null,null,"フリガナ"]
[]
[null,null,"口座名義人"]
[null,null,null,null,null,null,null,null,null,null,null,null,null,null,null,null,null,null,null,null,null,null,null,null,null,null,null,null,null,null,null,null,"↑記号・番号入力後に押してください"]
[]
[null,null,"※本用紙入力後に、一度は下記チェックボタンを押下してください。"]
[null,null,"チェックボタン",null,null,null,null,null,null,null,null,null,null,null,null,"未チェック"]
[null,null,"※エラーが表示されたら修正を行い、再度チェックボタンを押下してください。",null,null,null,null,null,null,null,null,null,null,null,null,null,null,null,null,null,null,null,null,null,null,null,null,null,null,{"$f":"IF(C35=AD$1,0,1)","v":1},null,"エラーメッセージボックス"]
[null,null,"□","補助金の交付決定は申請の範囲内で実施されることについて理解のうえ、申請に漏れが無いことを確認しました。",null,null,null,null,null,null,null,null,null,null,null,null,null,null,null,null,null,null,null,null,null,null,null,null,null,{"$f":"IF(C36=AD$1,0,1)","v":1}]
[]
[null,null,{"$f":"IF(SUM(AD11:AD97)=0,\"【OK】「表紙」及び「各種認証・認定の取得状況」記入済み\",\"【入力エラー！】\")","v":"【入力エラー！】"}]
[null,null,{"$f":"IF(SUM(AD11:AD97)=0,\"\",\"「表紙」または「各種認証・認定の取得状況」に記載漏れ、二重チェック等があるので、御確認ください！\")","v":"「表紙」または「各種認証・認定の取得状況」に記載漏れ、二重チェック等があるので、御確認ください！"}]
[]
[null,null,"↑「入力エラー！」の表示が消えたことを確認してから提出してください。\n　 「表紙」及び「各種認証・認定の取得状況」の記入が完了すると「入力エラー」が消えて「OK」と表示されます。"]
[]
[null,null,"交付決定額"]
[null,null,"　0　千円"]
[]
[]
[]
[]
[]
[]
[]
[]
[]
[]
[]
[]
[]
[]
[null,null,"様式第9A作成ボタン",null,null,null,null,null,null,null,null,null,"様式第9B作成ボタン"]
[]
[]
[]
[]
[]
[]
[]
[null,null,"整理番号"]
[]
[null,"各種認証・認定の取得状況"]
[null,null,"　国土交通省では、バス・タクシー事業の人材確保のため、若者や女性を含めた安全・安心で快適な働きやすい職場環境の実現を推進しております。"]
[null,null,"　このため、交付申請書提出時の状況について、以下を回答して下さい。"]
[null,"★","自動車運送事業者のための「働きやすい職場認証制度」の取得状況"]
[null,null,"　国土交通省では、自動車運送事業（トラック・バス・タクシー事業）の運転者不足に対応するための総合的な取組みの一環として、令和２年度に「働きやすい職場認証制度」を創設しました。"]
[null,null,"　自動車運送事業者のための「働きやすい職場認証制度」について詳細、認証制度の取得については以下のHPをご覧ください。（https://www.untenshashokuba.go.jp/）"]
[]
[null,null,"働きやすい職場認証制度の認証取得状況について、該当するもの１つにチェックを入れてください。"]
[]
[null,null,"（１）「三つ星」を取得済み",null,null,null,null,null,null,null,null,null,null,null,null,null,null,null,null,null,null,null,null,"□",null,null,null,null,5,{"$f":"IF(COUNTIF(X78:X82,AD$1)=1,0,1)","v":1}]
[null,null,"（２）「二つ星」を取得済み",null,null,null,null,null,null,null,null,null,null,null,null,null,null,null,null,null,null,null,null,"□",null,null,null,null,4]
[null,null,"（３）「一つ星」を取得済み",null,null,null,null,null,null,null,null,null,null,null,null,null,null,null,null,null,null,null,null,"□",null,null,null,null,3]
[null,null,"（４）交付申請時点で認証を取得していないが、事業完了実績報告（令和７年２月頃）までに取得予定",null,null,null,null,null,null,null,null,null,null,null,null,null,null,null,null,null,null,null,null,"□",null,null,null,null,2]
[null,null,"（５）交付申請時点で認証を取得しておらず、事業完了実績報告までに取得する予定もない",null,null,null,null,null,null,null,null,null,null,null,null,null,null,null,null,null,null,null,null,"□",null,null,null,null,1]
[]
[null,"★","女性活躍推進法に基づく「えるぼし」等の認定状況"]
[null,null,"女性活躍推進法に基づく「えるぼし」等の認定状況について、該当するもの１つににチェックを入れてください。"]
[]
[null,null,"（１）「プラチナえるぼし」の認定を受けている",null,null,null,null,null,null,null,null,null,null,null,null,null,null,null,null,null,null,null,null,"□",null,null,null,null,6,{"$f":"IF(COUNTIF(X87:X92,AD$1)=1,0,1)","v":1}]
[null,null,"（２）「えるぼし（３つ星）」の認定を受けている",null,null,null,null,null,null,null,null,null,null,null,null,null,null,null,null,null,null,null,null,"□",null,null,null,null,5]
[null,null,"（３）「えるぼし（２つ星）」の認定を受けている",null,null,null,null,null,null,null,null,null,null,null,null,null,null,null,null,null,null,null,null,"□",null,null,null,null,4]
[null,null,"（４）「えるぼし（１つ星）」の認定を受けている",null,null,null,null,null,null,null,null,null,null,null,null,null,null,null,null,null,null,null,null,"□",null,null,null,null,3]
[null,null,"（５）交付申請時点で認定を受けていないが、事業完了実績報告（令和７年２月頃）までに認定を受ける予定",null,null,null,null,null,null,null,null,null,null,null,null,null,null,null,null,null,null,null,null,"□",null,null,null,null,2]
[null,null,"（６）交付申請時点で認定を受けておらず、事業完了実績報告までに認定を受ける予定もない",null,null,null,null,null,null,null,null,null,null,null,null,null,null,null,null,null,null,null,null,"□",null,null,null,null,1]
[]
[null,"★","次世代育成支援対策推進法に基づく「くるみんマーク」等の認定状況"]
[null,null,"次世代育成支援対策推進法に基づく「くるみんマーク」等の認定状況について、該当するもの１つににチェックを入れてください。"]
[]
[null,null,"（１）「プラチナくるみん」の認定を受けている",null,null,null,null,null,null,null,null,null,null,null,null,null,null,null,null,null,null,null,null,"□",null,null,null,null,5,{"$f":"IF(COUNTIF(X97:X101,AD$1)=1,0,1)","v":1}]
[null,null,"（２）「くるみん」の認定を受けている",null,null,null,null,null,null,null,null,null,null,null,null,null,null,null,null,null,null,null,null,"□",null,null,null,null,4]
[null,null,"（３）「トライくるみん」の認定を受けている",null,null,null,null,null,null,null,null,null,null,null,null,null,null,null,null,null,null,null,null,"□",null,null,null,null,3]
[null,null,"（４）交付申請時点で認定を受けていないが、事業完了実績報告（令和７年３月）までに認定を受ける予定",null,null,null,null,null,null,null,null,null,null,null,null,null,null,null,null,null,null,null,null,"□",null,null,null,null,2]
[null,null,"（５）交付申請時点で認定を受けておらず、事業完了実績報告までに認定を受ける予定もない",null,null,null,null,null,null,null,null,null,null,null,null,null,null,null,null,null,null,null,null,"□",null,null,null,null,1]
[]
[null,null,"※1","交付申請又は事業完了実績報告の際には取得状況を証明する書面の提出が必要になります。その際、本申請の回答内容と相違があった場合は、実際の補助金交付額が減額される可能性がありますのでご注意ください。"]
[]
[]
[]
[]
[]
[]
[]
[]
[]
[]
[]
[]
[null,"（別紙様式第3①）　タクシー車両関係"]
[null,"①","EVタクシー等の導入について"]
[null,null,"（EVタクシー等支援事業一覧）\n(1) 商用車の電動化促進事業（環境省・経済産業省連携事業）\n(2)地域公共交通確保維持改善事業（交通DX・GXによる経営改善支援）　\n(3)グリーンイノベーション基金事業（スマートモビリティ社会の構築）（経済産業省連携事業）"]
[]
[null,null,"EV車両の導入補助については、申請台数、金額等を踏まえて補助方針を定めます。"]
[null,null,"整理記号",null,"申請項目",null,null,"製造メーカー","着手時期",null,null,null,"申請台数",null,null,"補助対象経費（税抜）",null,null,null,null,"要望額",null,null,null,null,"内示額",null,null,null,null,null,null,null,null,null,"別紙様式第1\n交付申請額",null,null,null,null,"別紙様式第2\n交付決定額",null,null,null,null,"別紙様式第3\n交付決定変更申請額",null,null,null,null,"別紙様式第4\n交付決定変更額",null,null,null,null,"別紙様式第6\n進捗状況額",null,null,null,null,"別紙様式第7\n完了実績額"]
[{"$f":"IF(C122>0,C122,A121&\"a\")","v":1},null,{"$f":"C66+1","v":1},null,"タクシー車両（バッテリー式電気自動車）の導入",null,null,null,null,null,null,null,null,null,"台",null,null,null,null,"円",null,null,null,"千円",null,null,null,null,null,null,null,null,null,"千円",null,"(補助対象経費×1/3)\n※1台あたり1,500万円",null,null,"千円",null,null,null,null,"千円",null,null,null,null,"千円",null,null,null,null,"千円",null,null,null,null,"千円",null,null,null,null,"千円"]
[{"$f":"IF(C123>0,C123,A122&\"a\")","v":"1a"},null,null,null,null,null,null,null,null,null,null,null,null,null,null,null,null,null,null,null,null,null,null,null,null,null,null,null,null,null,null,null,null,null,null,{"$f":"IF(AND(M122 = \"\", P122 = \"\"),\"\",IF(P122/M122>150000000,15000*M122,IF(AND(M122>0,P122>0),ROUNDDOWN(P122/3000,0),\"\")))","v":""}]
[{"$f":"IF(C124>0,C124,#REF!&\"a\")","v":2},null,{"$f":"C122+1","v":2},null,"タクシー車両（プラグインハイブリッド車）の導入",null,null,null,null,null,null,null,null,null,"台",null,null,null,null,"円",null,null,null,"千円",null,null,null,null,null,null,null,null,null,"千円",null,"(補助対象経費×1/3)\n※1台あたり1,500万円",null,null,"千円",null,null,null,null,"千円",null,null,null,null,"千円",null,null,null,null,"千円",null,null,null,null,"千円",null,null,null,null,"千円"]
[{"$f":"IF(C125>0,C125,A124&\"a\")","v":"2a"},null,null,null,null,null,null,null,null,null,null,null,null,null,null,null,null,null,null,null,null,null,null,null,null,null,null,null,null,null,null,null,null,null,null,{"$f":"IF(AND(M124 = \"\", P124 = \"\"),\"\",IF(P124/M124>150000000,15000*M124,IF(AND(M124>0,P124>0),ROUNDDOWN(P124/3000,0),\"\")))","v":""}]
[{"$f":"IF(C126>0,C126,#REF!&\"a\")","v":3},null,{"$f":"C124+1","v":3},null,"タクシー車両（燃料電池自動車）の導入",null,null,null,null,null,null,null,null,null,"台",null,null,null,null,"円",null,null,null,"千円",null,null,null,null,null,null,null,null,null,"千円",null,"(補助対象経費×1/3)\n※1台あたり1,500万円",null,null,"千円",null,null,null,null,"千円",null,null,null,null,"千円",null,null,null,null,"千円",null,null,null,null,"千円",null,null,null,null,"千円"]
[{"$f":"IF(C127>0,C127,A126&\"a\")","v":"3a"},null,null,null,null,null,null,null,null,null,null,null,null,null,null,null,null,null,null,null,null,null,null,null,null,null,null,null,null,null,null,null,null,null,null,{"$f":"IF(AND(P126 = \"\", M126 = \"\"),\"\",IF(M126/P126>150000000,15000*P126,IF(AND(P126>0,M126>0),ROUNDDOWN(M126/3000,0),\"\")))","v":""}]
[{"$f":"IF(C128>0,C128,#REF!&\"a\")","v":4},null,{"$f":"C126+1","v":4},null,"EVタクシー等用充電設備の導入",null,null,null,null,null,null,null,null,null,"基",null,null,null,null,"円",null,null,null,"千円",null,null,null,null,null,null,null,null,null,"千円",null,"(補助対象経費×1/3)",null,null,"千円",null,null,null,null,"千円",null,null,null,null,"千円",null,null,null,null,"千円",null,null,null,null,"千円",null,null,null,null,"千円"]
[{"$f":"IF(C129>0,C129,A128&\"a\")","v":"4a"},null,null,null,null,null,null,null,null,null,null,null,null,null,null,null,null,null,null,null,null,null,null,null,null,null,null,null,null,null,null,null,null,null,null,{"$f":"IF(AND(M128>0,P128>0),ROUNDDOWN(P128/3000,0),\"\")","v":""}]
[{"$f":"IF(C130>0,C130,#REF!&\"a\")","v":5},null,{"$f":"C128+1","v":5},null,"EVタクシー等用充電設備の工事費",null,null,null,null,null,null,null,null,null,"箇所",null,null,null,null,"円",null,null,null,"千円",null,null,null,null,null,null,null,null,null,"千円",null,"(補助対象経費×1/2)\n※1か所あたり300万円",null,null,"千円",null,null,null,null,"千円",null,null,null,null,"千円",null,null,null,null,"千円",null,null,null,null,"千円",null,null,null,null,"千円"]
[{"$f":"IF(C131>0,C131,A130&\"a\")","v":"5a"},null,null,null,null,null,null,null,null,null,null,null,null,null,null,null,null,null,null,null,null,null,null,null,null,null,null,null,null,null,null,null,null,null,null,{"$f":"IF(AND(M130 = \"\", P130 = \"\"),\"\",IF(P130/M130>3000000,3000*M130,IF(AND(M130>0,P130>0),ROUNDDOWN(P130/2000,0),\"\")))","v":""}]
[]
[null,null,"※1","商用車の電動化促進事業では、型式によって補助額が決まっています。"]
[null,null,"※2","商用車の電動化促進事業（R5年度当初予算事業）の補助対象車両の型式は以下URLの「補助対象車両一覧」にて御確認できます。\n公益財団法人日本自動車輸送技術協会HP：https://ataj.or.jp/efv-f_taxi_r5/"]
[null,null,null,"×"]
[null,null,"※3","充電設備、高圧受電設備並びにＶ２Ｈ充放電設備若しくは外部給電器については、原則としてEV車両の購入とセットの場合のみ補助対象となります。"]
[null,"②","福祉タクシーについて"]
[null,null,"・「福祉タクシー」とは、福祉輸送のみする車両を指します。\n・「福祉タクシー」に係る補助を受けるためには、地域公共交通活性化再生法に基づく協議会にて策定された「生活交通確保維持改善計画」に、位置づけられる必要があります。"]
[null,null,"整理記号",null,"申請項目",null,null,null,null,null,null,null,"申請台数",null,null,"補助対象経費（税抜）",null,null,null,null,"交付申請額"]
[{"$f":"IF(C140>0,C140,A139&\"a\")","v":{"$error":"#REF!"}},null,{"$f":"+#REF!+1","v":{"$error":"#REF!"}},null," 福祉タクシー（リフト付）の導入",null,null,null,null,null,null,null,null,null,"台",null,null,null,null,"円","（申請台数×800千円）",null,null,"千円"]
[{"$error":"#REF!"},null,null,null,null,null,null,null,null,null,null,null,null,null,null,null,null,null,null,null,{"$f":"IF(AND(M140>0,P140>0),M140*800,\"\")","v":""}]
[{"$error":"#REF!"},null,null,null,"うち、自治体による協調補助がある又は予定されている車両数",null,null,null,null,null,null,null,null,null,"台"]
[{"$error":"#REF!"},null,{"$f":"+C140+1","v":{"$error":"#REF!"}},null," 福祉タクシー（上記以外）の導入",null,null,null,null,null,null,null,null,null,"台",null,null,null,null,"円","（申請台数×600千円）",null,null,"千円"]
[{"$error":"#REF!"},null,null,null,null,null,null,null,null,null,null,null,null,null,null,null,null,null,null,null,{"$f":"IF(AND(M143>0,P143>0),M143*600,\"\")","v":""}]
[{"$error":"#REF!"},null,null,null,"うち、自治体による協調補助がある又は予定されている車両数",null,null,null,null,null,null,null,null,null,"台"]
[{"$error":"#REF!"},null,{"$f":"+C143+1","v":{"$error":"#REF!"}},null,"福祉タクシーの共同配車センターの整備",null,null,null,null,null,null,null,null,null,null,null,null,null,null,"円","（補助対象経費×1/3）",null,null,"千円"]
[{"$error":"#REF!"},null,null,null,null,null,null,null,null,null,null,null,null,null,null,null,null,null,null,null,{"$f":"IF(P146>0,ROUNDDOWN(P146/3000,0),\"\")","v":""}]
[{"$error":"#REF!"},null,null,null,"自治体による協調補助がある又は予定されている。",null,null,null,null,null,null,null,"□"]
[{"$error":"#REF!"}]
[{"$f":"A149&\"a\"","v":{"$error":"#REF!"}},null,"・過去３か年（R3～R5年度）で国庫補助を活用して導入した福祉タクシー車両の台数",null,null,null,null,null,null,null,null,"（",null,"）台 ※ＵＤタクシー車両除く"]
[]
[]
[]
[]
[]
[]
[]
[]
[]
[]
[null,"②","タクシー車両（EV、福祉タクシー以外）の導入について"]
[null,null,"・観光予算での支援を予定しているため、多言語・WiFi・キャッシュレス決済のうち最低でもどれか一つ（ジャンボタクシーに関してはキャシュレス決済に限る。）を導入する場合が対象になります。多言語・WiFi・キャッシュレス決済対応にあたって補助金活用の有無は問いません。"]
[null,null,"・観光予算での支援を予定しているため、空港アクセスまたは観光周遊で使用する車両である必要があります。"]
[null,null,"整理記号",null,"申請項目",null,null,null,null,null,null,null,"申請台数",null,null,"補助対象経費（税抜）",null,null,null,null,"要望額",null,null,null,null,"内示額",null,null,null,null,null,null,null,null,null,"別紙様式第1\n交付申請額",null,null,null,null,"別紙様式第2\n交付決定額",null,null,null,null,"別紙様式第3\n交付決定変更申請額",null,null,null,null,"別紙様式第4\n交付決定変更額",null,null,null,null,"別紙様式第6\n進捗状況額",null,null,null,null,"別紙様式第7\n完了実績額"]
[{"$f":"IF(C165>0,C165,A164&\"a\")","v":13},null,13,"□"," ＵＤタクシー（レベル1又は2）の導入",null,null,null,null,null,null,null,null,null,"台",null,null,null,null,"円",null,null,null,"千円",null,null,null,null,null,null,null,null,null,"千円",null,"（申請台数×600千円）",null,null,"千円",null,null,null,null,"千円",null,"（申請台数×600千円）",null,null,"千円",null,null,null,null,"千円",null,null,null,null,"千円",null,null,null,null,"千円"]
[{"$f":"IF(C166>0,C166,A165&\"a\")","v":"13a"},null,null,null,null,null,null,null,null,null,null,null,null,null,null,null,null,null,null,null,null,null,null,null,null,null,null,null,null,null,null,null,null,null,null,null,null,null,null,null,null,null,null,null,null,{"$f":"IF(AND(M165>0,P165>0),IF(D165=$AD$1,M165*600,AO166),\"\")","v":""}]
[{"$f":"IF(C167>0,C167,#REF!&\"a\")","v":14},null,{"$f":"C165+1","v":14},"□"," ＵＤタクシー（レベル準1）の導入",null,null,null,null,null,null,null,null,null,"台",null,null,null,null,"円",null,null,null,"千円",null,null,null,null,null,null,null,null,null,"千円",null,"（申請台数×400千円）",null,null,"千円",null,null,null,null,"千円",null,"（申請台数×400千円）",null,null,"千円",null,null,null,null,"千円",null,null,null,null,"千円",null,null,null,null,"千円"]
[{"$f":"IF(C168>0,C168,A167&\"a\")","v":"14a"},null,null,null,null,null,null,null,null,null,null,null,null,null,null,null,null,null,null,null,null,null,null,null,null,null,null,null,null,null,null,null,null,null,null,null,null,null,null,null,null,null,null,null,null,{"$f":"IF(AND(M167>0,P167>0),IF(D167=$AD$1,M167*400,AO168),\"\")","v":""}]
[{"$f":"IF(C169>0,C169,#REF!&\"a\")","v":15},null,{"$f":"+C167+1","v":15},"□","ジャンボタクシーの導入",null,null,null,null,null,null,null,null,null,"台",null,null,null,null,"円",null,null,null,"千円",null,null,null,null,null,null,null,null,null,"千円",null,"（申請台数×600千円）",null,null,"千円",null,null,null,null,"千円",null,"（申請台数×600千円）",null,null,"千円",null,null,null,null,"千円",null,null,null,null,"千円",null,null,null,null,"千円"]
[{"$f":"IF(C170>0,C170,A169&\"a\")","v":"15a"},null,null,null,null,null,null,null,null,null,null,null,null,null,null,null,null,null,null,null,null,null,null,null,null,null,null,null,null,null,null,null,null,null,null,null,null,null,null,null,null,null,null,null,null,{"$f":"IF(AND(M169>0,P169>0),IF(D169=$AD$1,M169*600,AO170),\"\")","v":""}]
[{"$f":"IF(C171>0,C171,#REF!&\"a\")","v":16},null,{"$f":"+C169+1","v":16},"□","訪日外国人旅行者の富裕層向けタクシーの導入\n（訪日外国人富裕層の送迎用として通常より広い車内空間の確保や車内空間をVIP仕様にする等の車両）",null,null,null,null,null,null,null,null,null,"台",null,null,null,null,"円",null,null,null,"千円",null,null,null,null,null,null,null,null,null,"千円",null,"（補助対象経費×1/3）\n※1台あたり500万円",null,null,"千円",null,null,null,null,"千円",null,"（補助対象経費×1/3）\n※1台あたり500万円",null,null,"千円",null,null,null,null,"千円",null,null,null,null,"千円",null,null,null,null,"千円"]
[{"$f":"IF(C172>0,C172,A171&\"a\")","v":"16a"},null,null,null,null,null,null,null,null,null,null,null,null,null,null,null,null,null,null,null,null,null,null,null,null,null,null,null,null,null,null,null,null,null,null,null,null,null,null,null,null,null,null,null,null,{"$f":"IFERROR(IF(D171=$AD$1,IF(ROUNDDOWN(P171/M171/3000,0)>5000,5000*M171,ROUNDDOWN(P171/3000,0)),IF(AND(M171>0,P171>0,AO172<>\"\"),AO172,\"\")),\"\")","v":""}]
[]
[null,null,"※1","車両後方から乗り降り可能で、スロープの展開など操作が容易な車両をUD認定できる新たな認定レベルとして\nレベル準１の追加を予定しており、今回の補助事業においても補助対象に加える予定です。"]
[null,null,null,"レベル準１は、レベル１やレベル２と比較して、スロープの耐荷重や乗降口、車いすスペース等の基準が緩和されたものとなります。\nなお、レベル準１の追加を含めた「標準仕様ユニバーサルデザインタクシー認定要領」の一部改正については、現在以下のURLにてパブリックコメントを実施中です。\nhttps://public-comment.e-gov.go.jp/servlet/PcmFileDownload?seqNo=0000268515"]
[null,null,"※2","訪日外国人旅行者の富裕層向けタクシーとは、訪日外国人旅行者の富裕層の送迎サービスに特化したタクシー車両ですので、一般的なタクシー車両と比較して高価格帯の車両を用いることはもとより、Wi-Fiの設置や多言語化対応は必須となります。また、時間制運賃のみで運送することを想定しているため、タクシーメーターは設置されていないことが要件となります。また、単に設備が整っているだけではなく、富裕層向けサービスに応じた料金を収受する運送を常態的に行うことを想定した車両であることも要件となります。"]
[]
[]
[null,"（別紙様式第3②）　公共交通のデジタル化・システム化"]
[null,"③","業務のデジタル化・システム化（新規設備等導入）"]
[null,null,"・利用料や保守料などの維持費（ランニングコスト）、手数料又はこれらに類するものは対象外です。\n・キャッシュレス対応の設備機器・システムは観光予算で支援することとしておりますので、「（別紙様式第3③）　インバウンド対応設備機器関係」に記入してください。\n・〈バス・タクシー事業者向け「デジタル化の手引き」について〉も参照してください。　\n　https://www.mlit.go.jp/jidosha/jidosha_fr3_000038.html\n・国土交通省にて別に執行（執行事務は「日本自動車輸送技術協会」が担当）している「事故防止対策支援推進事業」の補助対象機器については補助対象外となります。なお、「事故防止対策支援推進事業」の補助対象機器については以下のURLから御確認ください。\n　https://www.mlit.go.jp/jidosha/anzen/subcontents/jikoboushi.html\n・法令で設置が義務づけられている機器（令和６年４月１日に施行される改正「旅客自動車運送事業運輸規則」により義務づけられるものも含む。）は補助対象外となります。"]
[null,null,"整理記号",null,"申請項目",null,null,null,null,null,null,null,"申請台数",null,null,"補助対象経費（税抜）",null,null,null,null,"要望額",null,null,null,null,"内示額",null,null,null,null,null,null,null,null,null,"別紙様式第1\n交付申請額\n（対象経費／３,４）",null,null,null,null,"別紙様式第2\n交付決定額",null,null,null,null,"別紙様式第3\n交付決定変更申請額\n（対象経費／３,４）",null,null,null,null,"別紙様式第4\n交付決定変更額",null,null,null,null,"別紙様式第6\n進捗状況額",null,null,null,null,"別紙様式第7\n完了実績額"]
[{"$f":"IF(C183>0,C183,A182&\"a\")","v":17},null,{"$f":"+C171+1","v":17},"□","配車アプリ",null,null,null,null,null,null,null,null,null,"式",null,null,null,null,"円",null,null,null,"千円",null,null,null,null,null,null,null,null,null,"千円",null,null,null,null,"千円",null,null,null,null,"千円",null,{"$f":"IF(AND(M183>0,P183>0),IF(D183=$AD$1,ROUNDDOWN(P183/3000,0),AO183),\"\")","v":""},null,null,"千円",null,null,null,null,"千円",null,null,null,null,"千円",null,null,null,null,"千円"]
[18,null,{"$f":"+C183+1","v":18},"□","乗務日報自動作成ソフト",null,null,null,null,null,null,null,null,null,"式",null,null,null,null,"円",null,null,null,"千円",null,null,null,null,null,null,null,null,null,"千円",null,null,null,null,"千円",null,null,null,null,"千円",null,{"$f":"IF(AND(M184>0,P184>0),IF(D184=$AD$1,ROUNDDOWN(P184/4000,0),AO184),\"\")","v":""},null,null,"千円",null,null,null,null,"千円",null,null,null,null,"千円",null,null,null,null,"千円"]
[19,null,{"$f":"+C184+1","v":19},"□","配車システム",null,null,null,null,null,null,null,null,null,"式",null,null,null,null,"円",null,null,null,"千円",null,null,null,null,null,null,null,null,null,"千円",null,null,null,null,"千円",null,null,null,null,"千円",null,{"$f":"IF(AND(M185>0,P185>0),IF(D185=$AD$1,ROUNDDOWN(P185/3000,0),AO185),\"\")","v":""},null,null,"千円",null,null,null,null,"千円",null,null,null,null,"千円",null,null,null,null,"千円"]
[20,null,{"$f":"+C185+1","v":20},"□","輸送実績報告書等帳票自動作成システム",null,null,null,null,null,null,null,null,null,"式",null,null,null,null,"円",null,null,null,"千円",null,null,null,null,null,null,null,null,null,"千円",null,null,null,null,"千円",null,null,null,null,"千円",null,{"$f":"IF(AND(M186>0,P186>0),IF(D186=$AD$1,ROUNDDOWN(P186/4000,0),AO186),\"\")","v":""},null,null,"千円",null,null,null,null,"千円",null,null,null,null,"千円",null,null,null,null,"千円"]
[21,null,{"$f":"C186+1","v":21},"□","その他",null,null,null,null,null,null,null,null,null,"式",null,null,null,null,"円",null,null,null,"千円",null,null,null,null,null,null,null,null,null,"千円",null,null,null,null,"千円",null,null,null,null,"千円",null,{"$f":"IF(AND(M187>0,P187>0),IF(D187=$AD$1,ROUNDDOWN(P187/4000,0),AO187),\"\")","v":""},null,null,"千円",null,null,null,null,"千円",null,null,null,null,"千円",null,null,null,null,"千円"]
["21a",null,null,null,"事業概要："]
[]
[]
[]
[]
[]
[]
[]
[]
[]
[]
[]
[]
[null,"（別紙様式第3③）　インバウンド対応設備機器関係"]
[null,"④","多言語化への取組み"]
[null,null,"整理記号",null,"申請項目",null,null,null,null,null,null,null,"申請台数",null,null,"補助対象経費（税抜）",null,null,null,null,"要望額",null,null,null,null,"内示額",null,null,null,null,null,null,null,null,null,"別紙様式第1\n交付申請額\n（対象経費／３）",null,null,null,null,"別紙様式第2\n交付決定額",null,null,null,null,"別紙様式第3\n交付決定変更申請額\n（対象経費／３）",null,null,null,null,"別紙様式第4\n交付決定変更額",null,null,null,null,"別紙様式第6\n進捗状況額",null,null,null,null,"別紙様式第7\n完了実績額"]
[{"$f":"IF(C204>0,C204,A203&\"a\")","v":22},null,{"$f":"+C187+1","v":22},"□","多言語案内用タブレット",null,null,null,null,null,null,null,null,null,"台",null,null,null,null,"円",null,null,null,"千円",null,null,null,null,null,null,null,null,null,"千円",null,null,null,null,"千円",null,null,null,null,"千円",null,{"$f":"IF(AND(M204>0,P204>0),IF(D204=$AD$1,ROUNDDOWN(P204/3000,0),AO204),\"\")","v":""},null,null,"千円",null,null,null,null,"千円",null,null,null,null,"千円",null,null,null,null,"千円"]
[23,null,{"$f":"+C204+1","v":23},"□","多言語翻訳システム機器",null,null,null,null,null,null,null,null,null,"台",null,null,null,null,"円",null,null,null,"千円",null,null,null,null,null,null,null,null,null,"千円",null,null,null,null,"千円",null,null,null,null,"千円",null,{"$f":"IF(AND(M205>0,P205>0),IF(D205=$AD$1,ROUNDDOWN(P205/3000,0),AO205),\"\")","v":""},null,null,"千円",null,null,null,null,"千円",null,null,null,null,"千円",null,null,null,null,"千円"]
[24,null,{"$f":"+C205+1","v":24},"□","ホームページの多言語表記",null,null,null,null,null,null,null,"ー",null,null,null,null,null,null,"円",null,null,null,"千円",null,null,null,null,null,null,null,null,null,"千円",null,null,null,null,"千円",null,null,null,null,"千円",null,{"$f":"IF(P206>0,IF(D206=$AD$1,ROUNDDOWN(P206/3000,0),AO206),\"\")","v":""},null,null,"千円",null,null,null,null,"千円",null,null,null,null,"千円",null,null,null,null,"千円"]
[25,null,{"$f":"+C206+1","v":25},"□","多言語研修の実施",null,null,null,null,null,null,null,null,null,"回",null,null,null,null,"円",null,null,null,"千円",null,null,null,null,null,null,null,null,null,"千円",null,null,null,null,"千円",null,null,null,null,"千円",null,{"$f":"IF(AND(M207>0,P207>0),IF(D207=$AD$1,ROUNDDOWN(P207/3000,0),AO207),\"\")","v":""},null,null,"千円",null,null,null,null,"千円",null,null,null,null,"千円",null,null,null,null,"千円"]
[26,null,{"$f":"C207+1","v":26},"□","その他",null,null,null,null,null,null,null,null,null,"式",null,null,null,null,"円",null,null,null,"千円",null,null,null,null,null,null,null,null,null,"千円",null,null,null,null,"千円",null,null,null,null,"千円",null,{"$f":"IF(AND(M208>0,P208>0),IF(D208=$AD$1,ROUNDDOWN(P208/3000,0),AO208),\"\")","v":""},null,null,"千円",null,null,null,null,"千円",null,null,null,null,"千円",null,null,null,null,"千円"]
["26a",null,null,null,"事業概要："]
[]
[]
[]
[null,"⑤","無料公衆無線ＬＡＮ機器の導入"]
[null,null,"整理記号",null,"申請項目",null,null,null,null,null,null,null,"申請台数",null,null,"補助対象経費（税抜）",null,null,null,null,"要望額",null,null,null,null,"内示額",null,null,null,null,null,null,null,null,null,"別紙様式第1\n交付申請額\n（対象経費／３）",null,null,null,null,"別紙様式第2\n交付決定額",null,null,null,null,"別紙様式第3\n交付決定変更申請額\n（対象経費／３）",null,null,null,null,"別紙様式第4\n交付決定変更額",null,null,null,null,"別紙様式第6\n進捗状況額",null,null,null,null,"別紙様式第7\n完了実績額"]
[{"$f":"IF(C215>0,C215,A214&\"a\")","v":27},null,{"$f":"+C208+1","v":27},"□"," 無料公衆無線ＬＡＮ　（無料Ｗｉ-Ｆｉ）",null,null,null,null,null,null,null,null,null,"台",null,null,null,null,"円",null,null,null,"千円",null,null,null,null,null,null,null,null,null,"千円",null,null,null,null,"千円",null,null,null,null,"千円",null,{"$f":"IF(AND(M215>0,P215>0),IF(D215=$AD$1,ROUNDDOWN(P215/3000,0),AO215),\"\")","v":""},null,null,"千円",null,null,null,null,"千円",null,null,null,null,"千円",null,null,null,null,"千円"]
[]
[null,"⑥","キャッシュレス車載機器の導入"]
[]
[null,null,"整理記号",null,"申請項目",null,null,null,"着手時期",null,null,null,"申請台数",null,null,"補助対象経費（税抜）",null,null,null,null,"要望額",null,null,null,null,"内示額",null,null,null,null,null,null,null,null,null,"別紙様式第1\n交付申請額\n（対象経費／３）",null,null,null,null,"別紙様式第2\n交付決定額",null,null,null,null,"別紙様式第3\n交付決定変更申請額\n（対象経費／３）",null,null,null,null,"別紙様式第4\n交付決定変更額",null,null,null,null,"別紙様式第6\n進捗状況額",null,null,null,null,"別紙様式第7\n完了実績額"]
[{"$f":"IF(C220>0,C220,A219&\"a\")","v":28},null,{"$f":"+C215+1","v":28},"□","クレジット決済機器",null,null,null,null,null,null,null,null,null,"台",null,null,null,null,"円",null,null,null,"千円",null,null,null,null,null,null,null,null,null,"千円",null,null,null,null,"千円",null,null,null,null,"千円",null,{"$f":"IF(AND(M220>0,P220>0),IF(D220=$AD$1,ROUNDDOWN(P220/3000,0),AO220),\"\")","v":""},null,null,"千円",null,null,null,null,"千円",null,null,null,null,"千円",null,null,null,null,"千円"]
[{"$f":"IF(C221>0,C221,A220&\"a\")","v":29},null,{"$f":"+C220+1","v":29},"□","交通系ＩＣ決済機器",null,null,null,null,null,null,null,null,null,"台",null,null,null,null,"円",null,null,null,"千円",null,null,null,null,null,null,null,null,null,"千円",null,null,null,null,"千円",null,null,null,null,"千円",null,{"$f":"IF(AND(M221>0,P221>0),IF(D221=$AD$1,ROUNDDOWN(P221/3000,0),AO221),\"\")","v":""},null,null,"千円",null,null,null,null,"千円",null,null,null,null,"千円",null,null,null,null,"千円"]
[{"$f":"IF(C222>0,C222,A221&\"a\")","v":30},null,{"$f":"+C221+1","v":30},"□","二次元コード決済機器",null,null,null,null,null,null,null,null,null,"台",null,null,null,null,"円",null,null,null,"千円",null,null,null,null,null,null,null,null,null,"千円",null,null,null,null,"千円",null,null,null,null,"千円",null,{"$f":"IF(AND(M222>0,P222>0),IF(D222=$AD$1,ROUNDDOWN(P222/3000,0),AO222),\"\")","v":""},null,null,"千円",null,null,null,null,"千円",null,null,null,null,"千円",null,null,null,null,"千円"]
[{"$f":"IF(C223>0,C223,A222&\"a\")","v":31},null,{"$f":"C222+1","v":31},"□","その他",null,null,null,null,null,null,null,null,null,"式",null,null,null,null,"円",null,null,null,"千円",null,null,null,null,null,null,null,null,null,"千円",null,null,null,null,"千円",null,null,null,null,"千円",null,{"$f":"IF(AND(M223>0,P223>0),IF(D223=$AD$1,ROUNDDOWN(P223/3000,0),AO223),\"\")","v":""},null,null,"千円",null,null,null,null,"千円",null,null,null,null,"千円",null,null,null,null,"千円"]
[{"$f":"IF(C224>0,C224,A223&\"a\")","v":"31a"},null,null,null,"事業概要："]
[]
[]
[null,"⑦","情報端末への電源供給機器、非常用電源装置の導入"]
[null,null,"整理記号",null,"申請項目",null,null,null,null,null,null,null,"申請台数",null,null,"補助対象経費（税抜）",null,null,null,null,"要望額",null,null,null,null,"内示額",null,null,null,null,null,null,null,null,null,"別紙様式第1\n交付申請額\n（対象経費／２）",null,null,null,null,"別紙様式第2\n交付決定額",null,null,null,null,"別紙様式第3\n交付決定変更申請額\n（対象経費／２）",null,null,null,null,"別紙様式第4\n交付決定変更額",null,null,null,null,"別紙様式第6\n進捗状況額",null,null,null,null,"別紙様式第7\n完了実績額"]
[{"$f":"IF(C229>0,C229,A228&\"a\")","v":32},null,{"$f":"+C223+1","v":32},"□","情報端末への電源供給機器",null,null,null,null,null,null,null,null,null,"台",null,null,null,null,"円",null,null,null,"千円",null,null,null,null,null,null,null,null,null,"千円",null,null,null,null,"千円",null,null,null,null,"千円",null,{"$f":"IF(AND(M229>0,P229>0),IF(D229=$AD$1,ROUNDDOWN(P229/2000,0),AO229),\"\")","v":""},null,null,"千円",null,null,null,null,"千円",null,null,null,null,"千円",null,null,null,null,"千円"]
[{"$f":"IF(C230>0,C230,A229&\"a\")","v":33},null,{"$f":"+C229+1","v":33},"□","非常用電源装置",null,null,null,null,null,null,null,null,null,"台",null,null,null,null,"円",null,null,null,"千円",null,null,null,null,null,null,null,null,null,"千円",null,null,null,null,"千円",null,null,null,null,"千円",null,{"$f":"IF(AND(M230>0,P230>0),IF(D230=$AD$1,ROUNDDOWN(P230/2000,0),AO230),\"\")","v":""},null,null,"千円",null,null,null,null,"千円",null,null,null,null,"千円",null,null,null,null,"千円"]
[{"$f":"IF(C231>0,C231,A230&\"a\")","v":34},null,{"$f":"+C230+1","v":34},"□","その他付随機器",null,null,null,null,null,null,null,null,null,"台",null,null,null,null,"円",null,null,null,"千円",null,null,null,null,null,null,null,null,null,"千円",null,null,null,null,"千円",null,null,null,null,"千円",null,"",null,null,"千円",null,null,null,null,"千円",null,null,null,null,"千円",null,null,null,null,"千円"]
[]
[]
[null,"（別紙様式第3④）　タクシー乗り場の移動円滑化関係"]
[null,"⑧","タクシー乗り場の移動円滑化、待合・乗継環境の向上、情報提供について"]
[null,null,"整理記号",null,"事業概要",null,null,null,null,null,null,null,null,null,null,"補助対象経費（税抜）",null,null,null,null,"要望額",null,null,null,null,"内示額",null,null,null,null,null,null,null,null,null,"別紙様式第1\n交付申請額\n（対象経費／３）",null,null,null,null,"別紙様式第2\n交付決定額",null,null,null,null,"別紙様式第3\n交付決定変更申請額\n（対象経費／３）",null,null,null,null,"別紙様式第4\n交付決定変更額",null,null,null,null,"別紙様式第6\n進捗状況額",null,null,null,null,"別紙様式第7\n完了実績額"]
[{"$f":"IF(C237>0,C237,A236&\"a\")","v":35},null,{"$f":"+C231+1","v":35},"□",null,null,null,null,null,null,null,null,null,null,null,null,null,null,null,"円",null,null,null,"千円",null,null,null,null,null,null,null,null,null,"千円",null,null,null,null,"千円",null,null,null,null,"千円",null,{"$f":"IF(P237>0,IF(D237=$AD$1,ROUNDDOWN(P237/3000,0),AO237),\"\")","v":""},null,null,"千円",null,null,null,null,"千円",null,null,null,null,"千円",null,null,null,null,"千円"]
[]
[]
[]
[]
[]
[]
[]
[]
[]
[]
[]
[null,"（別紙様式第3⑤）　人材確保・育成"]
[null,null,"人材確保・育成に係る申請調査の様式は全事業（乗合・貸切・乗用）共通のものとなっています。\nこのため、特定事業にのみ該当する記載（例「子育てタクシードライバー研修」）については、該当しない事業を営む場合は、御放念ください。"]
[null,"★","事業者情報"]
[null,null,"本資料提出時点における貴社の状況を記入してください。\n運転者数には正社員やフルタイムで労働する者の他、有期雇用、時短勤務、パートタイムの者も含みます。\n事業者団体やグループ会社等で複数社分まとめて申請される場合は、傘下会員の合計値（概数で結構です）を記載してください。"]
[null,null,"○運転者の数　（乗用事業に従事する人数のみ。乗合、貸切は含みません）",null,null,null,null,null,null,null,null,null,null,null,null,null,null,"（",null,null,"）人"]
[null,null,"○保有車両数　（乗用事業用車両のみ、乗合、貸切は含みません）",null,null,null,null,null,null,null,null,null,null,null,null,null,null,"（",null,null,"）両"]
[]
[null,"⑨","二種免許取得のための教習"]
[null,null,"整理記号",null,"申請項目",null,null,null,"１人あたり\n平均経費",null,null,null,"申請人数",null,null,"補助対象経費総額（税抜）",null,null,null,null,"要望額",null,null,null,null,"内示額",null,null,null,null,null,null,null,null,null,"別紙様式第1\n交付申請額",null,null,null,null,"別紙様式第2\n交付決定額",null,null,null,null,"別紙様式第3\n交付決定変更申請額",null,null,null,null,"別紙様式第4\n交付決定変更額",null,null,null,null,"別紙様式第6\n進捗状況額",null,null,null,null,"別紙様式第7\n完了実績額"]
[{"$f":"IF(C258>0,C258,A257&\"a\")","v":36},null,{"$f":"+C237+1","v":36},"□","二種免許取得のための教習",null,null,null,{"$f":"IF(AND(M258=\"\",P258=\"\"),\"ー\",IFERROR(ROUND(P258/M258,0),\"申請人数を入力してください\"))","v":"ー"},null,null,"円",null,null,"人",null,null,null,null,"円",null,null,null,"千円",null,null,null,null,null,null,null,null,null,"千円",null,null,null,null,"千円",null,null,null,null,"千円",null,{"$f":"IFERROR(IF(AND(M258>0,P258>0),IF(D258<>$AD$1,AO258,ROUNDDOWN(I258/3800*エラーチェック!$G$17*エラーチェック!$D$17,0)),\"\"),\"\")","v":""},null,null,"千円",null,null,null,null,"千円",null,null,null,null,"千円",null,null,null,null,"千円"]
[{"$f":"IF(C259>0,C259,A258&\"a\")","v":37},null,{"$f":"+C258+1","v":37},"□","二種免許取得のための受験資格特例教習",null,null,null,{"$f":"IF(AND(M259=\"\",P259=\"\"),\"ー\",IFERROR(ROUND(P259/M259,0),\"申請人数を入力してください\"))","v":"ー"},null,null,"円",null,null,"人",null,null,null,null,"円",null,null,null,"千円",null,null,null,null,null,null,null,null,null,"千円",null,null,null,null,"千円",null,null,null,null,"千円",null,{"$f":"IFERROR(IF(AND(M259>0,P259>0),IF(D259<>$AD$1,AO259,ROUNDDOWN(I259/3800*エラーチェック!$H$17*エラーチェック!$D$17,0)),\"\"),\"\")","v":""},null,null,"千円",null,null,null,null,"千円",null,null,null,null,"千円",null,null,null,null,"千円"]
[]
[null,null,"※1","「申請人数」は補助対象期間を通じて想定される人数を記載してください。ただし、「★事業者情報」に記載された情報をもとに交付決定額を算定します。なお、「★事業者情報」の記載内容の虚偽が発覚した際には交付決定額の減額を行う場合もありますので御了承ください。"]
[null,null,"※2","補助対象経費が確認できる書類（教習所のHPなどに掲載された料金案内、見積書など）を提出してください。"]
[null,null,"※3","「普通二種免許」所有者が新たに「大型二種免許」などを取得するための教習経費も対象となります。ただし、乗用の許可のみを持っている事業者が、既に普通二種免許を取得している従業員に大型二種免許を取得させる等の、業務に直接関係無い免許の取得費用は補助対象とはなりません」。"]
[null,null,"※4","運転免許センターで支払う手数料（試験手数料、交付手数料等）や自動車事故対策機構に支払う運転者適性診断の手数料は補助対象とはなりません。"]
[null,null,"※5","補助金を活用する人材を採用後３カ月以上継続して運転者として雇用することを条件とし、補助金交付後に条件を満たしていない事実が確認された場合には返還の対象となります。"]
[]
[null,"⑩","人材確保のための広報活動等"]
[null,null,"整理記号",null,"申請項目",null,null,null,null,null,null,null,null,null,null,"補助対象経費（税抜）",null,null,null,null,"要望額",null,null,null,null,"内示額",null,null,null,null,null,null,null,null,null,"別紙様式第1\n交付申請額",null,null,null,null,"別紙様式第2\n交付決定額",null,null,null,null,"別紙様式第3\n交付決定変更申請額",null,null,null,null,"別紙様式第4\n交付決定変更額",null,null,null,null,"別紙様式第6\n進捗状況額",null,null,null,null,"別紙様式第7\n完了実績額"]
[{"$f":"IF(C269>0,C269,A268&\"a\")","v":38},null,{"$f":"+C259+1","v":38},"□","人材確保イベントの参加・開催",null,null,null,null,null,null,null,null,null,null,null,null,null,null,"円",null,null,null,"千円",null,null,null,null,null,null,null,null,null,"千円",null,null,null,null,"千円",null,null,null,null,"千円",null,{"$f":"IFERROR(IF(AND(D269<>$AD$1,P269>0),AO269,IF(集計用!$B$7 <>0,IF(P269*45/200/1000=0,\"\",ROUNDDOWN(P269*45/200/1000,0)),IF((MIN(P269/2000,エラーチェック!J$17)*エラーチェック!$D$17)=0,\"\",MIN(ROUNDDOWN(MIN(P269/2000,エラーチェック!J$17)*エラーチェック!$D$17,0),ROUNDDOWN(P269/2000,0))))),\"\")","v":""},null,null,"千円",null,null,null,null,"千円",null,null,null,null,"千円",null,null,null,null,"千円"]
[]
[null,null,"事業の具体的内容を以下に記入してください。"]
[{"$f":"A269&\"a\"","v":"38a"}]
[]
[]
[]
[]
[]
[]
[]
[]
[]
[]
[]
[null,null,"整理記号",null,"申請項目",null,null,null,null,null,null,null,null,null,null,"補助対象経費（税抜）",null,null,null,null,"要望額",null,null,null,null,"内示額",null,null,null,null,null,null,null,null,null,"別紙様式第1\n交付申請額",null,null,null,null,"別紙様式第2\n交付決定額",null,null,null,null,"別紙様式第3\n交付決定変更申請額",null,null,null,null,"別紙様式第4\n交付決定変更額",null,null,null,null,"別紙様式第6\n進捗状況額",null,null,null,null,"別紙様式第7\n完了実績額"]
[{"$f":"IF(C285>0,C285,#REF!&\"a\")","v":39},null,{"$f":"+C269+1","v":39},"□","人材確保のためのPR",null,null,null,null,null,null,null,null,null,null,null,null,null,null,"円",null,null,null,"千円",null,null,null,null,null,null,null,null,null,"千円",null,null,null,null,"千円",null,null,null,null,"千円",null,{"$f":"IFERROR(IF(AND(D285<>$AD$1,P285>0),AO285,IF(集計用!$B$7 <>0,IF(P285*45/200/1000=0,\"\",ROUNDDOWN(P285*45/200/1000,0)),IF((MIN(P285/2000,エラーチェック!K$17)*エラーチェック!$D$17)=0,\"\",MIN(ROUNDDOWN(MIN(P285/2000,エラーチェック!K$17)*エラーチェック!$D$17,0),ROUNDDOWN(P285/2000,0))))),\"\")","v":""},null,null,"千円",null,null,null,null,"千円",null,null,null,null,"千円",null,null,null,null,"千円"]
[]
[null,null,"事業の具体的内容を以下に記入してください。"]
[{"$f":"A285&\"a\"","v":"39a"}]
[]
[null,null,"※1","広報活動に係る補助対象経費は補助対象期間を通じて想定される全額を記載してください。ただし、「★事業者情報」に記載された情報をもとに交付決定額を算定します。なお、「★事業者情報」の記載内容の虚偽が発覚した際には交付決定額の減額を行う場合もありますので御了承ください。"]
[null,null,"※2",{"$f":"\"T-\"&C269&E269&\"については、人材確保のためのイベントの会場借上、外部委託経費、出展料、これらに相当する費用もしくはこれらに類する費用が対象となります。\"","v":"T-38人材確保イベントの参加・開催については、人材確保のためのイベントの会場借上、外部委託経費、出展料、これらに相当する費用もしくはこれらに類する費用が対象となります。"}]
[null,null,"※3",{"$f":"\"T-\"&C285&E285&\"については、人材を確保するために事業者等が行う自社又は業界をPRするためのHP作成・改修費用、PR資料の作成費用、外部の求人サイトへの掲載料、その他広告等が対象となります。人材派遣会社への紹介料は対象となりません\"","v":"T-39人材確保のためのPRについては、人材を確保するために事業者等が行う自社又は業界をPRするためのHP作成・改修費用、PR資料の作成費用、外部の求人サイトへの掲載料、その他広告等が対象となります。人材派遣会社への紹介料は対象となりません"}]
[null,null,"※4","事業内容及び価格が分かる資料（見積書など）を添付してください。無いものについては交付決定できない場合があります。"]
[]
[]
[]
[]
[]
[]
[]
[]
[]
[]
[]
[null,"⑪","研修等"]
[null,null,"(1)外部団体等による研修への参加"]
[null,null,"整理記号",null,"申請項目",null,null,null,"１人あたり\n平均経費",null,null,null,"申請人数",null,null,"補助対象経費総額（税抜）",null,null,null,null,"要望額",null,null,null,null,"内示額",null,null,null,null,null,null,null,null,null,"別紙様式第1\n交付申請額",null,null,null,null,"別紙様式第2\n交付決定額",null,null,null,null,"別紙様式第3\n交付決定変更申請額",null,null,null,null,"別紙様式第4\n交付決定変更額",null,null,null,null,"別紙様式第6\n進捗状況額",null,null,null,null,"別紙様式第7\n完了実績額"]
[{"$f":"IF(C308>0,C308,A307&\"a\")","v":40},null,{"$f":"+C285+1","v":40},"□","UD研修",null,null,null,{"$f":"IF(AND(M308=\"\",P308=\"\"),\"ー\",IFERROR(ROUND(P308/M308,0),\"申請人数を入力してください\"))","v":"ー"},null,null,"円",null,null,"人",null,null,null,null,"円",null,null,null,"千円",null,null,null,null,null,null,null,null,null,"千円",null,null,null,null,"千円",null,null,null,null,"千円",null,{"$f":"IFERROR(IF(AND(P308>0,M308>0),IF(D308<>$AD$1,AO308,IF(IF(集計用!$B$7 <>0,IF(P308*45/200/1000=0,\"\",ROUNDDOWN(P308*45/200/1000,0)),IF((MIN(P308/2000,エラーチェック!L$17)*エラーチェック!$D$17)=0,\"\",MIN(ROUNDDOWN(MIN(P308/2000,エラーチェック!L$17)*エラーチェック!$D$17,0),ROUNDDOWN(P308/2000,0))))<1,1,IF(集計用!$B$7 <>0,IF(P308*45/200/1000=0,\"\",ROUNDDOWN(P308*45/200/1000,0)),IF((MIN(P308/2000,エラーチェック!L$17)*エラーチェック!$D$17)=0,\"\",MIN(ROUNDDOWN(MIN(P308/2000,エラーチェック!L$17)*エラーチェック!$D$17,0),ROUNDDOWN(P308/2000,0)))))),\"\"),\"\")","v":""},null,null,"千円",null,null,null,null,"千円",null,null,null,null,"千円",null,null,null,null,"千円"]
[{"$f":"IF(C309>0,C309,A308&\"a\")","v":41},null,{"$f":"+C308+1","v":41},"□","観光ドライバー認定講習",null,null,null,{"$f":"IF(AND(M309=\"\",P309=\"\"),\"ー\",IFERROR(ROUND(P309/M309,0),\"申請人数を入力してください\"))","v":"ー"},null,null,"円",null,null,"人",null,null,null,null,"円",null,null,null,"千円",null,null,null,null,null,null,null,null,null,"千円",null,null,null,null,"千円",null,null,null,null,"千円",null,{"$f":"IFERROR(IF(AND(P309>0,M309>0),IF(D309<>$AD$1,AO309,IF(IF(集計用!$B$7 <>0,IF(P309*45/200/1000=0,\"\",ROUNDDOWN(P309*45/200/1000,0)),IF((MIN(P309/2000,エラーチェック!M$17)*エラーチェック!$D$17)=0,\"\",MIN(ROUNDDOWN(MIN(P309/2000,エラーチェック!M$17)*エラーチェック!$D$17,0),ROUNDDOWN(P309/2000,0))))<1,1,IF(集計用!$B$7 <>0,IF(P309*45/200/1000=0,\"\",ROUNDDOWN(P309*45/200/1000,0)),IF((MIN(P309/2000,エラーチェック!M$17)*エラーチェック!$D$17)=0,\"\",MIN(ROUNDDOWN(MIN(P309/2000,エラーチェック!M$17)*エラーチェック!$D$17,0),ROUNDDOWN(P309/2000,0)))))),\"\"),\"\")","v":""},null,null,"千円",null,null,null,null,"千円",null,null,null,null,"千円",null,null,null,null,"千円"]
[{"$f":"IF(C310>0,C310,A309&\"a\")","v":42},null,{"$f":"+C309+1","v":42},"□","子育てタクシードライバー研修",null,null,null,{"$f":"IF(AND(M310=\"\",P310=\"\"),\"ー\",IFERROR(ROUND(P310/M310,0),\"申請人数を入力してください\"))","v":"ー"},null,null,"円",null,null,"人",null,null,null,null,"円",null,null,null,"千円",null,null,null,null,null,null,null,null,null,"千円",null,null,null,null,"千円",null,null,null,null,"千円",null,{"$f":"IFERROR(IF(AND(M310>0,P310>0),IF(D310<>$AD$1,AO310,IF(集計用!$B$7 <>0,IF(P310*45/200/1000=0,\"\",ROUNDDOWN(P310*45/200/1000,0)),IF((MIN(P310/2000,エラーチェック!N$17)*エラーチェック!$D$17)=0,\"\",MIN(ROUNDDOWN(MIN(P310/2000,エラーチェック!N$17)*エラーチェック!$D$17,0),ROUNDDOWN(P310/2000,0))))),\"\"),\"\")","v":""},null,null,"千円",null,null,null,null,"千円",null,null,null,null,"千円",null,null,null,null,"千円"]
[{"$f":"IF(C311>0,C311,A310&\"a\")","v":43},null,{"$f":"+C310+1","v":43},"□","運転手実技講習",null,null,null,{"$f":"IF(AND(M311=\"\",P311=\"\"),\"ー\",IFERROR(ROUND(P311/M311,0),\"申請人数を入力してください\"))","v":"ー"},null,null,"円",null,null,"人",null,null,null,null,"円",null,null,null,"千円",null,null,null,null,null,null,null,null,null,"千円",null,null,null,null,"千円",null,null,null,null,"千円",null,{"$f":"IFERROR(IF(AND(M311>0,P311>0),IF(D311<>$AD$1,AO311,IF(集計用!$B$7 <>0,IF(P311*45/200/1000=0,\"\",ROUNDDOWN(P311*45/200/1000,0)),IF((MIN(P311/2000,エラーチェック!O$17)*エラーチェック!$D$17)=0,\"\",MIN(ROUNDDOWN(MIN(P311/2000,エラーチェック!O$17)*エラーチェック!$D$17,0),ROUNDDOWN(P311/2000,0))))),\"\"),\"\")","v":""},null,null,"千円",null,null,null,null,"千円",null,null,null,null,"千円",null,null,null,null,"千円"]
[]
[null,null,"上記以外については、事業概要とともに以下に記載してください。"]
[null,null,"整理記号",null,"申請項目",null,null,null,"１人あたり\n平均経費",null,null,null,"申請人数",null,null,"補助対象経費総額（税抜）",null,null,null,null,"要望額",null,null,null,null,"内示額",null,null,null,null,null,null,null,null,null,"別紙様式第1\n交付申請額",null,null,null,null,"別紙様式第2\n交付決定額",null,null,null,null,"別紙様式第3\n交付決定変更申請額",null,null,null,null,"別紙様式第4\n交付決定変更額",null,null,null,null,"別紙様式第6\n進捗状況額",null,null,null,null,"別紙様式第7\n完了実績額"]
[{"$f":"IF(C315>0,C315,A314&\"a\")","v":44},null,{"$f":"+C311+1","v":44},"□",null,null,null,null,{"$f":"IF(AND(M315=\"\",P315=\"\"),\"ー\",IFERROR(ROUND(P315/M315,0),\"申請人数を入力してください\"))","v":"ー"},null,null,"円",null,null,"人",null,null,null,null,"円",null,null,null,"千円",null,null,null,null,null,null,null,null,null,"千円",null,null,null,null,"千円",null,null,null,null,"千円",null,{"$f":"IFERROR(IF(AND(M315>0,P315>0),IF(D315<>$AD$1,AO315,IF(集計用!$B$7 <>0,IF(P315*45/200/1000=0,\"\",ROUNDDOWN(P315*45/200/1000,0)),IF((MIN(P315/2000,エラーチェック!P$17)*エラーチェック!$D$17)=0,\"\",MIN(ROUNDDOWN(MIN(P315/2000,エラーチェック!P$17)*エラーチェック!$D$17,0),ROUNDDOWN(P315/2000,0))))),\"\"),\"\")","v":""},null,null,"千円",null,null,null,null,"千円",null,null,null,null,"千円",null,null,null,null,"千円"]
[null,null,"事業の具体的内容を以下に記入してください。"]
[{"$f":"A315&\"a\"","v":"44a"}]
[]
[null,null,"※1","「申請人数」は補助対象期間を通じて想定される人数を記載してください。ただし、「★事業者情報」に記載された情報をもとに交付決定額を算定します。なお、「★事業者情報」の記載内容の虚偽が発覚した際には交付決定額の減額を行う場合もありますので御了承ください。"]
[null,null,"※2","法令により受講が求められている研修・講習（運行管理者講習、タクシー業務適正化特別措置法に基づく法定研修等）は本調査及び支援の対象外です。"]
[null,null,"※3","業界団体や自治体などの外部団体による研修等については、その研修参加費（受講料等）が対象です。研修内容の詳細のわかるものを添付してください。"]
[null,null,"※4","各研修については、研修内容及び価格が分かる資料（受講案内、見積書など）を添付してください。無いものについては交付決定できない場合があります。"]
[null,null,"※5",{"$f":"\"T-\"&C315&\"に記載する事項が複数ある場合には、研修等の具体的内容を記載する欄に、それぞれの研修の内容がわかるように記載してください。補助対象経費、交付申請額については合計値を記載してください。\"","v":"T-44に記載する事項が複数ある場合には、研修等の具体的内容を記載する欄に、それぞれの研修の内容がわかるように記載してください。補助対象経費、交付申請額については合計値を記載してください。"}]
[]
[null,null,"(2)自社で実施する研修等の開催"]
[null,null,"整理記号",null,"申請項目",null,null,null,null,null,null,null,null,null,null,"補助対象経費（税抜）",null,null,null,null,"要望額",null,null,null,null,"内示額",null,null,null,null,null,null,null,null,null,"別紙様式第1\n交付申請額",null,null,null,null,"別紙様式第2\n交付決定額",null,null,null,null,"別紙様式第3\n交付決定変更申請額",null,null,null,null,"別紙様式第4\n交付決定変更額",null,null,null,null,"別紙様式第6\n進捗状況額",null,null,null,null,"別紙様式第7\n完了実績額"]
[{"$f":"IF(C327>0,C327,A326&\"a\")","v":45},null,{"$f":"+C315+1","v":45},"□",null,null,null,null,null,null,null,null,null,null,null,null,null,null,null,"円",null,null,null,"千円",null,null,null,null,null,null,null,null,null,"千円",null,null,null,null,"千円",null,null,null,null,"千円",null,{"$f":"IFERROR(IF(P327>0,IF(D327<>$AD$1,AO327,IF(集計用!$B$7 <>0,IF(P327*45/200/1000=0,\"\",ROUNDDOWN(P327*45/200/1000,0)),IF((MIN(P327/2000,エラーチェック!Q$17)*エラーチェック!$D$17)=0,\"\",MIN(ROUNDDOWN(MIN(P327/2000,エラーチェック!Q$17)*エラーチェック!$D$17,0),ROUNDDOWN(P327/2000,0))))),\"\"),\"\")","v":""},null,null,"千円",null,null,null,null,"千円",null,null,null,null,"千円",null,null,null,null,"千円"]
[null,null,"事業の具体的内容を以下に記入してください。"]
[{"$f":"A327&\"a\"","v":"45a"}]
[]
[null,null,"※1","補助対象経費は補助対象期間を通じて想定される全額を記載してください。ただし、「★事業者情報」に記載された情報をもとに交付決定額を算定します。なお、「★事業者情報」の記載内容の虚偽が発覚した際には交付決定額の減額を行う場合もありますので御了承ください。"]
[null,null,"※2","法令により受講が求められている研修・講習（運行管理者講習、タクシー業務適正化特別措置法に基づく法定研修等）は本調査及び支援の対象外です。"]
[null,null,"※3","各研修については、研修内容及び価格が分かる資料（受講案内、見積書など）を添付してください。無いものについては交付決定できない場合があります。"]
[null,null,"※4",{"$f":"\"T-\"&C327&\"に記載する事項が複数ある場合には、研修等の具体的内容を記載する欄に、それぞれの研修の内容がわかるように記載してください。補助対象経費、交付申請額については合計値を記載してください。\"","v":"T-45に記載する事項が複数ある場合には、研修等の具体的内容を記載する欄に、それぞれの研修の内容がわかるように記載してください。補助対象経費、交付申請額については合計値を記載してください。"}]

{"sheet":"集計用","index":2,"n_rows":8,"n_cols":422,"rows_kept":8,"cut":false,"hidden":true,"merged":[[4,389,4,399],[4,301,4,311],[4,312,4,321],[4,322,4,331],[4,332,4,342],[4,343,4,353],[4,354,4,364],[4,260,4,269],[4,270,4,279],[4,20,4,22],[4,365,4,375],[4,376,4,388],[4,290,4,300],[4,174,4,183],[4,184,4,194],[4,195,4,204],[4,205,4,215],[4,216,4,226],[4,280,4,289],[4,164,4,173],[4,53,4,62],[4,63,4,72],[4,73,4,82],[4,83,4,92],[4,93,4,102],[4,103,4,112],[4,113,4,122],[4,123,4,132],[4,250,4,259],[4,133,4,141],[4,144,4,153],[4,154,4,163],[4,227,4,237],[4,238,4,249]]}
[1,2,3,4,5,6,7,8,9,10,11,12,13,14,15,16,17,18,19,20,21,22,23,24,25,26,27,28,29,30,31,32,33,34,35,36,37,38,39,40,41,42,43,44,45,46,47,48,49,50,51,52,53,54,55,56,57,58,59,60,61,62,63,64,65,66,67,68,69,70,71,72,73,74,75,76,77,78,79,80,81,82,83,84,85,86,87,88,89,90,91,92,93,94,95,96,97,98,99,100,101,102,103,104,105,106,107,108,109,110,111,112,113,114,115,116,117,118,119,120,121,122,123,124,125,126,127,128,129,130,131,132,133,134,135,136,137,138,139,140,141,142,143,144,145,146,147,148,149,150,151,152,153,154,155,156,157,158,159,160,161,162,163,164,165,166,167,168,169,170,171,172,173,174,175,176,177,178,179,180,181,182,183,184,185,186,187,188,189,190,191,192,193,194,195,196,197,198,199,200,201,202,203,204,205,206,207,208,209,210,211,212,213,214,215,216,217,218,219,220,221,222,223,224,225,226,227,228,229,230,231,232,233,234,235,236,237,238,239,240,241,242,243,244,245,246,247,248,249,250,251,252,253,254,255,256,257,258,259,260,261,262,263,264,265,266,267,268,269,270,271,272,273,274,275,276,277,278,279,280,281,282,283,284,285,286,287,288,289,290,291,292,293,294,295,296,297,298,299,300,301,302,303,304,305,306,307,308,309,310,311,312,313,314,315,316,317,318,319,320,321,322,323,324,325,326,327,328,329,330,331,332,333,334,335,336,337,338,339,340,341,342,343,344,345,346,347,348,349,350,351,352,353,354,355,356,357,358,359,360,361,362,363,364,365,366,367,368,369,370,371,372,373,374,375,376,377,378,379,380,381,382,383,384,385,386,387,388,389,390,391,392,393,394,395,396,397,398,399,400]
[null,null,null,null,null,null,null,null,null,null,null,null,null,null,null,null,null,null,null,null,null,null,null,null,null,null,null,null,null,null,null,null,null,null,null,null,null,null,null,null,null,null,null,null,null,null,null,null,null,null,null,null,null,13,16,21,26,36,41,46,51,56,61,13,16,21,26,36,41,46,51,56,61,13,16,21,26,36,41,46,51,56,61,13,16,21,26,36,41,46,51,56,61,13,16,21,26,36,41,46,51,56,61,13,16,21,26,36,41,46,51,56,61,13,16,21,26,36,41,46,51,56,61,13,16,21,26,36,41,46,51,56,61,13,16,21,26,36,41,46,51,56,61,5,13,16,21,26,36,41,46,51,56,61,13,16,21,26,36,41,46,51,56,61,13,16,21,26,36,41,46,51,56,61,13,16,21,26,36,41,46,51,56,61,13,16,21,26,36,41,46,51,56,61,5,13,16,21,26,36,41,46,51,56,61,9,13,16,21,26,36,41,46,51,56,61,9,13,16,21,26,36,41,46,51,56,61,9,13,16,21,26,36,41,46,51,56,61,9,13,16,21,26,36,41,46,51,56,61,5,13,16,21,26,36,41,46,51,56,61,13,16,21,26,36,41,46,51,56,61,13,16,21,26,36,41,46,51,56,61,5,16,21,26,36,41,46,51,56,61,9,13,16,21,26,36,41,46,51,56,61,9,13,16,21,26,36,41,46,51,56,61,16,21,26,36,41,46,51,56,61,3,16,21,26,36,41,46,51,56,61,3,9,13,16,21,26,36,41,46,51,56,61,9,13,16,21,26,36,41,46,51,56,61,9,13,16,21,26,36,41,46,51,56,61,9,13,16,21,26,36,41,46,51,56,61,5,9,13,16,21,26,36,41,46,51,56,61,3,5,16,21,26,36,41,46,51,56,61,3]
[null,null,null,null,null,null,null,null,null,null,null,null,null,null,null,null,null,null,null,null,null,null,null,0,99,null,1,3,null,2,4,null,-1,5,null,-2,6,null,-3,7,null,-4,8,null,-5,9,null,-6,10,null,null,null,null,null,99,3,4,5,6,7,8,9,10,null,99,3,4,5,6,7,8,9,10,null,99,3,4,5,6,7,8,9,10,null,99,3,4,5,6,7,8,9,10,null,99,3,4,5,6,7,8,9,10,null,0,1,2,-1,-2,-3,-4,-5,-6,null,99,3,4,5,6,7,8,9,10,null,0,1,2,-1,-2,-3,-4,-5,-6,null,0,1,2,-1,-2,-3,-4,-5,-6,null,null,99,3,4,5,6,7,8,9,10,null,99,3,4,5,6,7,8,9,10,null,99,3,4,5,6,7,8,9,10,null,99,3,4,5,6,7,8,9,10,null,99,3,4,5,6,7,8,9,10,null,null,99,3,4,5,6,7,8,9,10,null,null,99,3,4,5,6,7,8,9,10,null,null,99,3,4,5,6,7,8,9,10,null,null,99,3,4,5,6,7,8,9,10,null,null,99,3,4,5,6,7,8,9,10,null,null,99,3,4,5,6,7,8,9,10,null,99,3,4,5,6,7,8,9,10,null,99,3,4,5,6,7,8,9,10,null,99,3,4,5,6,7,8,9,10,null,null,0,1,2,-1,-2,-3,-4,-5,-6,null,null,0,1,2,-1,-2,-3,-4,-5,-6,0,1,2,-1,-2,-3,-4,-5,-6,null,0,1,2,-1,-2,-3,-4,-5,-6,null,null,null,0,1,2,-1,-2,-3,-4,-5,-6,null,null,0,1,2,-1,-2,-3,-4,-5,-6,null,null,0,1,2,-1,-2,-3,-4,-5,-6,null,null,0,1,2,-1,-2,-3,-4,-5,-6,null,null,null,0,1,2,-1,-2,-3,-4,-5,-6,null,null,0,1,2,-1,-2,-3,-4,-5,-6,null,null,"A",0,1,2,-1,-2,-3,-4,-5,-6,"B",99,3,4,5,6,7,8,9,10,"合計"]
[null,null,null,null,null,null,null,null,null,null,null,null,null,null,null,null,null,null,null,null,null,null,null,null,null,null,null,null,null,null,null,null,null,null,null,null,null,null,null,null,null,null,null,null,null,null,null,null,null,null,null,null,null,13,13,{"$f":"BC4","v":13},{"$f":"BD4","v":13},"13a","13a","13a","13a","13a","13a",{"$f":"BB4+1","v":14},{"$f":"BC4+1","v":14},{"$f":"BM4","v":14},{"$f":"BN4","v":14},"14a","14a","14a","14a","14a","14a",15,15,{"$f":"BW4","v":15},{"$f":"BX4","v":15},"15a","15a","15a","15a","15a","15a",16,16,{"$f":"CG4","v":16},{"$f":"CH4","v":16},"16a","16a","16a","16a","16a","16a",17,17,{"$f":"CQ4","v":17},{"$f":"CR4","v":17},17,17,17,17,17,17,18,18,18,18,{"$f":"DA4","v":18},{"$f":"DD4","v":18},18,18,18,18,19,19,{"$f":"DK4","v":19},{"$f":"DL4","v":19},19,19,19,19,19,19,20,20,{"$f":"DU4","v":20},20,20,20,20,20,20,20,{"$f":"DT4+1","v":21},21,{"$f":"EE4","v":21},{"$f":"EF4","v":21},21,21,21,21,21,21,"21a",{"$f":"ED4+1","v":22},{"$f":"EO4","v":22},{"$f":"EP4","v":22},{"$f":"EQ4","v":22},{"$f":"EP4","v":22},22,22,22,22,22,{"$f":"EO4+1","v":23},{"$f":"EY4","v":23},{"$f":"EZ4","v":23},{"$f":"FA4","v":23},{"$f":"EZ4","v":23},23,23,23,23,23,{"$f":"EY4+1","v":24},{"$f":"FI4","v":24},{"$f":"FJ4","v":24},{"$f":"FK4","v":24},{"$f":"FL4","v":24},{"$f":"FM4","v":24},24,24,24,24,{"$f":"FI4+1","v":25},{"$f":"FS4","v":25},{"$f":"FT4","v":25},{"$f":"FU4","v":25},{"$f":"FT4","v":25},25,25,25,25,25,{"$f":"FS4+1","v":26},{"$f":"GC4","v":26},{"$f":"GD4","v":26},{"$f":"GE4","v":26},{"$f":"GD4","v":26},26,26,26,26,26,{"$f":"GG4&\"a\"","v":"26a"},{"$f":"GD4+1","v":27},{"$f":"GN4","v":27},{"$f":"GO4","v":27},{"$f":"GP4","v":27},{"$f":"GO4","v":27},27,27,27,27,27,{"$f":"GN4+1","v":28},{"$f":"GX4","v":28},{"$f":"GY4","v":28},28,28,28,28,28,28,28,28,{"$f":"GX4+1","v":29},{"$f":"HI4","v":29},29,29,29,29,29,29,29,29,29,{"$f":"HI4+1","v":30},{"$f":"HT4","v":30},30,30,30,30,30,30,30,30,30,{"$f":"HT4+1","v":31},{"$f":"IE4","v":31},{"$f":"IF4","v":31},{"$f":"IG4","v":31},31,31,31,31,31,{"$f":"IM4","v":31},31,{"$f":"IJ4&\"a\"","v":"31a"},{"$f":"IE4+1","v":32},{"$f":"IQ4","v":32},{"$f":"IR4","v":32},{"$f":"IS4","v":32},{"$f":"IR4","v":32},32,32,32,32,32,{"$f":"IQ4+1","v":33},{"$f":"JA4","v":33},33,33,{"$f":"JD4","v":33},{"$f":"JE4","v":33},{"$f":"JF4","v":33},{"$f":"JG4","v":33},33,33,{"$f":"JA4+1","v":34},{"$f":"JB4+1","v":34},{"$f":"JL4","v":34},{"$f":"JM4","v":34},{"$f":"JE4+1","v":34},34,34,34,34,34,35,35,{"$f":"JV4","v":35},{"$f":"JW4","v":35},{"$f":"JO4+1","v":35},35,35,35,35,35,36,{"$f":"KE4","v":36},36,36,36,36,36,36,36,36,36,{"$f":"KE4+1","v":37},{"$f":"KF4+1","v":37},{"$f":"KG4+1","v":37},{"$f":"KR4","v":37},{"$f":"KS4","v":37},{"$f":"KJ4+1","v":37},37,37,37,37,37,38,{"$f":"LA4","v":38},{"$f":"LB4","v":38},{"$f":"KQ4+1","v":38},{"$f":"KU4+1","v":38},{"$f":"KV4+1","v":38},{"$f":"KW4+1","v":38},{"$f":"KX4+1","v":38},{"$f":"KY4+1","v":38},{"$f":"LD4&\"a\"","v":"38a"},{"$f":"LA4+1","v":39},{"$f":"LK4","v":39},{"$f":"LL4","v":39},{"$f":"LD4+1","v":39},39,39,39,39,39,{"$f":"LN4&\"a\"","v":"39a"},{"$f":"LK4+1","v":40},{"$f":"LU4","v":40},{"$f":"LV4","v":40},{"$f":"LW4","v":40},{"$f":"LX4","v":40},{"$f":"LY4","v":40},{"$f":"LZ4","v":40},{"$f":"MA4","v":40},40,40,40,{"$f":"LU4+1","v":41},{"$f":"MF4","v":41},41,41,41,41,41,41,41,41,41,{"$f":"MF4+1","v":42},{"$f":"MQ4","v":42},42,{"$f":"MS4","v":42},{"$f":"MT4","v":42},{"$f":"MU4","v":42},{"$f":"MV4","v":42},{"$f":"MW4","v":42},42,42,42,{"$f":"MQ4+1","v":43},{"$f":"NB4","v":43},43,43,43,43,43,43,43,43,43,{"$f":"NB4+1","v":44},{"$f":"NC4+1","v":44},{"$f":"NM4","v":44},{"$f":"NN4","v":44},{"$f":"NP4","v":44},{"$f":"NQ4","v":44},{"$f":"NO4","v":44},{"$f":"NP4","v":44},44,44,44,44,{"$f":"NS4&\"a\"","v":"44a"},{"$f":"NO4+1","v":45},{"$f":"NM4+1","v":45},{"$f":"OA4","v":45},45,45,45,45,45,45,45,{"$f":"OD4&\"a\"","v":"45a"},null,{"$f":"OM4","v":13},{"$f":"COUNTIF($BC$3:$OJ$3,OM3)","v":13},13,13,13,13,13,13,13,13,{"$f":"OW4","v":20},{"$f":"COUNTIF($BC$3:$OJ$3,OW3)","v":20},20,20,20,20,20,20,20,20,{"$f":"COUNTA(BB5:OJ5)","v":33}]
[null,null,null,null,null,null,null,null,null,null,null,null,null,null,null,null,null,null,null,null,"各種認証・認定の取得状況",null,null,null,null,null,null,null,null,null,null,null,null,null,null,null,null,null,null,null,null,null,null,null,null,null,null,null,null,null,null,null,null,{"$f":"タクシー!E165","v":" ＵＤタクシー（レベル1又は2）の導入"},null,null,null,null,null,null,null,null,null,{"$f":"タクシー!E167","v":" ＵＤタクシー（レベル準1）の導入"},null,null,null,null,null,null,null,null,null,{"$f":"VLOOKUP(BV4,タクシー!$C:$Z,3,0)","v":"ジャンボタクシーの導入"},null,null,null,null,null,null,null,null,null,{"$f":"VLOOKUP(CF4,タクシー!$C:$Z,3,0)","v":"訪日外国人旅行者の富裕層向けタクシーの導入\n（訪日外国人富裕層の送迎用として通常より広い車内空間の確保や車内空間をVIP仕様にする等の車両）"},null,null,null,null,null,null,null,null,null,{"$f":"VLOOKUP(CP4,タクシー!$C:$Z,3,0)","v":"配車アプリ"},null,null,null,null,null,null,null,null,null,{"$f":"VLOOKUP(CZ4,タクシー!$C:$Z,3,0)","v":"乗務日報自動作成ソフト"},null,null,null,null,null,null,null,null,null,{"$f":"VLOOKUP(DJ4,タクシー!$C:$Z,3,0)","v":"配車システム"},null,null,null,null,null,null,null,null,null,{"$f":"VLOOKUP(DT4,タクシー!$C:$Z,3,0)","v":"輸送実績報告書等帳票自動作成システム"},null,null,null,null,null,null,null,null,null,{"$f":"VLOOKUP(ED4,タクシー!$C:$Z,3,0)","v":"その他"},null,null,null,null,null,null,null,null,null,null,{"$f":"VLOOKUP(EO4,タクシー!$C:$Z,3,0)","v":"多言語案内用タブレット"},null,null,null,null,null,null,null,null,null,{"$f":"VLOOKUP(EY4,タクシー!$C:$Z,3,0)","v":"多言語翻訳システム機器"},null,null,null,null,null,null,null,null,null,{"$f":"VLOOKUP(FI4,タクシー!$C:$Z,3,0)","v":"ホームページの多言語表記"},null,null,null,null,null,null,null,null,null,{"$f":"VLOOKUP(FS4,タクシー!$C:$Z,3,0)","v":"多言語研修の実施"},null,null,null,null,null,null,null,null,null,{"$f":"VLOOKUP(GC4,タクシー!$C:$Z,3,0)","v":"その他"},null,null,null,null,null,null,null,null,null,null,{"$f":"VLOOKUP(GN4,タクシー!$C:$Z,3,0)","v":" 無料公衆無線ＬＡＮ　（無料Ｗｉ-Ｆｉ）"},null,null,null,null,null,null,null,null,null,{"$f":"VLOOKUP(GX4,タクシー!$C:$Z,3,0)","v":"クレジット決済機器"},null,null,null,null,null,null,null,null,null,null,{"$f":"VLOOKUP(HI4,タクシー!$C:$Z,3,0)","v":"交通系ＩＣ決済機器"},null,null,null,null,null,null,null,null,null,null,{"$f":"VLOOKUP(HT4,タクシー!$C:$Z,3,0)","v":"二次元コード決済機器"},null,null,null,null,null,null,null,null,null,null,{"$f":"VLOOKUP(IE4,タクシー!$C:$Z,3,0)","v":"その他"},null,null,null,null,null,null,null,null,null,null,null,{"$f":"VLOOKUP(IQ4,タクシー!$C:$Z,3,0)","v":"情報端末への電源供給機器"},null,null,null,null,null,null,null,null,null,{"$f":"VLOOKUP(JA4,タクシー!$C:$Z,3,0)","v":"非常用電源装置"},null,null,null,null,null,null,null,null,null,{"$f":"VLOOKUP(JK4,タクシー!$C:$Z,3,0)","v":"その他付随機器"},null,null,null,null,null,null,null,null,null,"移動円滑化",null,null,null,null,null,null,null,null,null,{"$f":"VLOOKUP(KE4,タクシー!$C:$Z,3,0)","v":"二種免許取得のための教習"},null,null,null,null,null,null,null,null,null,null,{"$f":"VLOOKUP(KP4,タクシー!$C:$Z,3,0)","v":"二種免許取得のための受験資格特例教習"},null,null,null,null,null,null,null,null,null,null,{"$f":"VLOOKUP(LA4,タクシー!$C:$Z,3,0)","v":"人材確保イベントの参加・開催"},null,null,null,null,null,null,null,null,null,{"$f":"VLOOKUP(LK4,タクシー!$C:$Z,3,0)","v":"人材確保のためのPR"},null,null,null,null,null,null,null,null,null,{"$f":"VLOOKUP(LU4,タクシー!$C:$Z,3,0)","v":"UD研修"},null,null,null,null,null,null,null,null,null,null,{"$f":"VLOOKUP(MF4,タクシー!$C:$Z,3,0)","v":"観光ドライバー認定講習"},null,null,null,null,null,null,null,null,null,null,{"$f":"VLOOKUP(MQ4,タクシー!$C:$Z,3,0)","v":"子育てタクシードライバー研修"},null,null,null,null,null,null,null,null,null,null,{"$f":"VLOOKUP(NB4,タクシー!$C:$Z,3,0)","v":"運転手実技講習"},null,null,null,null,null,null,null,null,null,null,"その他外部研修",null,null,null,null,null,null,null,null,null,null,null,null,"自社研修"]
["整理番号","事業者フラグ","番号","運輸局","支局","事業者名","住所","代表者氏名","ご担当者名","ご連絡先(ＴＥＬ)","ご連絡先(E-mail アドレス)","銀行名","金融機関コード","支店名","支店番号","口座の種類","口座番号","フリガナ","口座名義人","記載内容に誤りが無いこと","働きやすい職場認証制度","えるぼし","くるみんマーク","A：補助対象経費計","B：補助対象経費計","A＋B：補助対象経費計","A：要望額計","B：要望額計","A＋B：要望額計","A：内示額計","B：内示額計","A＋B：内示額計","様式１\nA：交付申請額計","様式１\nB：交付申請額計","様式１\nA+B：交付申請額計","様式２\nA：交付決定額計","様式２\nB：交付決定額計","様式２\nA+B：交付決定額計","様式３\nA：交付決定変更申請額計\n","様式３\nB：交付決定変更申請額計\n","様式３\nA+B：交付決定変更申請額計\n","様式４\nA：交付決定変更額計\n","様式４\nB：交付決定変更額計\n","様式４\nA+B：交付決定変更額計\n","様式６\nA：進捗状況額計\n","様式６\nB：進捗状況額計\n","様式６\nA+B：進捗状況額\n","様式７\nA：完了実績額計\n","様式７\nB：完了実績額計\n","様式７\nA+B：完了実績額計\n","運転者数","車両数","許可の種類","申請台数","補助対象経費（税抜）","要望額","内示額","様式１\n交付申請額","様式２\n交付決定額","様式３\n交付決定変更申請額","様式４\n交付決定変更額","様式６\n進捗状況額","様式７\n完了実績額","申請台数","補助対象経費（税抜）","要望額","内示額","様式１\n交付申請額","様式２\n交付決定額","様式３\n交付決定変更申請額","様式４\n交付決定変更額","様式６\n進捗状況額","様式７\n完了実績額","申請台数","補助対象経費（税抜）","要望額","内示額","様式１\n交付申請額","様式２\n交付決定額","様式３\n交付決定変更申請額","様式４\n交付決定変更額","様式６\n進捗状況額","様式７\n完了実績額","申請台数","補助対象経費（税抜）","要望額","内示額","様式１\n交付申請額","様式２\n交付決定額","様式３\n交付決定変更申請額","様式４\n交付決定変更額","様式６\n進捗状況額","様式７\n完了実績額","申請台数","補助対象経費（税抜）","要望額","内示額","様式１\n交付申請額","様式２\n交付決定額","様式３\n交付決定変更申請額","様式４\n交付決定変更額","様式６\n進捗状況額","様式７\n完了実績額","申請台数","補助対象経費（税抜）","要望額","内示額","様式１\n交付申請額","様式２\n交付決定額","様式３\n交付決定変更申請額","様式４\n交付決定変更額","様式６\n進捗状況額","様式７\n完了実績額","申請台数","補助対象経費（税抜）","要望額","内示額","様式１\n交付申請額","様式２\n交付決定額","様式３\n交付決定変更申請額","様式４\n交付決定変更額","様式６\n進捗状況額","様式７\n完了実績額","申請台数","補助対象経費（税抜）","要望額","内示額","様式１\n交付申請額","様式２\n交付決定額","様式３\n交付決定変更申請額","様式４\n交付決定変更額","様式６\n進捗状況額","様式７\n完了実績額","申請台数","補助対象経費（税抜）","要望額","内示額","様式１\n交付申請額","様式２\n交付決定額","様式３\n交付決定変更申請額","様式４\n交付決定変更額","様式６\n進捗状況額","様式７\n完了実績額","事業概要","申請台数","補助対象経費（税抜）","要望額","内示額","様式１\n交付申請額","様式２\n交付決定額","様式３\n交付決定変更申請額","様式４\n交付決定変更額","様式６\n進捗状況額","様式７\n完了実績額","申請台数","補助対象経費（税抜）","要望額","内示額","様式１\n交付申請額","様式２\n交付決定額","様式３\n交付決定変更申請額","様式４\n交付決定変更額","様式６\n進捗状況額","様式７\n完了実績額","申請台数","補助対象経費（税抜）","要望額","内示額","様式１\n交付申請額","様式２\n交付決定額","様式３\n交付決定変更申請額","様式４\n交付決定変更額","様式６\n進捗状況額","様式７\n完了実績額","申請台数","補助対象経費（税抜）","要望額","内示額","様式１\n交付申請額","様式２\n交付決定額","様式３\n交付決定変更申請額","様式４\n交付決定変更額","様式６\n進捗状況額","様式７\n完了実績額","申請台数","補助対象経費（税抜）","要望額","内示額","様式１\n交付申請額","様式２\n交付決定額","様式３\n交付決定変更申請額","様式４\n交付決定変更額","様式６\n進捗状況額","様式７\n完了実績額","事業概要","申請台数","補助対象経費（税抜）","要望額","内示額","様式１\n交付申請額","様式２\n交付決定額","様式３\n交付決定変更申請額","様式４\n交付決定変更額","様式６\n進捗状況額","様式７\n完了実績額","着手時期","申請台数","補助対象経費（税抜）","要望額","内示額","様式１\n交付申請額","様式２\n交付決定額","様式３\n交付決定変更申請額","様式４\n交付決定変更額","様式６\n進捗状況額","様式７\n完了実績額","着手時期","申請台数","補助対象経費（税抜）","要望額","内示額","様式１\n交付申請額","様式２\n交付決定額","様式３\n交付決定変更申請額","様式４\n交付決定変更額","様式６\n進捗状況額","様式７\n完了実績額","着手時期","申請台数","補助対象経費（税抜）","要望額","内示額","様式１\n交付申請額","様式２\n交付決定額","様式３\n交付決定変更申請額","様式４\n交付決定変更額","様式６\n進捗状況額","様式７\n完了実績額","着手時期","申請台数","補助対象経費（税抜）","要望額","内示額","様式１\n交付申請額","様式２\n交付決定額","様式３\n交付決定変更申請額","様式４\n交付決定変更額","様式６\n進捗状況額","様式７\n完了実績額","事業概要","申請台数","補助対象経費（税抜）","要望額","内示額","様式１\n交付申請額","様式２\n交付決定額","様式３\n交付決定変更申請額","様式４\n交付決定変更額","様式６\n進捗状況額","様式７\n完了実績額","申請台数","補助対象経費（税抜）","要望額","内示額","様式１\n交付申請額","様式２\n交付決定額","様式３\n交付決定変更申請額","様式４\n交付決定変更額","様式６\n進捗状況額","様式７\n完了実績額","申請台数","補助対象経費（税抜）","要望額","内示額","様式１\n交付申請額","様式２\n交付決定額","様式３\n交付決定変更申請額","様式４\n交付決定変更額","様式６\n進捗状況額","様式７\n完了実績額","事業概要","補助対象経費（税抜）","要望額","内示額","様式１\n交付申請額","様式２\n交付決定額","様式３\n交付決定変更申請額","様式４\n交付決定変更額","様式６\n進捗状況額","様式７\n完了実績額","１人あたり平均経費","申請人数","補助対象経費総額（税抜）","要望額","内示額","様式１\n交付申請額","様式２\n交付決定額","様式３\n交付決定変更申請額","様式４\n交付決定変更額","様式６\n進捗状況額","様式７\n完了実績額","１人あたり平均経費","申請人数","補助対象経費総額（税抜）","要望額","内示額","様式１\n交付申請額","様式２\n交付決定額","様式３\n交付決定変更申請額","様式４\n交付決定変更額","様式６\n進捗状況額","様式７\n完了実績額","補助対象経費（税抜）","要望額","内示額","様式１\n交付申請額","様式２\n交付決定額","様式３\n交付決定変更申請額","様式４\n交付決定変更額","様式６\n進捗状況額","様式７\n完了実績額","内容","補助対象経費（税抜）","要望額","内示額","様式１\n交付申請額","様式２\n交付決定額","様式３\n交付決定変更申請額","様式４\n交付決定変更額","様式６\n進捗状況額","様式７\n完了実績額","内容","１人あたり平均経費","申請人数","補助対象経費総額（税抜）","要望額","内示額","様式１\n交付申請額","様式２\n交付決定額","様式３\n交付決定変更申請額","様式４\n交付決定変更額","様式６\n進捗状況額","様式７\n完了実績額","１人あたり平均経費","申請人数","補助対象経費総額（税抜）","要望額","内示額","様式１\n交付申請額","様式２\n交付決定額","様式３\n交付決定変更申請額","様式４\n交付決定変更額","様式６\n進捗状況額","様式７\n完了実績額","１人あたり平均経費","申請人数","補助対象経費総額（税抜）","要望額","内示額","様式１\n交付申請額","様式２\n交付決定額","様式３\n交付決定変更申請額","様式４\n交付決定変更額","様式６\n進捗状況額","様式７\n完了実績額","１人あたり平均経費","申請人数","補助対象経費総額（税抜）","要望額","内示額","様式１\n交付申請額","様式２\n交付決定額","様式３\n交付決定変更申請額","様式４\n交付決定変更額","様式６\n進捗状況額","様式７\n完了実績額","申請項目","１人あたり平均経費","申請人数","補助対象経費総額（税抜）","要望額","内示額","様式１\n交付申請額","様式２\n交付決定額","様式３\n交付決定変更申請額","様式４\n交付決定変更額","様式６\n進捗状況額","様式７\n完了実績額","事業の具体的内容を\n以下に記入してください。","申請項目","補助対象経費（税抜）","要望額","内示額","様式１\n交付申請額","様式２\n交付決定額","様式３\n交付決定変更申請額","様式４\n交付決定変更額","様式６\n進捗状況額","様式７\n完了実績額","事業の具体的内容を\n以下に記入してください。"]
[{"$f":"タクシー!F3","v":0},{"$f":"タクシー!$BN$1","v":0},null,null,null,{"$f":"タクシー!$F$4","v":0},{"$f":"タクシー!$N$4","v":0},{"$f":"タクシー!$F$6","v":0},{"$f":"タクシー!$N$6","v":0},{"$f":"タクシー!$F$8","v":0},{"$f":"タクシー!$N$8","v":0},{"$f":"タクシー!$F$18","v":0},{"$f":"タクシー!$N$18","v":0},{"$f":"タクシー!F20","v":0},{"$f":"タクシー!F22","v":0},{"$f":"タクシー!$F$24","v":0},{"$f":"タクシー!$F$26","v":0},{"$f":"タクシー!$F$28","v":0},{"$f":"タクシー!$F$30","v":0},null,{"$f":"IF(COUNTIF(タクシー!X78:X82,タクシー!AD1)=1,VLOOKUP(タクシー!AD1,タクシー!X78:AC82,6,0),\"\")","v":""},{"$f":"IF(COUNTIF(タクシー!X87:X92,タクシー!AD1)=1,VLOOKUP(タクシー!AD1,タクシー!X87:AC92,6,0),\"\")","v":""},{"$f":"IF(COUNTIF(タクシー!X97:X101,タクシー!AD1)=1,VLOOKUP(タクシー!AD1,タクシー!X97:AC101,6,0),\"\")","v":""},{"$f":"SUMIFS($BC$7:$OJ$7,$BC$3:$OJ$3,X3)","v":0},{"$f":"SUMIFS($BC$7:$OJ$7,$BC$3:$OJ$3,Y3)","v":0},{"$f":"X7+Y7","v":0},{"$f":"SUMIFS($BC$7:$OJ$7,$BC$3:$OJ$3,AA3)","v":0},{"$f":"SUMIFS($BC$7:$OJ$7,$BC$3:$OJ$3,AB3)","v":0},{"$f":"AA7+AB7","v":0},{"$f":"SUMIFS($BC$7:$OJ$7,$BC$3:$OJ$3,AD3)","v":0},{"$f":"SUMIFS($BC$7:$OJ$7,$BC$3:$OJ$3,AE3)","v":0},{"$f":"AD7+AE7","v":0},{"$f":"SUMIFS($BC$7:$OJ$7,$BC$3:$OJ$3,AG3)","v":0},{"$f":"SUMIFS($BC$7:$OJ$7,$BC$3:$OJ$3,AH3)","v":0},{"$f":"AG7+AH7","v":0},{"$f":"SUMIFS($BC$7:$OJ$7,$BC$3:$OJ$3,AJ3)","v":0},{"$f":"SUMIFS($BC$7:$OJ$7,$BC$3:$OJ$3,AK3)","v":0},{"$f":"AJ7+AK7","v":0},{"$f":"SUMIFS($BC$7:$OJ$7,$BC$3:$OJ$3,AM3)","v":0},{"$f":"SUMIFS($BC$7:$OJ$7,$BC$3:$OJ$3,AN3)","v":0},{"$f":"AM7+AN7","v":0},{"$f":"SUMIFS($BC$7:$OJ$7,$BC$3:$OJ$3,AP3)","v":0},{"$f":"SUMIFS($BC$7:$OJ$7,$BC$3:$OJ$3,AQ3)","v":0},{"$f":"AP7+AQ7","v":0},{"$f":"SUMIFS($BC$7:$OJ$7,$BC$3:$OJ$3,AS3)","v":0},{"$f":"SUMIFS($BC$7:$OJ$7,$BC$3:$OJ$3,AT3)","v":0},{"$f":"AS7+AT7","v":0},{"$f":"SUMIFS($BC$7:$OJ$7,$BC$3:$OJ$3,AV3)","v":0},{"$f":"SUMIFS($BC$7:$OJ$7,$BC$3:$OJ$3,AW3)","v":0},{"$f":"AV7+AW7","v":0},{"$f":"タクシー!$S$253","v":0},{"$f":"タクシー!$S$254","v":0},{"$f":"IF(COUNTIF(タクシー!X11:X14,タクシー!AD1)=1,VLOOKUP(タクシー!AD1,タクシー!X11:AC14,6,0),\"\")","v":""},{"$f":"VLOOKUP(BB4,タクシー!$A:$BI,BB2,0)","v":0},{"$f":"VLOOKUP(BC4,タクシー!$A:$BI,BC2,0)","v":0},{"$f":"VLOOKUP(BD4,タクシー!$A:$BI,BD2,0)","v":0},{"$f":"VLOOKUP(BE4,タクシー!$A:$BI,BE2,0)","v":0},{"$f":"VLOOKUP(BF4,タクシー!$A:$BI,BF2,0)","v":0},{"$f":"VLOOKUP(BG4,タクシー!$A:$BI,BG2,0)","v":0},{"$f":"VLOOKUP(BH4,タクシー!$A:$BI,BH2,0)","v":""},{"$f":"VLOOKUP(BI4,タクシー!$A:$BI,BI2,0)","v":0},{"$f":"VLOOKUP(BJ4,タクシー!$A:$BI,BJ2,0)","v":0},{"$f":"VLOOKUP(BK4,タクシー!$A:$BI,BK2,0)","v":0},{"$f":"VLOOKUP(BL4,タクシー!$A:$BI,BL2,0)","v":0},{"$f":"VLOOKUP(BM4,タクシー!$A:$BI,BM2,0)","v":0},{"$f":"VLOOKUP(BN4,タクシー!$A:$BI,BN2,0)","v":0},{"$f":"VLOOKUP(BO4,タクシー!$A:$BI,BO2,0)","v":0},{"$f":"VLOOKUP(BP4,タクシー!$A:$BI,BP2,0)","v":0},{"$f":"VLOOKUP(BQ4,タクシー!$A:$BI,BQ2,0)","v":0},{"$f":"VLOOKUP(BR4,タクシー!$A:$BI,BR2,0)","v":""},{"$f":"VLOOKUP(BS4,タクシー!$A:$BI,BS2,0)","v":0},{"$f":"VLOOKUP(BT4,タクシー!$A:$BI,BT2,0)","v":0},{"$f":"VLOOKUP(BU4,タクシー!$A:$BI,BU2,0)","v":0},{"$f":"VLOOKUP(BV4,タクシー!$A:$BI,BV2,0)","v":0},{"$f":"VLOOKUP(BW4,タクシー!$A:$BI,BW2,0)","v":0},{"$f":"VLOOKUP(BX4,タクシー!$A:$BI,BX2,0)","v":0},{"$f":"VLOOKUP(BY4,タクシー!$A:$BI,BY2,0)","v":0},{"$f":"VLOOKUP(BZ4,タクシー!$A:$BI,BZ2,0)","v":0},{"$f":"VLOOKUP(CA4,タクシー!$A:$BI,CA2,0)","v":0},{"$f":"VLOOKUP(CB4,タクシー!$A:$BI,CB2,0)","v":""},{"$f":"VLOOKUP(CC4,タクシー!$A:$BI,CC2,0)","v":0},{"$f":"VLOOKUP(CD4,タクシー!$A:$BI,CD2,0)","v":0},{"$f":"VLOOKUP(CE4,タクシー!$A:$BI,CE2,0)","v":0},{"$f":"VLOOKUP(CF4,タクシー!$A:$BI,CF2,0)","v":0},{"$f":"VLOOKUP(CG4,タクシー!$A:$BI,CG2,0)","v":0},{"$f":"VLOOKUP(CH4,タクシー!$A:$BI,CH2,0)","v":0},{"$f":"VLOOKUP(CI4,タクシー!$A:$BI,CI2,0)","v":0},{"$f":"VLOOKUP(CJ4,タクシー!$A:$BI,CJ2,0)","v":0},{"$f":"VLOOKUP(CK4,タクシー!$A:$BI,CK2,0)","v":0},{"$f":"VLOOKUP(CL4,タクシー!$A:$BI,CL2,0)","v":""},{"$f":"VLOOKUP(CM4,タクシー!$A:$BI,CM2,0)","v":0},{"$f":"VLOOKUP(CN4,タクシー!$A:$BI,CN2,0)","v":0},{"$f":"VLOOKUP(CO4,タクシー!$A:$BI,CO2,0)","v":0},{"$f":"VLOOKUP(CP4,タクシー!$A:$BI,CP2,0)","v":0},{"$f":"VLOOKUP(CQ4,タクシー!$A:$BI,CQ2,0)","v":0},{"$f":"VLOOKUP(CR4,タクシー!$A:$BI,CR2,0)","v":0},{"$f":"VLOOKUP(CS4,タクシー!$A:$BI,CS2,0)","v":0},{"$f":"VLOOKUP(CT4,タクシー!$A:$BI,CT2,0)","v":0},{"$f":"VLOOKUP(CU4,タクシー!$A:$BI,CU2,0)","v":0},{"$f":"VLOOKUP(CV4,タクシー!$A:$BI,CV2,0)","v":""},{"$f":"VLOOKUP(CW4,タクシー!$A:$BI,CW2,0)","v":0},{"$f":"VLOOKUP(CX4,タクシー!$A:$BI,CX2,0)","v":0},{"$f":"VLOOKUP(CY4,タクシー!$A:$BI,CY2,0)","v":0},{"$f":"VLOOKUP(CZ4,タクシー!$A:$BI,CZ2,0)","v":0},{"$f":"VLOOKUP(DA4,タクシー!$A:$BI,DA2,0)","v":0},{"$f":"VLOOKUP(DB4,タクシー!$A:$BI,DB2,0)","v":0},{"$f":"VLOOKUP(DC4,タクシー!$A:$BI,DC2,0)","v":0},{"$f":"VLOOKUP(DD4,タクシー!$A:$BI,DD2,0)","v":0},{"$f":"VLOOKUP(DE4,タクシー!$A:$BI,DE2,0)","v":0},{"$f":"VLOOKUP(DF4,タクシー!$A:$BI,DF2,0)","v":""},{"$f":"VLOOKUP(DG4,タクシー!$A:$BI,DG2,0)","v":0},{"$f":"VLOOKUP(DH4,タクシー!$A:$BI,DH2,0)","v":0},{"$f":"VLOOKUP(DI4,タクシー!$A:$BI,DI2,0)","v":0},{"$f":"VLOOKUP(DJ4,タクシー!$A:$BI,DJ2,0)","v":0},{"$f":"VLOOKUP(DK4,タクシー!$A:$BI,DK2,0)","v":0},{"$f":"VLOOKUP(DL4,タクシー!$A:$BI,DL2,0)","v":0},{"$f":"VLOOKUP(DM4,タクシー!$A:$BI,DM2,0)","v":0},{"$f":"VLOOKUP(DN4,タクシー!$A:$BI,DN2,0)","v":0},{"$f":"VLOOKUP(DO4,タクシー!$A:$BI,DO2,0)","v":0},{"$f":"VLOOKUP(DP4,タクシー!$A:$BI,DP2,0)","v":""},{"$f":"VLOOKUP(DQ4,タクシー!$A:$BI,DQ2,0)","v":0},{"$f":"VLOOKUP(DR4,タクシー!$A:$BI,DR2,0)","v":0},{"$f":"VLOOKUP(DS4,タクシー!$A:$BI,DS2,0)","v":0},{"$f":"VLOOKUP(DT4,タクシー!$A:$BI,DT2,0)","v":0},{"$f":"VLOOKUP(DU4,タクシー!$A:$BI,DU2,0)","v":0},{"$f":"VLOOKUP(DV4,タクシー!$A:$BI,DV2,0)","v":0},{"$f":"VLOOKUP(DW4,タクシー!$A:$BI,DW2,0)","v":0},{"$f":"VLOOKUP(DX4,タクシー!$A:$BI,DX2,0)","v":0},{"$f":"VLOOKUP(DY4,タクシー!$A:$BI,DY2,0)","v":0},{"$f":"VLOOKUP(DZ4,タクシー!$A:$BI,DZ2,0)","v":""},{"$f":"VLOOKUP(EA4,タクシー!$A:$BI,EA2,0)","v":0},{"$f":"VLOOKUP(EB4,タクシー!$A:$BI,EB2,0)","v":0},{"$f":"VLOOKUP(EC4,タクシー!$A:$BI,EC2,0)","v":0},{"$f":"VLOOKUP(ED4,タクシー!$A:$BI,ED2,0)","v":0},{"$f":"VLOOKUP(EE4,タクシー!$A:$BI,EE2,0)","v":0},{"$f":"VLOOKUP(EF4,タクシー!$A:$BI,EF2,0)","v":0},{"$f":"VLOOKUP(EG4,タクシー!$A:$BI,EG2,0)","v":0},{"$f":"VLOOKUP(EH4,タクシー!$A:$BI,EH2,0)","v":0},{"$f":"VLOOKUP(EI4,タクシー!$A:$BI,EI2,0)","v":0},{"$f":"VLOOKUP(EJ4,タクシー!$A:$BI,EJ2,0)","v":""},{"$f":"VLOOKUP(EK4,タクシー!$A:$BI,EK2,0)","v":0},{"$f":"VLOOKUP(EL4,タクシー!$A:$BI,EL2,0)","v":0},{"$f":"VLOOKUP(EM4,タクシー!$A:$BI,EM2,0)","v":0},{"$f":"VLOOKUP(EN4,タクシー!$A:$BI,EN2,0)","v":"事業概要："},{"$f":"VLOOKUP(EO4,タクシー!$A:$BI,EO2,0)","v":0},{"$f":"VLOOKUP(EP4,タクシー!$A:$BI,EP2,0)","v":0},{"$f":"VLOOKUP(EQ4,タクシー!$A:$BI,EQ2,0)","v":0},{"$f":"VLOOKUP(ER4,タクシー!$A:$BI,ER2,0)","v":0},{"$f":"VLOOKUP(ES4,タクシー!$A:$BI,ES2,0)","v":0},{"$f":"VLOOKUP(ET4,タクシー!$A:$BI,ET2,0)","v":0},{"$f":"VLOOKUP(EU4,タクシー!$A:$BI,EU2,0)","v":""},{"$f":"VLOOKUP(EV4,タクシー!$A:$BI,EV2,0)","v":0},{"$f":"VLOOKUP(EW4,タクシー!$A:$BI,EW2,0)","v":0},{"$f":"VLOOKUP(EX4,タクシー!$A:$BI,EX2,0)","v":0},{"$f":"VLOOKUP(EY4,タクシー!$A:$BI,EY2,0)","v":0},{"$f":"VLOOKUP(EZ4,タクシー!$A:$BI,EZ2,0)","v":0},{"$f":"VLOOKUP(FA4,タクシー!$A:$BI,FA2,0)","v":0},{"$f":"VLOOKUP(FB4,タクシー!$A:$BI,FB2,0)","v":0},{"$f":"VLOOKUP(FC4,タクシー!$A:$BI,FC2,0)","v":0},{"$f":"VLOOKUP(FD4,タクシー!$A:$BI,FD2,0)","v":0},{"$f":"VLOOKUP(FE4,タクシー!$A:$BI,FE2,0)","v":""},{"$f":"VLOOKUP(FF4,タクシー!$A:$BI,FF2,0)","v":0},{"$f":"VLOOKUP(FG4,タクシー!$A:$BI,FG2,0)","v":0},{"$f":"VLOOKUP(FH4,タクシー!$A:$BI,FH2,0)","v":0},{"$f":"VLOOKUP(FI4,タクシー!$A:$BI,FI2,0)","v":"ー"},{"$f":"VLOOKUP(FJ4,タクシー!$A:$BI,FJ2,0)","v":0},{"$f":"VLOOKUP(FK4,タクシー!$A:$BI,FK2,0)","v":0},{"$f":"VLOOKUP(FL4,タクシー!$A:$BI,FL2,0)","v":0},{"$f":"VLOOKUP(FM4,タクシー!$A:$BI,FM2,0)","v":0},{"$f":"VLOOKUP(FN4,タクシー!$A:$BI,FN2,0)","v":0},{"$f":"VLOOKUP(FO4,タクシー!$A:$BI,FO2,0)","v":""},{"$f":"VLOOKUP(FP4,タクシー!$A:$BI,FP2,0)","v":0},{"$f":"VLOOKUP(FQ4,タクシー!$A:$BI,FQ2,0)","v":0},{"$f":"VLOOKUP(FR4,タクシー!$A:$BI,FR2,0)","v":0},{"$f":"VLOOKUP(FS4,タクシー!$A:$BI,FS2,0)","v":0},{"$f":"VLOOKUP(FT4,タクシー!$A:$BI,FT2,0)","v":0},{"$f":"VLOOKUP(FU4,タクシー!$A:$BI,FU2,0)","v":0},{"$f":"VLOOKUP(FV4,タクシー!$A:$BI,FV2,0)","v":0},{"$f":"VLOOKUP(FW4,タクシー!$A:$BI,FW2,0)","v":0},{"$f":"VLOOKUP(FX4,タクシー!$A:$BI,FX2,0)","v":0},{"$f":"VLOOKUP(FY4,タクシー!$A:$BI,FY2,0)","v":""},{"$f":"VLOOKUP(FZ4,タクシー!$A:$BI,FZ2,0)","v":0},{"$f":"VLOOKUP(GA4,タクシー!$A:$BI,GA2,0)","v":0},{"$f":"VLOOKUP(GB4,タクシー!$A:$BI,GB2,0)","v":0},{"$f":"VLOOKUP(GC4,タクシー!$A:$BI,GC2,0)","v":0},{"$f":"VLOOKUP(GD4,タクシー!$A:$BI,GD2,0)","v":0},{"$f":"VLOOKUP(GE4,タクシー!$A:$BI,GE2,0)","v":0},{"$f":"VLOOKUP(GF4,タクシー!$A:$BI,GF2,0)","v":0},{"$f":"VLOOKUP(GG4,タクシー!$A:$BI,GG2,0)","v":0},{"$f":"VLOOKUP(GH4,タクシー!$A:$BI,GH2,0)","v":0},{"$f":"VLOOKUP(GI4,タクシー!$A:$BI,GI2,0)","v":""},{"$f":"VLOOKUP(GJ4,タクシー!$A:$BI,GJ2,0)","v":0},{"$f":"VLOOKUP(GK4,タクシー!$A:$BI,GK2,0)","v":0},{"$f":"VLOOKUP(GL4,タクシー!$A:$BI,GL2,0)","v":0},{"$f":"VLOOKUP(GM4,タクシー!$A:$BI,GM2,0)","v":"事業概要："},{"$f":"VLOOKUP(GN4,タクシー!$A:$BI,GN2,0)","v":0},{"$f":"VLOOKUP(GO4,タクシー!$A:$BI,GO2,0)","v":0},{"$f":"VLOOKUP(GP4,タクシー!$A:$BI,GP2,0)","v":0},{"$f":"VLOOKUP(GQ4,タクシー!$A:$BI,GQ2,0)","v":0},{"$f":"VLOOKUP(GR4,タクシー!$A:$BI,GR2,0)","v":0},{"$f":"VLOOKUP(GS4,タクシー!$A:$BI,GS2,0)","v":0},{"$f":"VLOOKUP(GT4,タクシー!$A:$BI,GT2,0)","v":""},{"$f":"VLOOKUP(GU4,タクシー!$A:$BI,GU2,0)","v":0},{"$f":"VLOOKUP(GV4,タクシー!$A:$BI,GV2,0)","v":0},{"$f":"VLOOKUP(GW4,タクシー!$A:$BI,GW2,0)","v":0},{"$f":"VLOOKUP(GX4,タクシー!$A:$BI,GX2,0)","v":"00:00:00"},{"$f":"VLOOKUP(GY4,タクシー!$A:$BI,GY2,0)","v":0},{"$f":"VLOOKUP(GZ4,タクシー!$A:$BI,GZ2,0)","v":0},{"$f":"VLOOKUP(HA4,タクシー!$A:$BI,HA2,0)","v":0},{"$f":"VLOOKUP(HB4,タクシー!$A:$BI,HB2,0)","v":0},{"$f":"VLOOKUP(HC4,タクシー!$A:$BI,HC2,0)","v":0},{"$f":"VLOOKUP(HD4,タクシー!$A:$BI,HD2,0)","v":0},{"$f":"VLOOKUP(HE4,タクシー!$A:$BI,HE2,0)","v":""},{"$f":"VLOOKUP(HF4,タクシー!$A:$BI,HF2,0)","v":0},{"$f":"VLOOKUP(HG4,タクシー!$A:$BI,HG2,0)","v":0},{"$f":"VLOOKUP(HH4,タクシー!$A:$BI,HH2,0)","v":0},{"$f":"VLOOKUP(HI4,タクシー!$A:$BI,HI2,0)","v":"00:00:00"},{"$f":"VLOOKUP(HJ4,タクシー!$A:$BI,HJ2,0)","v":0},{"$f":"VLOOKUP(HK4,タクシー!$A:$BI,HK2,0)","v":0},{"$f":"VLOOKUP(HL4,タクシー!$A:$BI,HL2,0)","v":0},{"$f":"VLOOKUP(HM4,タクシー!$A:$BI,HM2,0)","v":0},{"$f":"VLOOKUP(HN4,タクシー!$A:$BI,HN2,0)","v":0},{"$f":"VLOOKUP(HO4,タクシー!$A:$BI,HO2,0)","v":0},{"$f":"VLOOKUP(HP4,タクシー!$A:$BI,HP2,0)","v":""},{"$f":"VLOOKUP(HQ4,タクシー!$A:$BI,HQ2,0)","v":0},{"$f":"VLOOKUP(HR4,タクシー!$A:$BI,HR2,0)","v":0},{"$f":"VLOOKUP(HS4,タクシー!$A:$BI,HS2,0)","v":0},{"$f":"VLOOKUP(HT4,タクシー!$A:$BI,HT2,0)","v":"00:00:00"},{"$f":"VLOOKUP(HU4,タクシー!$A:$BI,HU2,0)","v":0},{"$f":"VLOOKUP(HV4,タクシー!$A:$BI,HV2,0)","v":0},{"$f":"VLOOKUP(HW4,タクシー!$A:$BI,HW2,0)","v":0},{"$f":"VLOOKUP(HX4,タクシー!$A:$BI,HX2,0)","v":0},{"$f":"VLOOKUP(HY4,タクシー!$A:$BI,HY2,0)","v":0},{"$f":"VLOOKUP(HZ4,タクシー!$A:$BI,HZ2,0)","v":0},{"$f":"VLOOKUP(IA4,タクシー!$A:$BI,IA2,0)","v":""},{"$f":"VLOOKUP(IB4,タクシー!$A:$BI,IB2,0)","v":0},{"$f":"VLOOKUP(IC4,タクシー!$A:$BI,IC2,0)","v":0},{"$f":"VLOOKUP(ID4,タクシー!$A:$BI,ID2,0)","v":0},{"$f":"VLOOKUP(IE4,タクシー!$A:$BI,IE2,0)","v":"00:00:00"},{"$f":"VLOOKUP(IF4,タクシー!$A:$BI,IF2,0)","v":0},{"$f":"VLOOKUP(IG4,タクシー!$A:$BI,IG2,0)","v":0},{"$f":"VLOOKUP(IH4,タクシー!$A:$BI,IH2,0)","v":0},{"$f":"VLOOKUP(II4,タクシー!$A:$BI,II2,0)","v":0},{"$f":"VLOOKUP(IJ4,タクシー!$A:$BI,IJ2,0)","v":0},{"$f":"VLOOKUP(IK4,タクシー!$A:$BI,IK2,0)","v":0},{"$f":"VLOOKUP(IL4,タクシー!$A:$BI,IL2,0)","v":""},{"$f":"VLOOKUP(IM4,タクシー!$A:$BI,IM2,0)","v":0},{"$f":"VLOOKUP(IN4,タクシー!$A:$BI,IN2,0)","v":0},{"$f":"VLOOKUP(IO4,タクシー!$A:$BI,IO2,0)","v":0},{"$f":"VLOOKUP(IP4,タクシー!$A:$BI,IP2,0)","v":"事業概要："},{"$f":"VLOOKUP(IQ4,タクシー!$A:$BI,IQ2,0)","v":0},{"$f":"VLOOKUP(IR4,タクシー!$A:$BI,IR2,0)","v":0},{"$f":"VLOOKUP(IS4,タクシー!$A:$BI,IS2,0)","v":0},{"$f":"VLOOKUP(IT4,タクシー!$A:$BI,IT2,0)","v":0},{"$f":"VLOOKUP(IU4,タクシー!$A:$BI,IU2,0)","v":0},{"$f":"VLOOKUP(IV4,タクシー!$A:$BI,IV2,0)","v":0},{"$f":"VLOOKUP(IW4,タクシー!$A:$BI,IW2,0)","v":""},{"$f":"VLOOKUP(IX4,タクシー!$A:$BI,IX2,0)","v":0},{"$f":"VLOOKUP(IY4,タクシー!$A:$BI,IY2,0)","v":0},{"$f":"VLOOKUP(IZ4,タクシー!$A:$BI,IZ2,0)","v":0},{"$f":"VLOOKUP(JA4,タクシー!$A:$BI,JA2,0)","v":0},{"$f":"VLOOKUP(JB4,タクシー!$A:$BI,JB2,0)","v":0},{"$f":"VLOOKUP(JC4,タクシー!$A:$BI,JC2,0)","v":0},{"$f":"VLOOKUP(JD4,タクシー!$A:$BI,JD2,0)","v":0},{"$f":"VLOOKUP(JE4,タクシー!$A:$BI,JE2,0)","v":0},{"$f":"VLOOKUP(JF4,タクシー!$A:$BI,JF2,0)","v":0},{"$f":"VLOOKUP(JG4,タクシー!$A:$BI,JG2,0)","v":""},{"$f":"VLOOKUP(JH4,タクシー!$A:$BI,JH2,0)","v":0},{"$f":"VLOOKUP(JI4,タクシー!$A:$BI,JI2,0)","v":0},{"$f":"VLOOKUP(JJ4,タクシー!$A:$BI,JJ2,0)","v":0},{"$f":"VLOOKUP(JK4,タクシー!$A:$BI,JK2,0)","v":0},{"$f":"VLOOKUP(JL4,タクシー!$A:$BI,JL2,0)","v":0},{"$f":"VLOOKUP(JM4,タクシー!$A:$BI,JM2,0)","v":0},{"$f":"VLOOKUP(JN4,タクシー!$A:$BI,JN2,0)","v":0},{"$f":"VLOOKUP(JO4,タクシー!$A:$BI,JO2,0)","v":0},{"$f":"VLOOKUP(JP4,タクシー!$A:$BI,JP2,0)","v":0},{"$f":"VLOOKUP(JQ4,タクシー!$A:$BI,JQ2,0)","v":""},{"$f":"VLOOKUP(JR4,タクシー!$A:$BI,JR2,0)","v":0},{"$f":"VLOOKUP(JS4,タクシー!$A:$BI,JS2,0)","v":0},{"$f":"VLOOKUP(JT4,タクシー!$A:$BI,JT2,0)","v":0},{"$f":"VLOOKUP(JU4,タクシー!$A:$BI,JU2,0)","v":0},{"$f":"VLOOKUP(JV4,タクシー!$A:$BI,JV2,0)","v":0},{"$f":"VLOOKUP(JW4,タクシー!$A:$BI,JW2,0)","v":0},{"$f":"VLOOKUP(JX4,タクシー!$A:$BI,JX2,0)","v":0},{"$f":"VLOOKUP(JY4,タクシー!$A:$BI,JY2,0)","v":0},{"$f":"VLOOKUP(JZ4,タクシー!$A:$BI,JZ2,0)","v":0},{"$f":"VLOOKUP(KA4,タクシー!$A:$BI,KA2,0)","v":""},{"$f":"VLOOKUP(KB4,タクシー!$A:$BI,KB2,0)","v":0},{"$f":"VLOOKUP(KC4,タクシー!$A:$BI,KC2,0)","v":0},{"$f":"VLOOKUP(KD4,タクシー!$A:$BI,KD2,0)","v":0},{"$f":"VLOOKUP(KE4,タクシー!$A:$BI,KE2,0)","v":"ー"},{"$f":"VLOOKUP(KF4,タクシー!$A:$BI,KF2,0)","v":0},{"$f":"VLOOKUP(KG4,タクシー!$A:$BI,KG2,0)","v":0},{"$f":"VLOOKUP(KH4,タクシー!$A:$BI,KH2,0)","v":0},{"$f":"VLOOKUP(KI4,タクシー!$A:$BI,KI2,0)","v":0},{"$f":"VLOOKUP(KJ4,タクシー!$A:$BI,KJ2,0)","v":0},{"$f":"VLOOKUP(KK4,タクシー!$A:$BI,KK2,0)","v":0},{"$f":"VLOOKUP(KL4,タクシー!$A:$BI,KL2,0)","v":""},{"$f":"VLOOKUP(KM4,タクシー!$A:$BI,KM2,0)","v":0},{"$f":"VLOOKUP(KN4,タクシー!$A:$BI,KN2,0)","v":0},{"$f":"VLOOKUP(KO4,タクシー!$A:$BI,KO2,0)","v":0},{"$f":"VLOOKUP(KP4,タクシー!$A:$BI,KP2,0)","v":"ー"},{"$f":"VLOOKUP(KQ4,タクシー!$A:$BI,KQ2,0)","v":0},{"$f":"VLOOKUP(KR4,タクシー!$A:$BI,KR2,0)","v":0},{"$f":"VLOOKUP(KS4,タクシー!$A:$BI,KS2,0)","v":0},{"$f":"VLOOKUP(KT4,タクシー!$A:$BI,KT2,0)","v":0},{"$f":"VLOOKUP(KU4,タクシー!$A:$BI,KU2,0)","v":0},{"$f":"VLOOKUP(KV4,タクシー!$A:$BI,KV2,0)","v":0},{"$f":"VLOOKUP(KW4,タクシー!$A:$BI,KW2,0)","v":""},{"$f":"VLOOKUP(KX4,タクシー!$A:$BI,KX2,0)","v":0},{"$f":"VLOOKUP(KY4,タクシー!$A:$BI,KY2,0)","v":0},{"$f":"VLOOKUP(KZ4,タクシー!$A:$BI,KZ2,0)","v":0},{"$f":"VLOOKUP(LA4,タクシー!$A:$BI,LA2,0)","v":0},{"$f":"VLOOKUP(LB4,タクシー!$A:$BI,LB2,0)","v":0},{"$f":"VLOOKUP(LC4,タクシー!$A:$BI,LC2,0)","v":0},{"$f":"VLOOKUP(LD4,タクシー!$A:$BI,LD2,0)","v":0},{"$f":"VLOOKUP(LE4,タクシー!$A:$BI,LE2,0)","v":0},{"$f":"VLOOKUP(LF4,タクシー!$A:$BI,LF2,0)","v":""},{"$f":"VLOOKUP(LG4,タクシー!$A:$BI,LG2,0)","v":0},{"$f":"VLOOKUP(LH4,タクシー!$A:$BI,LH2,0)","v":0},{"$f":"VLOOKUP(LI4,タクシー!$A:$BI,LI2,0)","v":0},{"$f":"VLOOKUP(LJ4,タクシー!$A:$BI,LJ2,0)","v":0},{"$f":"VLOOKUP(LK4,タクシー!$A:$BI,LK2,0)","v":0},{"$f":"VLOOKUP(LL4,タクシー!$A:$BI,LL2,0)","v":0},{"$f":"VLOOKUP(LM4,タクシー!$A:$BI,LM2,0)","v":0},{"$f":"VLOOKUP(LN4,タクシー!$A:$BI,LN2,0)","v":0},{"$f":"VLOOKUP(LO4,タクシー!$A:$BI,LO2,0)","v":0},{"$f":"VLOOKUP(LP4,タクシー!$A:$BI,LP2,0)","v":""},{"$f":"VLOOKUP(LQ4,タクシー!$A:$BI,LQ2,0)","v":0},{"$f":"VLOOKUP(LR4,タクシー!$A:$BI,LR2,0)","v":0},{"$f":"VLOOKUP(LS4,タクシー!$A:$BI,LS2,0)","v":0},{"$f":"VLOOKUP(LT4,タクシー!$A:$BI,LT2,0)","v":0},{"$f":"VLOOKUP(LU4,タクシー!$A:$BI,LU2,0)","v":"ー"},{"$f":"VLOOKUP(LV4,タクシー!$A:$BI,LV2,0)","v":0},{"$f":"VLOOKUP(LW4,タクシー!$A:$BI,LW2,0)","v":0},{"$f":"VLOOKUP(LX4,タクシー!$A:$BI,LX2,0)","v":0},{"$f":"VLOOKUP(LY4,タクシー!$A:$BI,LY2,0)","v":0},{"$f":"VLOOKUP(LZ4,タクシー!$A:$BI,LZ2,0)","v":0},{"$f":"VLOOKUP(MA4,タクシー!$A:$BI,MA2,0)","v":0},{"$f":"VLOOKUP(MB4,タクシー!$A:$BI,MB2,0)","v":""},{"$f":"VLOOKUP(MC4,タクシー!$A:$BI,MC2,0)","v":0},{"$f":"VLOOKUP(MD4,タクシー!$A:$BI,MD2,0)","v":0},{"$f":"VLOOKUP(ME4,タクシー!$A:$BI,ME2,0)","v":0},{"$f":"VLOOKUP(MF4,タクシー!$A:$BI,MF2,0)","v":"ー"},{"$f":"VLOOKUP(MG4,タクシー!$A:$BI,MG2,0)","v":0},{"$f":"VLOOKUP(MH4,タクシー!$A:$BI,MH2,0)","v":0},{"$f":"VLOOKUP(MI4,タクシー!$A:$BI,MI2,0)","v":0},{"$f":"VLOOKUP(MJ4,タクシー!$A:$BI,MJ2,0)","v":0},{"$f":"VLOOKUP(MK4,タクシー!$A:$BI,MK2,0)","v":0},{"$f":"VLOOKUP(ML4,タクシー!$A:$BI,ML2,0)","v":0},{"$f":"VLOOKUP(MM4,タクシー!$A:$BI,MM2,0)","v":""},{"$f":"VLOOKUP(MN4,タクシー!$A:$BI,MN2,0)","v":0},{"$f":"VLOOKUP(MO4,タクシー!$A:$BI,MO2,0)","v":0},{"$f":"VLOOKUP(MP4,タクシー!$A:$BI,MP2,0)","v":0},{"$f":"VLOOKUP(MQ4,タクシー!$A:$BI,MQ2,0)","v":"ー"},{"$f":"VLOOKUP(MR4,タクシー!$A:$BI,MR2,0)","v":0},{"$f":"VLOOKUP(MS4,タクシー!$A:$BI,MS2,0)","v":0},{"$f":"VLOOKUP(MT4,タクシー!$A:$BI,MT2,0)","v":0},{"$f":"VLOOKUP(MU4,タクシー!$A:$BI,MU2,0)","v":0},{"$f":"VLOOKUP(MV4,タクシー!$A:$BI,MV2,0)","v":0},{"$f":"VLOOKUP(MW4,タクシー!$A:$BI,MW2,0)","v":0},{"$f":"VLOOKUP(MX4,タクシー!$A:$BI,MX2,0)","v":""},{"$f":"VLOOKUP(MY4,タクシー!$A:$BI,MY2,0)","v":0},{"$f":"VLOOKUP(MZ4,タクシー!$A:$BI,MZ2,0)","v":0},{"$f":"VLOOKUP(NA4,タクシー!$A:$BI,NA2,0)","v":0},{"$f":"VLOOKUP(NB4,タクシー!$A:$BI,NB2,0)","v":"ー"},{"$f":"VLOOKUP(NC4,タクシー!$A:$BI,NC2,0)","v":0},{"$f":"VLOOKUP(ND4,タクシー!$A:$BI,ND2,0)","v":0},{"$f":"VLOOKUP(NE4,タクシー!$A:$BI,NE2,0)","v":0},{"$f":"VLOOKUP(NF4,タクシー!$A:$BI,NF2,0)","v":0},{"$f":"VLOOKUP(NG4,タクシー!$A:$BI,NG2,0)","v":0},{"$f":"VLOOKUP(NH4,タクシー!$A:$BI,NH2,0)","v":0},{"$f":"VLOOKUP(NI4,タクシー!$A:$BI,NI2,0)","v":""},{"$f":"VLOOKUP(NJ4,タクシー!$A:$BI,NJ2,0)","v":0},{"$f":"VLOOKUP(NK4,タクシー!$A:$BI,NK2,0)","v":0},{"$f":"VLOOKUP(NL4,タクシー!$A:$BI,NL2,0)","v":0},{"$f":"VLOOKUP(NM4,タクシー!$A:$BI,NM2,0)","v":0},{"$f":"VLOOKUP(NN4,タクシー!$A:$BI,NN2,0)","v":"ー"},{"$f":"VLOOKUP(NO4,タクシー!$A:$BI,NO2,0)","v":0},{"$f":"VLOOKUP(NP4,タクシー!$A:$BI,NP2,0)","v":0},{"$f":"VLOOKUP(NQ4,タクシー!$A:$BI,NQ2,0)","v":0},{"$f":"VLOOKUP(NR4,タクシー!$A:$BI,NR2,0)","v":0},{"$f":"VLOOKUP(NS4,タクシー!$A:$BI,NS2,0)","v":0},{"$f":"VLOOKUP(NT4,タクシー!$A:$BI,NT2,0)","v":0},{"$f":"VLOOKUP(NU4,タクシー!$A:$BI,NU2,0)","v":""},{"$f":"VLOOKUP(NV4,タクシー!$A:$BI,NV2,0)","v":0},{"$f":"VLOOKUP(NW4,タクシー!$A:$BI,NW2,0)","v":0},{"$f":"VLOOKUP(NX4,タクシー!$A:$BI,NX2,0)","v":0},{"$f":"VLOOKUP(NY4,タクシー!$A:$BI,NY2,0)","v":0},{"$f":"VLOOKUP(NZ4,タクシー!$A:$BI,NZ2,0)","v":0},{"$f":"VLOOKUP(OA4,タクシー!$A:$BI,OA2,0)","v":0},{"$f":"VLOOKUP(OB4,タクシー!$A:$BI,OB2,0)","v":0},{"$f":"VLOOKUP(OC4,タクシー!$A:$BI,OC2,0)","v":0},{"$f":"VLOOKUP(OD4,タクシー!$A:$BI,OD2,0)","v":0},{"$f":"VLOOKUP(OE4,タクシー!$A:$BI,OE2,0)","v":0},{"$f":"VLOOKUP(OF4,タクシー!$A:$BI,OF2,0)","v":""},{"$f":"VLOOKUP(OG4,タクシー!$A:$BI,OG2,0)","v":0},{"$f":"VLOOKUP(OH4,タクシー!$A:$BI,OH2,0)","v":0},{"$f":"VLOOKUP(OI4,タクシー!$A:$BI,OI2,0)","v":0},{"$f":"VLOOKUP(OJ4,タクシー!$A:$BI,OJ2,0)","v":0}]
[null,null,null,null,null,null,null,null,null,null,null,null,null,null,null,null,null,null,null,null,null,null,null,null,null,null,null,null,null,null,null,null,null,null,null,null,null,null,null,null,null,null,null,null,null,null,null,null,null,null,null,null,null,null,null,null,null,null,null,{"$f":"IF(タクシー!D165=タクシー!AD1,1,\"\")","v":""},null,null,null,null,null,null,null,null,null,{"$f":"IF(タクシー!D167=タクシー!AD1,1,\"\")","v":""},null,null,null,null,null,null,null,null,null,{"$f":"IF(タクシー!D169=タクシー!AD1,1,\"\")","v":""},null,null,null,null,null,null,null,null,null,{"$f":"IF(タクシー!D171=タクシー!AD1,1,\"\")","v":""},null,null,null,null,null,null,null,null,null,{"$f":"IF(タクシー!D183=タクシー!AD1,1,\"\")","v":""},null,null,null,null,null,null,null,null,null,{"$f":"IF(タクシー!D184=タクシー!AD1,1,\"\")","v":""},null,null,null,null,null,null,null,null,null,{"$f":"IF(タクシー!D185=タクシー!AD1,1,\"\")","v":""},null,null,null,null,null,null,null,null,null,{"$f":"IF(タクシー!D186=タクシー!AD1,1,\"\")","v":""},null,null,null,null,null,null,null,null,null,{"$f":"IF(タクシー!D187=タクシー!AD1,1,\"\")","v":""},null,null,null,null,null,null,null,null,null,null,{"$f":"IF(タクシー!D204=タクシー!AD1,1,\"\")","v":""},null,null,null,null,null,null,null,null,null,{"$f":"IF(タクシー!D205=タクシー!AD1,1,\"\")","v":""},null,null,null,null,null,null,null,null,null,{"$f":"IF(タクシー!D206=タクシー!AD1,1,\"\")","v":""},null,null,null,null,null,null,null,null,null,{"$f":"IF(タクシー!D207=タクシー!AD1,1,\"\")","v":""},null,null,null,null,null,null,null,null,null,{"$f":"IF(タクシー!D208=タクシー!AD1,1,\"\")","v":""},null,null,null,null,null,null,null,null,null,null,{"$f":"IF(タクシー!D215=タクシー!AD1,1,\"\")","v":""},null,null,null,null,null,null,null,null,null,null,{"$f":"IF(タクシー!D220=タクシー!AD1,1,\"\")","v":""},null,null,null,null,null,null,null,null,null,null,{"$f":"IF(タクシー!D221=タクシー!AD1,1,\"\")","v":""},null,null,null,null,null,null,null,null,null,null,{"$f":"IF(タクシー!D222=タクシー!AD1,1,\"\")","v":""},null,null,null,null,null,null,null,null,null,null,{"$f":"IF(タクシー!D223=タクシー!AD1,1,\"\")","v":""},null,null,null,null,null,null,null,null,null,null,{"$f":"IF(タクシー!D229=タクシー!AD1,1,\"\")","v":""},null,null,null,null,null,null,null,null,null,{"$f":"IF(タクシー!D230=タクシー!AD1,1,\"\")","v":""},null,null,null,null,null,null,null,null,null,{"$f":"IF(タクシー!D231=タクシー!AD1,1,\"\")","v":""},null,null,null,null,null,null,null,null,null,{"$f":"IF(タクシー!D237=タクシー!AD1,1,\"\")","v":""},null,null,null,null,null,null,null,null,null,null,{"$f":"IF(タクシー!D258=タクシー!AD1,1,\"\")","v":""},null,null,null,null,null,null,null,null,null,null,{"$f":"IF(タクシー!D259=タクシー!AD1,1,\"\")","v":""},null,null,null,null,null,null,null,null,{"$f":"IF(タクシー!D269=タクシー!AD1,1,\"\")","v":""},null,null,null,null,null,null,null,null,null,{"$f":"IF(タクシー!D285=タクシー!AD1,1,\"\")","v":""},null,null,null,null,null,null,null,null,null,null,null,{"$f":"IF(タクシー!D308=タクシー!AD1,1,\"\")","v":""},null,null,null,null,null,null,null,null,null,null,{"$f":"IF(タクシー!D309=タクシー!AD1,1,\"\")","v":""},null,null,null,null,null,null,null,null,null,null,{"$f":"IF(タクシー!D310=タクシー!AD1,1,\"\")","v":""},null,null,null,null,null,null,null,null,null,null,{"$f":"IF(タクシー!D311=タクシー!AD1,1,\"\")","v":""},null,null,null,null,null,null,null,null,null,null,null,{"$f":"IF(タクシー!D315=タクシー!AD1,1,\"\")","v":""},null,null,null,null,null,null,null,null,null,null,{"$f":"IF(タクシー!D327=タクシー!AD1,1,\"\")","v":""}]

{"sheet":"エラーチェック","index":3,"n_rows":24,"n_cols":419,"rows_kept":24,"cut":false,"hidden":true,"merged":[[4,161,4,170],[4,50,4,59],[4,60,4,69],[4,70,4,79],[4,80,4,89],[4,90,4,99],[4,100,4,109],[4,110,4,119],[4,120,4,129],[4,130,4,138],[4,141,4,150],[4,151,4,160],[4,287,4,297],[4,171,4,180],[4,181,4,191],[4,192,4,201],[4,202,4,212],[4,213,4,223],[4,224,4,234],[4,235,4,246],[4,247,4,256],[4,257,4,266],[4,267,4,276],[4,277,4,286],[4,362,4,372],[4,373,4,385],[4,386,4,396],[4,298,4,308],[4,309,4,318],[4,319,4,328],[4,329,4,339],[4,340,4,350],[4,351,4,361]]}
[1,2,3,4,5,6,7,8,9,10,11,12,13,14,15,16,17,18,19,20,21,22,23,24,25,26,27,28,29,30,31,32,33,34,35,36,37,38,39,40,41,42,43,44,45,46,47,48,49,50,51,52,53,54,55,56,57,58,59,60,61,62,63,64,65,66,67,68,69,70,71,72,73,74,75,76,77,78,79,80,81,82,83,84,85,86,87,88,89,90,91,92,93,94,95,96,97,98,99,100,101,102,103,104,105,106,107,108,109,110,111,112,113,114,115,116,117,118,119,120,121,122,123,124,125,126,127,128,129,130,131,132,133,134,135,136,137,138,139,140,141,142,143,144,145,146,147,148,149,150,151,152,153,154,155,156,157,158,159,160,161,162,163,164,165,166,167,168,169,170,171,172,173,174,175,176,177,178,179,180,181,182,183,184,185,186,187,188,189,190,191,192,193,194,195,196,197,198,199,200,201,202,203,204,205,206,207,208,209,210,211,212,213,214,215,216,217,218,219,220,221,222,223,224,225,226,227,228,229,230,231,232,233,234,235,236,237,238,239,240,241,242,243,244,245,246,247,248,249,250,251,252,253,254,255,256,257,258,259,260,261,262,263,264,265,266,267,268,269,270,271,272,273,274,275,276,277,278,279,280,281,282,283,284,285,286,287,288,289,290,291,292,293,294,295,296,297,298,299,300,301,302,303,304,305,306,307,308,309,310,311,312,313,314,315,316,317,318,319,320,321,322,323,324,325,326,327,328,329,330,331,332,333,334,335,336,337,338,339,340,341,342,343,344,345,346,347,348,349,350,351,352,353,354,355,356,357,358,359,360,361,362,363,364,365,366,367,368,369,370,371,372,373,374,375,376,377,378,379,380,381,382,383,384,385,386,387,388,389,390,391,392,393,394,395,396,397,null,null,null,21,26,36,41,46,51,56,61,null,null,21,26,36,41,46,51,56,61]
[null,null,null,null,null,null,null,null,null,null,null,null,null,null,null,null,null,null,null,null,null,null,null,null,null,null,null,null,null,null,null,null,null,null,null,null,null,null,null,null,null,null,null,null,null,null,null,null,null,null,13,16,21,26,36,41,46,51,56,61,13,16,21,26,36,41,46,51,56,61,13,16,21,26,36,41,46,51,56,61,13,16,21,26,36,41,46,51,56,61,13,16,21,26,36,41,46,51,56,61,13,16,21,26,36,41,46,51,56,61,13,16,21,26,36,41,46,51,56,61,13,16,21,26,36,41,46,51,56,61,13,16,21,26,36,41,46,51,56,61,5,13,16,21,26,36,41,46,51,56,61,13,16,21,26,36,41,46,51,56,61,13,16,21,26,36,41,46,51,56,61,13,16,21,26,36,41,46,51,56,61,13,16,21,26,36,41,46,51,56,61,5,13,16,21,26,36,41,46,51,56,61,9,13,16,21,26,36,41,46,51,56,61,9,13,16,21,26,36,41,46,51,56,61,9,13,16,21,26,36,41,46,51,56,61,9,13,16,21,26,36,41,46,51,56,61,5,13,16,21,26,36,41,46,51,56,61,13,16,21,26,36,41,46,51,56,61,13,16,21,26,36,41,46,51,56,61,5,16,21,26,36,41,46,51,56,61,9,13,16,21,26,36,41,46,51,56,61,9,13,16,21,26,36,41,46,51,56,61,16,21,26,36,41,46,51,56,61,3,16,21,26,36,41,46,51,56,61,3,9,13,16,21,26,36,41,46,51,56,61,9,13,16,21,26,36,41,46,51,56,61,9,13,16,21,26,36,41,46,51,56,61,9,13,16,21,26,36,41,46,51,56,61,5,9,13,16,21,26,36,41,46,51,56,61,3,5,16,21,26,36,41,46,51,56,61,3,null,null,null,{"$f":"COUNTIF($AY$2:$OG$2,OK1)-$OS$4","v":13},{"$f":"COUNTIF($AY$2:$OG$2,OL1)-$OS$4","v":13},13,13,13,13,13,13,null,null,{"$f":"COUNTIF($AY$2:$OG$2,OU1)-$OI$4","v":20},{"$f":"COUNTIF($AY$2:$OG$2,OV1)-$OI$4","v":20},20,20,20,20,20,20,{"$f":"OJ4+OT4","v":33}]
[null,null,null,null,null,null,null,null,null,null,null,null,null,null,null,null,null,null,null,null,0,99,null,1,3,null,2,4,null,-1,5,null,-2,6,null,-3,7,null,-4,8,null,-5,9,null,-6,10,null,null,null,null,null,99,3,4,5,6,7,8,9,10,null,99,3,4,5,6,7,8,9,10,null,99,3,4,5,6,7,8,9,10,null,99,3,4,5,6,7,8,9,10,null,99,3,4,5,6,7,8,9,10,null,0,1,2,-1,-2,-3,-4,-5,-6,null,99,3,4,5,6,7,8,9,10,null,0,1,2,-1,-2,-3,-4,-5,-6,null,0,1,2,-1,-2,-3,-4,-5,-6,null,null,99,3,4,5,6,7,8,9,10,null,99,3,4,5,6,7,8,9,10,null,99,3,4,5,6,7,8,9,10,null,99,3,4,5,6,7,8,9,10,null,99,3,4,5,6,7,8,9,10,null,null,99,3,4,5,6,7,8,9,10,null,null,99,3,4,5,6,7,8,9,10,null,null,99,3,4,5,6,7,8,9,10,null,null,99,3,4,5,6,7,8,9,10,null,null,99,3,4,5,6,7,8,9,10,null,null,99,3,4,5,6,7,8,9,10,null,99,3,4,5,6,7,8,9,10,null,99,3,4,5,6,7,8,9,10,null,99,3,4,5,6,7,8,9,10,null,null,0,1,2,-1,-2,-3,-4,-5,-6,null,null,0,1,2,-1,-2,-3,-4,-5,-6,0,1,2,-1,-2,-3,-4,-5,-6,null,0,1,2,-1,-2,-3,-4,-5,-6,null,null,null,0,1,2,-1,-2,-3,-4,-5,-6,null,null,0,1,2,-1,-2,-3,-4,-5,-6,null,null,0,1,2,-1,-2,-3,-4,-5,-6,null,null,0,1,2,-1,-2,-3,-4,-5,-6,null,null,null,0,1,2,-1,-2,-3,-4,-5,-6,null,null,0,1,2,-1,-2,-3,-4,-5,-6,null,null,"A",0,1,2,-1,-2,-3,-4,-5,-6,"B",99,3,4,5,6,7,8,9,10,"合計"]
[null,null,null,null,null,null,null,null,null,null,null,null,null,null,null,null,null,null,null,null,null,null,null,null,null,null,null,null,null,null,null,null,null,null,null,null,null,null,null,null,null,null,null,null,null,null,null,null,null,null,13,13,{"$f":"AZ4","v":13},{"$f":"BA4","v":13},"13a","13a","13a","13a","13a","13a",{"$f":"AY4+1","v":14},{"$f":"AZ4+1","v":14},{"$f":"BJ4","v":14},{"$f":"BK4","v":14},"14a","14a","14a","14a","14a","14a",15,15,{"$f":"BT4","v":15},{"$f":"BU4","v":15},"15a","15a","15a","15a","15a","15a",16,16,{"$f":"CD4","v":16},{"$f":"CE4","v":16},"16a","16a","16a","16a","16a","16a",17,17,{"$f":"CN4","v":17},{"$f":"CO4","v":17},17,17,17,17,17,17,18,18,18,18,{"$f":"CX4","v":18},{"$f":"DA4","v":18},18,18,18,18,19,19,{"$f":"DH4","v":19},{"$f":"DI4","v":19},19,19,19,19,19,19,20,20,{"$f":"DR4","v":20},20,20,20,20,20,20,20,{"$f":"DQ4+1","v":21},21,{"$f":"EB4","v":21},{"$f":"EC4","v":21},21,21,21,21,21,21,"21a",{"$f":"EA4+1","v":22},{"$f":"EL4","v":22},{"$f":"EM4","v":22},{"$f":"EN4","v":22},{"$f":"EM4","v":22},22,22,22,22,22,{"$f":"EL4+1","v":23},{"$f":"EV4","v":23},{"$f":"EW4","v":23},{"$f":"EX4","v":23},{"$f":"EW4","v":23},23,23,23,23,23,{"$f":"EV4+1","v":24},{"$f":"FF4","v":24},{"$f":"FG4","v":24},{"$f":"FH4","v":24},{"$f":"FI4","v":24},{"$f":"FJ4","v":24},24,24,24,24,{"$f":"FF4+1","v":25},{"$f":"FP4","v":25},{"$f":"FQ4","v":25},{"$f":"FR4","v":25},{"$f":"FQ4","v":25},25,25,25,25,25,{"$f":"FP4+1","v":26},{"$f":"FZ4","v":26},{"$f":"GA4","v":26},{"$f":"GB4","v":26},{"$f":"GA4","v":26},26,26,26,26,26,{"$f":"GD4&\"a\"","v":"26a"},{"$f":"GA4+1","v":27},{"$f":"GK4","v":27},{"$f":"GL4","v":27},{"$f":"GM4","v":27},{"$f":"GL4","v":27},27,27,27,27,27,{"$f":"GK4+1","v":28},{"$f":"GU4","v":28},{"$f":"GV4","v":28},28,28,28,28,28,28,28,28,{"$f":"GU4+1","v":29},{"$f":"HF4","v":29},29,29,29,29,29,29,29,29,29,{"$f":"HF4+1","v":30},{"$f":"HQ4","v":30},{"$f":"HR4","v":30},{"$f":"HS4","v":30},30,30,30,30,30,30,30,{"$f":"HQ4+1","v":31},{"$f":"IB4","v":31},{"$f":"IC4","v":31},{"$f":"ID4","v":31},31,31,31,31,31,31,31,{"$f":"IG4&\"a\"","v":"31a"},{"$f":"IB4+1","v":32},{"$f":"IN4","v":32},{"$f":"IO4","v":32},{"$f":"IP4","v":32},{"$f":"IO4","v":32},32,32,32,32,32,{"$f":"IN4+1","v":33},{"$f":"IX4","v":33},33,33,33,33,33,33,33,33,{"$f":"IX4+1","v":34},{"$f":"IY4+1","v":34},{"$f":"JI4","v":34},{"$f":"JJ4","v":34},{"$f":"JB4+1","v":34},34,34,34,34,34,35,35,{"$f":"JS4","v":35},{"$f":"JT4","v":35},{"$f":"JL4+1","v":35},35,35,35,35,35,36,{"$f":"KB4","v":36},36,36,36,36,36,36,36,36,36,{"$f":"KB4+1","v":37},{"$f":"KC4+1","v":37},{"$f":"KD4+1","v":37},{"$f":"KO4","v":37},{"$f":"KP4","v":37},{"$f":"KG4+1","v":37},37,37,37,37,37,38,{"$f":"KX4","v":38},{"$f":"KY4","v":38},{"$f":"KN4+1","v":38},{"$f":"KR4+1","v":38},{"$f":"KS4+1","v":38},{"$f":"KT4+1","v":38},{"$f":"KU4+1","v":38},{"$f":"KV4+1","v":38},{"$f":"LA4&\"a\"","v":"38a"},{"$f":"KX4+1","v":39},{"$f":"LH4","v":39},{"$f":"LI4","v":39},{"$f":"LA4+1","v":39},39,39,39,39,39,{"$f":"LK4&\"a\"","v":"39a"},{"$f":"LH4+1","v":40},{"$f":"LR4","v":40},{"$f":"LS4","v":40},40,40,40,40,40,40,40,40,{"$f":"LR4+1","v":41},{"$f":"MC4","v":41},41,41,41,41,41,41,41,41,41,{"$f":"MC4+1","v":42},{"$f":"MN4","v":42},42,42,42,42,42,42,42,42,42,{"$f":"MN4+1","v":43},{"$f":"MY4","v":43},{"$f":"MZ4","v":43},{"$f":"NA4","v":43},43,43,43,43,43,43,43,{"$f":"MY4+1","v":44},{"$f":"MZ4+1","v":44},{"$f":"NJ4","v":44},{"$f":"NK4","v":44},{"$f":"NM4","v":44},{"$f":"NN4","v":44},{"$f":"NL4","v":44},{"$f":"NM4","v":44},44,44,44,44,{"$f":"NP4&\"a\"","v":"44a"},{"$f":"NL4+1","v":45},{"$f":"NJ4+1","v":45},{"$f":"NX4","v":45},45,45,45,45,45,45,45,{"$f":"OA4&\"a\"","v":"45a"},null,{"$f":"OJ4","v":13},{"$f":"COUNTIF($AZ$3:$OG$3,OJ3)","v":13},13,13,13,13,13,13,13,13,{"$f":"OT4","v":20},{"$f":"COUNTIF($AZ$3:$OG$3,OT3)","v":20},20,20,20,20,20,20,20,20,{"$f":"COUNTA(AY5:OG5)","v":33}]
[null,null,null,null,null,null,null,null,null,null,null,null,null,null,null,null,null,null,null,null,null,null,null,null,null,null,null,null,null,null,null,null,null,null,null,null,null,null,null,null,null,null,null,null,null,null,null,null,null,null,{"$f":"タクシー!E165","v":" ＵＤタクシー（レベル1又は2）の導入"},null,null,null,null,null,null,null,null,null,{"$f":"タクシー!E167","v":" ＵＤタクシー（レベル準1）の導入"},null,null,null,null,null,null,null,null,null,{"$f":"VLOOKUP(BS4,タクシー!$C:$Z,3,0)","v":"ジャンボタクシーの導入"},null,null,null,null,null,null,null,null,null,{"$f":"VLOOKUP(CC4,タクシー!$C:$Z,3,0)","v":"訪日外国人旅行者の富裕層向けタクシーの導入\n（訪日外国人富裕層の送迎用として通常より広い車内空間の確保や車内空間をVIP仕様にする等の車両）"},null,null,null,null,null,null,null,null,null,{"$f":"VLOOKUP(CM4,タクシー!$C:$Z,3,0)","v":"配車アプリ"},null,null,null,null,null,null,null,null,null,{"$f":"VLOOKUP(CW4,タクシー!$C:$Z,3,0)","v":"乗務日報自動作成ソフト"},null,null,null,null,null,null,null,null,null,{"$f":"VLOOKUP(DG4,タクシー!$C:$Z,3,0)","v":"配車システム"},null,null,null,null,null,null,null,null,null,{"$f":"VLOOKUP(DQ4,タクシー!$C:$Z,3,0)","v":"輸送実績報告書等帳票自動作成システム"},null,null,null,null,null,null,null,null,null,{"$f":"VLOOKUP(EA4,タクシー!$C:$Z,3,0)","v":"その他"},null,null,null,null,null,null,null,null,null,null,{"$f":"VLOOKUP(EL4,タクシー!$C:$Z,3,0)","v":"多言語案内用タブレット"},null,null,null,null,null,null,null,null,null,{"$f":"VLOOKUP(EV4,タクシー!$C:$Z,3,0)","v":"多言語翻訳システム機器"},null,null,null,null,null,null,null,null,null,{"$f":"VLOOKUP(FF4,タクシー!$C:$Z,3,0)","v":"ホームページの多言語表記"},null,null,null,null,null,null,null,null,null,{"$f":"VLOOKUP(FP4,タクシー!$C:$Z,3,0)","v":"多言語研修の実施"},null,null,null,null,null,null,null,null,null,{"$f":"VLOOKUP(FZ4,タクシー!$C:$Z,3,0)","v":"その他"},null,null,null,null,null,null,null,null,null,null,{"$f":"VLOOKUP(GK4,タクシー!$C:$Z,3,0)","v":" 無料公衆無線ＬＡＮ　（無料Ｗｉ-Ｆｉ）"},null,null,null,null,null,null,null,null,null,{"$f":"VLOOKUP(GU4,タクシー!$C:$Z,3,0)","v":"クレジット決済機器"},null,null,null,null,null,null,null,null,null,null,{"$f":"VLOOKUP(HF4,タクシー!$C:$Z,3,0)","v":"交通系ＩＣ決済機器"},null,null,null,null,null,null,null,null,null,null,{"$f":"VLOOKUP(HQ4,タクシー!$C:$Z,3,0)","v":"二次元コード決済機器"},null,null,null,null,null,null,null,null,null,null,{"$f":"VLOOKUP(IB4,タクシー!$C:$Z,3,0)","v":"その他"},null,null,null,null,null,null,null,null,null,null,null,{"$f":"VLOOKUP(IN4,タクシー!$C:$Z,3,0)","v":"情報端末への電源供給機器"},null,null,null,null,null,null,null,null,null,{"$f":"VLOOKUP(IX4,タクシー!$C:$Z,3,0)","v":"非常用電源装置"},null,null,null,null,null,null,null,null,null,{"$f":"VLOOKUP(JH4,タクシー!$C:$Z,3,0)","v":"その他付随機器"},null,null,null,null,null,null,null,null,null,"移動円滑化",null,null,null,null,null,null,null,null,null,{"$f":"VLOOKUP(KB4,タクシー!$C:$Z,3,0)","v":"二種免許取得のための教習"},null,null,null,null,null,null,null,null,null,null,{"$f":"VLOOKUP(KM4,タクシー!$C:$Z,3,0)","v":"二種免許取得のための受験資格特例教習"},null,null,null,null,null,null,null,null,null,null,{"$f":"VLOOKUP(KX4,タクシー!$C:$Z,3,0)","v":"人材確保イベントの参加・開催"},null,null,null,null,null,null,null,null,null,{"$f":"VLOOKUP(LH4,タクシー!$C:$Z,3,0)","v":"人材確保のためのPR"},null,null,null,null,null,null,null,null,null,{"$f":"VLOOKUP(LR4,タクシー!$C:$Z,3,0)","v":"UD研修"},null,null,null,null,null,null,null,null,null,null,{"$f":"VLOOKUP(MC4,タクシー!$C:$Z,3,0)","v":"観光ドライバー認定講習"},null,null,null,null,null,null,null,null,null,null,{"$f":"VLOOKUP(MN4,タクシー!$C:$Z,3,0)","v":"子育てタクシードライバー研修"},null,null,null,null,null,null,null,null,null,null,{"$f":"VLOOKUP(MY4,タクシー!$C:$Z,3,0)","v":"運転手実技講習"},null,null,null,null,null,null,null,null,null,null,"その他外部研修",null,null,null,null,null,null,null,null,null,null,null,null,"自社研修"]
["整理番号","事業者フラグ","番号","運輸局","支局","事業者名","住所","代表者氏名","ご担当者名","ご連絡先(ＴＥＬ)","ご連絡先(E-mail アドレス)","銀行名","金融機関コード","支店名","支店番号","口座の種類","口座番号","フリガナ","口座名義人","記載内容に誤りが無いこと","A：補助対象経費計","B：補助対象経費計","A＋B：補助対象経費計","A：要望額計","B：要望額計","A＋B：要望額計","A：内示額計","B：内示額計","A＋B：内示額計","様式１\nA：交付申請額計","様式１\nB：交付申請額計","様式１\nA+B：交付申請額計","様式２\nA：交付決定額計","様式２\nB：交付決定額計","様式２\nA+B：交付決定額計","様式３\nA：交付決定変更申請額計\n","様式３\nB：交付決定変更申請額計\n","様式３\nA+B：交付決定変更申請額計\n","様式４\nA：交付決定変更額計\n","様式４\nB：交付決定変更額計\n","様式４\nA+B：交付決定変更額計\n","様式６\nA：進捗状況額計\n","様式６\nB：進捗状況額計\n","様式６\nA+B：進捗状況額\n","様式７\nA：完了実績額計\n","様式７\nB：完了実績額計\n","様式７\nA+B：完了実績額計\n","運転者数","車両数","許可の種類","申請台数","補助対象経費（税抜）","要望額","内示額","交付申請額","交付決定額","交付決定変更申請額","交付決定変更額","進捗状況額","完了実績額","申請台数","補助対象経費（税抜）","要望額","内示額","交付申請額","交付決定額","交付決定変更申請額","交付決定変更額","進捗状況額","完了実績額","申請台数","補助対象経費（税抜）","要望額","内示額","交付申請額","交付決定額","交付決定変更申請額","交付決定変更額","進捗状況額","完了実績額","申請台数","補助対象経費（税抜）","要望額","内示額","交付申請額","交付決定額","交付決定変更申請額","交付決定変更額","進捗状況額","完了実績額","申請台数","補助対象経費（税抜）","要望額","内示額","交付申請額","交付決定額","交付決定変更申請額","交付決定変更額","進捗状況額","完了実績額","申請台数","補助対象経費（税抜）","要望額","内示額","交付申請額","交付決定額","交付決定変更申請額","交付決定変更額","進捗状況額","完了実績額","申請台数","補助対象経費（税抜）","要望額","内示額","交付申請額","交付決定額","交付決定変更申請額","交付決定変更額","進捗状況額","完了実績額","申請台数","補助対象経費（税抜）","要望額","内示額","交付申請額","交付決定額","交付決定変更申請額","交付決定変更額","進捗状況額","完了実績額","申請台数","補助対象経費（税抜）","要望額","内示額","交付申請額","交付決定額","交付決定変更申請額","交付決定変更額","進捗状況額","完了実績額","事業概要","申請台数","補助対象経費（税抜）","要望額","内示額","交付申請額","交付決定額","交付決定変更申請額","交付決定変更額","進捗状況額","完了実績額","申請台数","補助対象経費（税抜）","要望額","内示額","交付申請額","交付決定額","交付決定変更申請額","交付決定変更額","進捗状況額","完了実績額","申請台数","補助対象経費（税抜）","要望額","内示額","交付申請額","交付決定額","交付決定変更申請額","交付決定変更額","進捗状況額","完了実績額","申請台数","補助対象経費（税抜）","要望額","内示額","交付申請額","交付決定額","交付決定変更申請額","交付決定変更額","進捗状況額","完了実績額","申請台数","補助対象経費（税抜）","要望額","内示額","交付申請額","交付決定額","交付決定変更申請額","交付決定変更額","進捗状況額","完了実績額","事業概要","申請台数","補助対象経費（税抜）","要望額","内示額","交付申請額","交付決定額","交付決定変更申請額","交付決定変更額","進捗状況額","完了実績額","着手時期","申請台数","補助対象経費（税抜）","要望額","内示額","交付申請額","交付決定額","交付決定変更申請額","交付決定変更額","進捗状況額","完了実績額","着手時期","申請台数","補助対象経費（税抜）","要望額","内示額","交付申請額","交付決定額","交付決定変更申請額","交付決定変更額","進捗状況額","完了実績額","着手時期","申請台数","補助対象経費（税抜）","要望額","内示額","交付申請額","交付決定額","交付決定変更申請額","交付決定変更額","進捗状況額","完了実績額","着手時期","申請台数","補助対象経費（税抜）","要望額","内示額","交付申請額","交付決定額","交付決定変更申請額","交付決定変更額","進捗状況額","完了実績額","事業概要","申請台数","補助対象経費（税抜）","要望額","内示額","交付申請額","交付決定額","交付決定変更申請額","交付決定変更額","進捗状況額","完了実績額","申請台数","補助対象経費（税抜）","要望額","内示額","交付申請額","交付決定額","交付決定変更申請額","交付決定変更額","進捗状況額","完了実績額","申請台数","補助対象経費（税抜）","要望額","内示額","交付申請額","交付決定額","交付決定変更申請額","交付決定変更額","進捗状況額","完了実績額","事業概要","補助対象経費（税抜）","要望額","内示額","交付申請額","交付決定額","交付決定変更申請額","交付決定変更額","進捗状況額","完了実績額","１人あたり平均経費","申請人数","補助対象経費総額（税抜）","要望額","内示額","交付申請額","交付決定額","交付決定変更申請額","交付決定変更額","進捗状況額","完了実績額","１人あたり平均経費","申請人数","補助対象経費総額（税抜）","要望額","内示額","交付申請額","交付決定額","交付決定変更申請額","交付決定変更額","進捗状況額","完了実績額","補助対象経費（税抜）","要望額","内示額","交付申請額","交付決定額","交付決定変更申請額","交付決定変更額","進捗状況額","完了実績額","内容","補助対象経費（税抜）","要望額","内示額","交付申請額","交付決定額","交付決定変更申請額","交付決定変更額","進捗状況額","完了実績額","内容","１人あたり平均経費","申請人数","補助対象経費総額（税抜）","要望額","内示額","交付申請額","交付決定額","交付決定変更申請額","交付決定変更額","進捗状況額","完了実績額","１人あたり平均経費","申請人数","補助対象経費総額（税抜）","要望額","内示額","交付申請額","交付決定額","交付決定変更申請額","交付決定変更額","進捗状況額","完了実績額","１人あたり平均経費","申請人数","補助対象経費総額（税抜）","要望額","内示額","交付申請額","交付決定額","交付決定変更申請額","交付決定変更額","進捗状況額","完了実績額","１人あたり平均経費","申請人数","補助対象経費総額（税抜）","要望額","内示額","交付申請額","交付決定額","交付決定変更申請額","交付決定変更額","進捗状況額","完了実績額","申請項目","１人あたり平均経費","申請人数","補助対象経費総額（税抜）","要望額","内示額","交付申請額","交付決定額","交付決定変更申請額","交付決定変更額","進捗状況額","完了実績額","事業の具体的内容を\n以下に記入してください。","申請項目","補助対象経費（税抜）","要望額","内示額","交付申請額","交付決定額","交付決定変更申請額","交付決定変更額","進捗状況額","完了実績額","事業の具体的内容を\n以下に記入してください。"]
[null,null,null,null,null,{"$f":"IF(OR(EXACT(集計用!F7,\"事業概要：\"), EXACT(集計用!F7,\"ー\"), EXACT(集計用!F7,0), NOT(ISNUMBER(VALUE(集計用!F7)))), 0, IF(集計用!F7=\"\", 0, F12))","v":0},{"$f":"IF(OR(EXACT(集計用!G7,\"事業概要：\"), EXACT(集計用!G7,\"ー\"), EXACT(集計用!G7,0), NOT(ISNUMBER(VALUE(集計用!G7)))), 0, IF(集計用!G7=\"\", 0, G12))","v":0},{"$f":"IF(OR(EXACT(集計用!H7,\"事業概要：\"), EXACT(集計用!H7,\"ー\"), EXACT(集計用!H7,0), NOT(ISNUMBER(VALUE(集計用!H7)))), 0, IF(集計用!H7=\"\", 0, H12))","v":0},{"$f":"IF(OR(EXACT(集計用!I7,\"事業概要：\"), EXACT(集計用!I7,\"ー\"), EXACT(集計用!I7,0), NOT(ISNUMBER(VALUE(集計用!I7)))), 0, IF(集計用!I7=\"\", 0, I12))","v":0},{"$f":"IF(OR(EXACT(集計用!J7,\"事業概要：\"), EXACT(集計用!J7,\"ー\"), ISNUMBER(VALUE(集計用!J7))), 0, IF(集計用!J7=\"\", 0, J12))","v":0},{"$f":"IF(OR(EXACT(集計用!K7,\"事業概要：\"), EXACT(集計用!K7,\"ー\"), EXACT(集計用!K7,0), NOT(ISNUMBER(VALUE(集計用!K7)))), 0, IF(集計用!K7=\"\", 0, K12))","v":0},{"$f":"IF(OR(EXACT(集計用!L7,\"事業概要：\"), EXACT(集計用!L7,\"ー\"), EXACT(集計用!L7,0), NOT(ISNUMBER(VALUE(集計用!L7)))), 0, IF(集計用!L7=\"\", 0, L12))","v":0},{"$f":"IF(OR(EXACT(集計用!M7,\"事業概要：\"), EXACT(集計用!M7,\"ー\"), ISNUMBER(VALUE(集計用!M7))), 0, IF(集計用!M7=\"\", 0, M12))","v":0},{"$f":"IF(OR(EXACT(集計用!N7,\"事業概要：\"), EXACT(集計用!N7,\"ー\"), EXACT(集計用!N7,0), NOT(ISNUMBER(VALUE(集計用!N7)))), 0, IF(集計用!N7=\"\", 0, N12))","v":0},{"$f":"IF(OR(EXACT(集計用!O7,\"事業概要：\"), EXACT(集計用!O7,\"ー\"), ISNUMBER(VALUE(集計用!O7))), 0, IF(集計用!O7=\"\", 0, O12))","v":0},{"$f":"IF(OR(EXACT(集計用!P7,\"事業概要：\"), EXACT(集計用!P7,\"ー\"), EXACT(集計用!P7,0), NOT(ISNUMBER(VALUE(集計用!P7)))), 0, IF(集計用!P7=\"\", 0, P12))","v":0},{"$f":"IF(OR(EXACT(集計用!Q7,\"事業概要：\"), EXACT(集計用!Q7,\"ー\"), ISNUMBER(VALUE(集計用!Q7))), 0, IF(集計用!Q7=\"\", 0, Q12))","v":0},{"$f":"IF(COUNT(INDEX(FIND(補助!I4:I93,集計用!R7),))=LEN(集計用!R7),0,3)","v":0},{"$f":"IF(OR(EXACT(集計用!S7,\"事業概要：\"), EXACT(集計用!S7,\"ー\"), EXACT(集計用!S7,0), NOT(ISNUMBER(VALUE(集計用!S7)))), 0, IF(集計用!S7=\"\", 0, S12))","v":0},{"$f":"IF(OR(EXACT(集計用!T7,\"事業概要：\"), EXACT(集計用!T7,\"ー\"), ISNUMBER(VALUE(集計用!T7))), 0, IF(集計用!T7=\"\", 0, T12))","v":0},{"$f":"IF(OR(EXACT(集計用!X7,\"事業概要：\"), EXACT(集計用!X7,\"ー\"), ISNUMBER(VALUE(集計用!X7))), 0, IF(集計用!X7=\"\", 0, U12))","v":0},{"$f":"IF(OR(EXACT(集計用!Y7,\"事業概要：\"), EXACT(集計用!Y7,\"ー\"), ISNUMBER(VALUE(集計用!Y7))), 0, IF(集計用!Y7=\"\", 0, V12))","v":0},{"$f":"IF(OR(EXACT(集計用!Z7,\"事業概要：\"), EXACT(集計用!Z7,\"ー\"), ISNUMBER(VALUE(集計用!Z7))), 0, IF(集計用!Z7=\"\", 0, W12))","v":0},{"$f":"IF(OR(EXACT(集計用!AA7,\"事業概要：\"), EXACT(集計用!AA7,\"ー\"), ISNUMBER(VALUE(集計用!AA7))), 0, IF(集計用!AA7=\"\", 0, X12))","v":0},{"$f":"IF(OR(EXACT(集計用!AB7,\"事業概要：\"), EXACT(集計用!AB7,\"ー\"), ISNUMBER(VALUE(集計用!AB7))), 0, IF(集計用!AB7=\"\", 0, Y12))","v":0},{"$f":"IF(OR(EXACT(集計用!AC7,\"事業概要：\"), EXACT(集計用!AC7,\"ー\"), ISNUMBER(VALUE(集計用!AC7))), 0, IF(集計用!AC7=\"\", 0, Z12))","v":0},{"$f":"IF(OR(EXACT(集計用!AD7,\"事業概要：\"), EXACT(集計用!AD7,\"ー\"), ISNUMBER(VALUE(集計用!AD7))), 0, IF(集計用!AD7=\"\", 0, AA12))","v":0},{"$f":"IF(OR(EXACT(集計用!AE7,\"事業概要：\"), EXACT(集計用!AE7,\"ー\"), ISNUMBER(VALUE(集計用!AE7))), 0, IF(集計用!AE7=\"\", 0, AB12))","v":0},{"$f":"IF(OR(EXACT(集計用!AF7,\"事業概要：\"), EXACT(集計用!AF7,\"ー\"), ISNUMBER(VALUE(集計用!AF7))), 0, IF(集計用!AF7=\"\", 0, AC12))","v":0},{"$f":"IF(OR(EXACT(集計用!AG7,\"事業概要：\"), EXACT(集計用!AG7,\"ー\"), ISNUMBER(VALUE(集計用!AG7))), 0, IF(集計用!AG7=\"\", 0, AD12))","v":0},{"$f":"IF(OR(EXACT(集計用!AH7,\"事業概要：\"), EXACT(集計用!AH7,\"ー\"), ISNUMBER(VALUE(集計用!AH7))), 0, IF(集計用!AH7=\"\", 0, AE12))","v":0},{"$f":"IF(OR(EXACT(集計用!AI7,\"事業概要：\"), EXACT(集計用!AI7,\"ー\"), ISNUMBER(VALUE(集計用!AI7))), 0, IF(集計用!AI7=\"\", 0, AF12))","v":0},{"$f":"IF(OR(EXACT(集計用!AJ7,\"事業概要：\"), EXACT(集計用!AJ7,\"ー\"), ISNUMBER(VALUE(集計用!AJ7))), 0, IF(集計用!AJ7=\"\", 0, AG12))","v":0},{"$f":"IF(OR(EXACT(集計用!AK7,\"事業概要：\"), EXACT(集計用!AK7,\"ー\"), ISNUMBER(VALUE(集計用!AK7))), 0, IF(集計用!AK7=\"\", 0, AH12))","v":0},{"$f":"IF(OR(EXACT(集計用!AL7,\"事業概要：\"), EXACT(集計用!AL7,\"ー\"), ISNUMBER(VALUE(集計用!AL7))), 0, IF(集計用!AL7=\"\", 0, AI12))","v":0},{"$f":"IF(OR(EXACT(集計用!AM7,\"事業概要：\"), EXACT(集計用!AM7,\"ー\"), ISNUMBER(VALUE(集計用!AM7))), 0, IF(集計用!AM7=\"\", 0, AJ12))","v":0},{"$f":"IF(OR(EXACT(集計用!AN7,\"事業概要：\"), EXACT(集計用!AN7,\"ー\"), ISNUMBER(VALUE(集計用!AN7))), 0, IF(集計用!AN7=\"\", 0, AK12))","v":0},{"$f":"IF(OR(EXACT(集計用!AO7,\"事業概要：\"), EXACT(集計用!AO7,\"ー\"), ISNUMBER(VALUE(集計用!AO7))), 0, IF(集計用!AO7=\"\", 0, AL12))","v":0},{"$f":"IF(OR(EXACT(集計用!AP7,\"事業概要：\"), EXACT(集計用!AP7,\"ー\"), ISNUMBER(VALUE(集計用!AP7))), 0, IF(集計用!AP7=\"\", 0, AM12))","v":0},{"$f":"IF(OR(EXACT(集計用!AQ7,\"事業概要：\"), EXACT(集計用!AQ7,\"ー\"), ISNUMBER(VALUE(集計用!AQ7))), 0, IF(集計用!AQ7=\"\", 0, AN12))","v":0},{"$f":"IF(OR(EXACT(集計用!AR7,\"事業概要：\"), EXACT(集計用!AR7,\"ー\"), ISNUMBER(VALUE(集計用!AR7))), 0, IF(集計用!AR7=\"\", 0, AO12))","v":0},{"$f":"IF(OR(EXACT(集計用!AS7,\"事業概要：\"), EXACT(集計用!AS7,\"ー\"), ISNUMBER(VALUE(集計用!AS7))), 0, IF(集計用!AS7=\"\", 0, AP12))","v":0},{"$f":"IF(OR(EXACT(集計用!AT7,\"事業概要：\"), EXACT(集計用!AT7,\"ー\"), ISNUMBER(VALUE(集計用!AT7))), 0, IF(集計用!AT7=\"\", 0, AQ12))","v":0},{"$f":"IF(OR(EXACT(集計用!AU7,\"事業概要：\"), EXACT(集計用!AU7,\"ー\"), ISNUMBER(VALUE(集計用!AU7))), 0, IF(集計用!AU7=\"\", 0, AR12))","v":0},{"$f":"IF(OR(EXACT(集計用!AV7,\"事業概要：\"), EXACT(集計用!AV7,\"ー\"), ISNUMBER(VALUE(集計用!AV7))), 0, IF(集計用!AV7=\"\", 0, AS12))","v":0},{"$f":"IF(OR(EXACT(集計用!AW7,\"事業概要：\"), EXACT(集計用!AW7,\"ー\"), ISNUMBER(VALUE(集計用!AW7))), 0, IF(集計用!AW7=\"\", 0, AT12))","v":0},{"$f":"IF(OR(EXACT(集計用!AX7,\"事業概要：\"), EXACT(集計用!AX7,\"ー\"), ISNUMBER(VALUE(集計用!AX7))), 0, IF(集計用!AX7=\"\", 0, AU12))","v":0},{"$f":"IF(OR(EXACT(集計用!AY7,\"事業概要：\"), EXACT(集計用!AY7,\"ー\"), ISNUMBER(VALUE(集計用!AY7))), 0, IF(集計用!AY7=\"\", 0, AV12))","v":0},{"$f":"IF(OR(EXACT(集計用!AZ7,\"事業概要：\"), EXACT(集計用!AZ7,\"ー\"), ISNUMBER(VALUE(集計用!AZ7))), 0, IF(集計用!AZ7=\"\", 0, AW12))","v":0},{"$f":"IF(OR(EXACT(集計用!BA7,\"事業概要：\"), EXACT(集計用!BA7,\"ー\"), EXACT(集計用!BA7,0), NOT(ISNUMBER(VALUE(集計用!BA7)))), 0, IF(集計用!BA7=\"\", 0, AX12))","v":0},{"$f":"IF(OR(EXACT(集計用!BB7,\"事業概要：\"), EXACT(集計用!BB7,\"ー\"), ISNUMBER(VALUE(集計用!BB7))), 0, IF(集計用!BB7=\"\", 0, AY12))","v":0},{"$f":"IF(OR(EXACT(集計用!BC7,\"事業概要：\"), EXACT(集計用!BC7,\"ー\"), ISNUMBER(VALUE(集計用!BC7))), 0, IF(集計用!BC7=\"\", 0, AZ12))","v":0},{"$f":"IF(OR(EXACT(集計用!BD7,\"事業概要：\"), EXACT(集計用!BD7,\"ー\"), ISNUMBER(VALUE(集計用!BD7))), 0, IF(集計用!BD7=\"\", 0, BA12))","v":0},{"$f":"IF(OR(EXACT(集計用!BE7,\"事業概要：\"), EXACT(集計用!BE7,\"ー\"), ISNUMBER(VALUE(集計用!BE7))), 0, IF(集計用!BE7=\"\", 0, BB12))","v":0},{"$f":"IF(OR(EXACT(集計用!BF7,\"事業概要：\"), EXACT(集計用!BF7,\"ー\"), ISNUMBER(VALUE(集計用!BF7))), 0, IF(集計用!BF7=\"\", 0, BC12))","v":0},{"$f":"IF(OR(EXACT(集計用!BG7,\"事業概要：\"), EXACT(集計用!BG7,\"ー\"), ISNUMBER(VALUE(集計用!BG7))), 0, IF(集計用!BG7=\"\", 0, BD12))","v":0},{"$f":"IF(OR(EXACT(集計用!BH7,\"事業概要：\"), EXACT(集計用!BH7,\"ー\"), ISNUMBER(VALUE(集計用!BH7))), 0, IF(集計用!BH7=\"\", 0, BE12))","v":0},{"$f":"IF(OR(EXACT(集計用!BI7,\"事業概要：\"), EXACT(集計用!BI7,\"ー\"), ISNUMBER(VALUE(集計用!BI7))), 0, IF(集計用!BI7=\"\", 0, BF12))","v":0},{"$f":"IF(OR(EXACT(集計用!BJ7,\"事業概要：\"), EXACT(集計用!BJ7,\"ー\"), ISNUMBER(VALUE(集計用!BJ7))), 0, IF(集計用!BJ7=\"\", 0, BG12))","v":0},{"$f":"IF(OR(EXACT(集計用!BK7,\"事業概要：\"), EXACT(集計用!BK7,\"ー\"), ISNUMBER(VALUE(集計用!BK7))), 0, IF(集計用!BK7=\"\", 0, BH12))","v":0},{"$f":"IF(OR(EXACT(集計用!BL7,\"事業概要：\"), EXACT(集計用!BL7,\"ー\"), ISNUMBER(VALUE(集計用!BL7))), 0, IF(集計用!BL7=\"\", 0, BI12))","v":0},{"$f":"IF(OR(EXACT(集計用!BM7,\"事業概要：\"), EXACT(集計用!BM7,\"ー\"), ISNUMBER(VALUE(集計用!BM7))), 0, IF(集計用!BM7=\"\", 0, BJ12))","v":0},{"$f":"IF(OR(EXACT(集計用!BN7,\"事業概要：\"), EXACT(集計用!BN7,\"ー\"), ISNUMBER(VALUE(集計用!BN7))), 0, IF(集計用!BN7=\"\", 0, BK12))","v":0},{"$f":"IF(OR(EXACT(集計用!BO7,\"事業概要：\"), EXACT(集計用!BO7,\"ー\"), ISNUMBER(VALUE(集計用!BO7))), 0, IF(集計用!BO7=\"\", 0, BL12))","v":0},{"$f":"IF(OR(EXACT(集計用!BP7,\"事業概要：\"), EXACT(集計用!BP7,\"ー\"), ISNUMBER(VALUE(集計用!BP7))), 0, IF(集計用!BP7=\"\", 0, BM12))","v":0},{"$f":"IF(OR(EXACT(集計用!BQ7,\"事業概要：\"), EXACT(集計用!BQ7,\"ー\"), ISNUMBER(VALUE(集計用!BQ7))), 0, IF(集計用!BQ7=\"\", 0, BN12))","v":0},{"$f":"IF(OR(EXACT(集計用!BR7,\"事業概要：\"), EXACT(集計用!BR7,\"ー\"), ISNUMBER(VALUE(集計用!BR7))), 0, IF(集計用!BR7=\"\", 0, BO12))","v":0},{"$f":"IF(OR(EXACT(集計用!BS7,\"事業概要：\"), EXACT(集計用!BS7,\"ー\"), ISNUMBER(VALUE(集計用!BS7))), 0, IF(集計用!BS7=\"\", 0, BP12))","v":0},{"$f":"IF(OR(EXACT(集計用!BT7,\"事業概要：\"), EXACT(集計用!BT7,\"ー\"), ISNUMBER(VALUE(集計用!BT7))), 0, IF(集計用!BT7=\"\", 0, BQ12))","v":0},{"$f":"IF(OR(EXACT(集計用!BU7,\"事業概要：\"), EXACT(集計用!BU7,\"ー\"), ISNUMBER(VALUE(集計用!BU7))), 0, IF(集計用!BU7=\"\", 0, BR12))","v":0},{"$f":"IF(OR(EXACT(集計用!BV7,\"事業概要：\"), EXACT(集計用!BV7,\"ー\"), ISNUMBER(VALUE(集計用!BV7))), 0, IF(集計用!BV7=\"\", 0, BS12))","v":0},{"$f":"IF(OR(EXACT(集計用!BW7,\"事業概要：\"), EXACT(集計用!BW7,\"ー\"), ISNUMBER(VALUE(集計用!BW7))), 0, IF(集計用!BW7=\"\", 0, BT12))","v":0},{"$f":"IF(OR(EXACT(集計用!BX7,\"事業概要：\"), EXACT(集計用!BX7,\"ー\"), ISNUMBER(VALUE(集計用!BX7))), 0, IF(集計用!BX7=\"\", 0, BU12))","v":0},{"$f":"IF(OR(EXACT(集計用!BY7,\"事業概要：\"), EXACT(集計用!BY7,\"ー\"), ISNUMBER(VALUE(集計用!BY7))), 0, IF(集計用!BY7=\"\", 0, BV12))","v":0},{"$f":"IF(OR(EXACT(集計用!BZ7,\"事業概要：\"), EXACT(集計用!BZ7,\"ー\"), ISNUMBER(VALUE(集計用!BZ7))), 0, IF(集計用!BZ7=\"\", 0, BW12))","v":0},{"$f":"IF(OR(EXACT(集計用!CA7,\"事業概要：\"), EXACT(集計用!CA7,\"ー\"), ISNUMBER(VALUE(集計用!CA7))), 0, IF(集計用!CA7=\"\", 0, BX12))","v":0},{"$f":"IF(OR(EXACT(集計用!CB7,\"事業概要：\"), EXACT(集計用!CB7,\"ー\"), ISNUMBER(VALUE(集計用!CB7))), 0, IF(集計用!CB7=\"\", 0, BY12))","v":0},{"$f":"IF(OR(EXACT(集計用!CC7,\"事業概要：\"), EXACT(集計用!CC7,\"ー\"), ISNUMBER(VALUE(集計用!CC7))), 0, IF(集計用!CC7=\"\", 0, BZ12))","v":0},{"$f":"IF(OR(EXACT(集計用!CD7,\"事業概要：\"), EXACT(集計用!CD7,\"ー\"), ISNUMBER(VALUE(集計用!CD7))), 0, IF(集計用!CD7=\"\", 0, CA12))","v":0},{"$f":"IF(OR(EXACT(集計用!CE7,\"事業概要：\"), EXACT(集計用!CE7,\"ー\"), ISNUMBER(VALUE(集計用!CE7))), 0, IF(集計用!CE7=\"\", 0, CB12))","v":0},{"$f":"IF(OR(EXACT(集計用!CF7,\"事業概要：\"), EXACT(集計用!CF7,\"ー\"), ISNUMBER(VALUE(集計用!CF7))), 0, IF(集計用!CF7=\"\", 0, CC12))","v":0},{"$f":"IF(OR(EXACT(集計用!CG7,\"事業概要：\"), EXACT(集計用!CG7,\"ー\"), ISNUMBER(VALUE(集計用!CG7))), 0, IF(集計用!CG7=\"\", 0, CD12))","v":0},{"$f":"IF(OR(EXACT(集計用!CH7,\"事業概要：\"), EXACT(集計用!CH7,\"ー\"), ISNUMBER(VALUE(集計用!CH7))), 0, IF(集計用!CH7=\"\", 0, CE12))","v":0},{"$f":"IF(OR(EXACT(集計用!CI7,\"事業概要：\"), EXACT(集計用!CI7,\"ー\"), ISNUMBER(VALUE(集計用!CI7))), 0, IF(集計用!CI7=\"\", 0, CF12))","v":0},{"$f":"IF(OR(EXACT(集計用!CJ7,\"事業概要：\"), EXACT(集計用!CJ7,\"ー\"), ISNUMBER(VALUE(集計用!CJ7))), 0, IF(集計用!CJ7=\"\", 0, CG12))","v":0},{"$f":"IF(OR(EXACT(集計用!CK7,\"事業概要：\"), EXACT(集計用!CK7,\"ー\"), ISNUMBER(VALUE(集計用!CK7))), 0, IF(集計用!CK7=\"\", 0, CH12))","v":0},{"$f":"IF(OR(EXACT(集計用!CL7,\"事業概要：\"), EXACT(集計用!CL7,\"ー\"), ISNUMBER(VALUE(集計用!CL7))), 0, IF(集計用!CL7=\"\", 0, CI12))","v":0},{"$f":"IF(OR(EXACT(集計用!CM7,\"事業概要：\"), EXACT(集計用!CM7,\"ー\"), ISNUMBER(VALUE(集計用!CM7))), 0, IF(集計用!CM7=\"\", 0, CJ12))","v":0},{"$f":"IF(OR(EXACT(集計用!CN7,\"事業概要：\"), EXACT(集計用!CN7,\"ー\"), ISNUMBER(VALUE(集計用!CN7))), 0, IF(集計用!CN7=\"\", 0, CK12))","v":0},{"$f":"IF(OR(EXACT(集計用!CO7,\"事業概要：\"), EXACT(集計用!CO7,\"ー\"), ISNUMBER(VALUE(集計用!CO7))), 0, IF(集計用!CO7=\"\", 0, CL12))","v":0},{"$f":"IF(OR(EXACT(集計用!CP7,\"事業概要：\"), EXACT(集計用!CP7,\"ー\"), ISNUMBER(VALUE(集計用!CP7))), 0, IF(集計用!CP7=\"\", 0, CM12))","v":0},{"$f":"IF(OR(EXACT(集計用!CQ7,\"事業概要：\"), EXACT(集計用!CQ7,\"ー\"), ISNUMBER(VALUE(集計用!CQ7))), 0, IF(集計用!CQ7=\"\", 0, CN12))","v":0},{"$f":"IF(OR(EXACT(集計用!CR7,\"事業概要：\"), EXACT(集計用!CR7,\"ー\"), ISNUMBER(VALUE(集計用!CR7))), 0, IF(集計用!CR7=\"\", 0, CO12))","v":0},{"$f":"IF(OR(EXACT(集計用!CS7,\"事業概要：\"), EXACT(集計用!CS7,\"ー\"), ISNUMBER(VALUE(集計用!CS7))), 0, IF(集計用!CS7=\"\", 0, CP12))","v":0},{"$f":"IF(OR(EXACT(集計用!CT7,\"事業概要：\"), EXACT(集計用!CT7,\"ー\"), ISNUMBER(VALUE(集計用!CT7))), 0, IF(集計用!CT7=\"\", 0, CQ12))","v":0},{"$f":"IF(OR(EXACT(集計用!CU7,\"事業概要：\"), EXACT(集計用!CU7,\"ー\"), ISNUMBER(VALUE(集計用!CU7))), 0, IF(集計用!CU7=\"\", 0, CR12))","v":0},{"$f":"IF(OR(EXACT(集計用!CV7,\"事業概要：\"), EXACT(集計用!CV7,\"ー\"), ISNUMBER(VALUE(集計用!CV7))), 0, IF(集計用!CV7=\"\", 0, CS12))","v":0},{"$f":"IF(OR(EXACT(集計用!CW7,\"事業概要：\"), EXACT(集計用!CW7,\"ー\"), ISNUMBER(VALUE(集計用!CW7))), 0, IF(集計用!CW7=\"\", 0, CT12))","v":0},{"$f":"IF(OR(EXACT(集計用!CX7,\"事業概要：\"), EXACT(集計用!CX7,\"ー\"), ISNUMBER(VALUE(集計用!CX7))), 0, IF(集計用!CX7=\"\", 0, CU12))","v":0},{"$f":"IF(OR(EXACT(集計用!CY7,\"事業概要：\"), EXACT(集計用!CY7,\"ー\"), ISNUMBER(VALUE(集計用!CY7))), 0, IF(集計用!CY7=\"\", 0, CV12))","v":0},{"$f":"IF(OR(EXACT(集計用!CZ7,\"事業概要：\"), EXACT(集計用!CZ7,\"ー\"), ISNUMBER(VALUE(集計用!CZ7))), 0, IF(集計用!CZ7=\"\", 0, CW12))","v":0},{"$f":"IF(OR(EXACT(集計用!DA7,\"事業概要：\"), EXACT(集計用!DA7,\"ー\"), ISNUMBER(VALUE(集計用!DA7))), 0, IF(集計用!DA7=\"\", 0, CX12))","v":0},{"$f":"IF(OR(EXACT(集計用!DB7,\"事業概要：\"), EXACT(集計用!DB7,\"ー\"), ISNUMBER(VALUE(集計用!DB7))), 0, IF(集計用!DB7=\"\", 0, CY12))","v":0},{"$f":"IF(OR(EXACT(集計用!DC7,\"事業概要：\"), EXACT(集計用!DC7,\"ー\"), ISNUMBER(VALUE(集計用!DC7))), 0, IF(集計用!DC7=\"\", 0, CZ12))","v":0},{"$f":"IF(OR(EXACT(集計用!DD7,\"事業概要：\"), EXACT(集計用!DD7,\"ー\"), ISNUMBER(VALUE(集計用!DD7))), 0, IF(集計用!DD7=\"\", 0, DA12))","v":0},{"$f":"IF(OR(EXACT(集計用!DE7,\"事業概要：\"), EXACT(集計用!DE7,\"ー\"), ISNUMBER(VALUE(集計用!DE7))), 0, IF(集計用!DE7=\"\", 0, DB12))","v":0},{"$f":"IF(OR(EXACT(集計用!DF7,\"事業概要：\"), EXACT(集計用!DF7,\"ー\"), ISNUMBER(VALUE(集計用!DF7))), 0, IF(集計用!DF7=\"\", 0, DC12))","v":0},{"$f":"IF(OR(EXACT(集計用!DG7,\"事業概要：\"), EXACT(集計用!DG7,\"ー\"), ISNUMBER(VALUE(集計用!DG7))), 0, IF(集計用!DG7=\"\", 0, DD12))","v":0},{"$f":"IF(OR(EXACT(集計用!DH7,\"事業概要：\"), EXACT(集計用!DH7,\"ー\"), ISNUMBER(VALUE(集計用!DH7))), 0, IF(集計用!DH7=\"\", 0, DE12))","v":0},{"$f":"IF(OR(EXACT(集計用!DI7,\"事業概要：\"), EXACT(集計用!DI7,\"ー\"), ISNUMBER(VALUE(集計用!DI7))), 0, IF(集計用!DI7=\"\", 0, DF12))","v":0},{"$f":"IF(OR(EXACT(集計用!DJ7,\"事業概要：\"), EXACT(集計用!DJ7,\"ー\"), ISNUMBER(VALUE(集計用!DJ7))), 0, IF(集計用!DJ7=\"\", 0, DG12))","v":0},{"$f":"IF(OR(EXACT(集計用!DK7,\"事業概要：\"), EXACT(集計用!DK7,\"ー\"), ISNUMBER(VALUE(集計用!DK7))), 0, IF(集計用!DK7=\"\", 0, DH12))","v":0},{"$f":"IF(OR(EXACT(集計用!DL7,\"事業概要：\"), EXACT(集計用!DL7,\"ー\"), ISNUMBER(VALUE(集計用!DL7))), 0, IF(集計用!DL7=\"\", 0, DI12))","v":0},{"$f":"IF(OR(EXACT(集計用!DM7,\"事業概要：\"), EXACT(集計用!DM7,\"ー\"), ISNUMBER(VALUE(集計用!DM7))), 0, IF(集計用!DM7=\"\", 0, DJ12))","v":0},{"$f":"IF(OR(EXACT(集計用!DN7,\"事業概要：\"), EXACT(集計用!DN7,\"ー\"), ISNUMBER(VALUE(集計用!DN7))), 0, IF(集計用!DN7=\"\", 0, DK12))","v":0},{"$f":"IF(OR(EXACT(集計用!DO7,\"事業概要：\"), EXACT(集計用!DO7,\"ー\"), ISNUMBER(VALUE(集計用!DO7))), 0, IF(集計用!DO7=\"\", 0, DL12))","v":0},{"$f":"IF(OR(EXACT(集計用!DP7,\"事業概要：\"), EXACT(集計用!DP7,\"ー\"), ISNUMBER(VALUE(集計用!DP7))), 0, IF(集計用!DP7=\"\", 0, DM12))","v":0},{"$f":"IF(OR(EXACT(集計用!DQ7,\"事業概要：\"), EXACT(集計用!DQ7,\"ー\"), ISNUMBER(VALUE(集計用!DQ7))), 0, IF(集計用!DQ7=\"\", 0, DN12))","v":0},{"$f":"IF(OR(EXACT(集計用!DR7,\"事業概要：\"), EXACT(集計用!DR7,\"ー\"), ISNUMBER(VALUE(集計用!DR7))), 0, IF(集計用!DR7=\"\", 0, DO12))","v":0},{"$f":"IF(OR(EXACT(集計用!DS7,\"事業概要：\"), EXACT(集計用!DS7,\"ー\"), ISNUMBER(VALUE(集計用!DS7))), 0, IF(集計用!DS7=\"\", 0, DP12))","v":0},{"$f":"IF(OR(EXACT(集計用!DT7,\"事業概要：\"), EXACT(集計用!DT7,\"ー\"), ISNUMBER(VALUE(集計用!DT7))), 0, IF(集計用!DT7=\"\", 0, DQ12))","v":0},{"$f":"IF(OR(EXACT(集計用!DU7,\"事業概要：\"), EXACT(集計用!DU7,\"ー\"), ISNUMBER(VALUE(集計用!DU7))), 0, IF(集計用!DU7=\"\", 0, DR12))","v":0},{"$f":"IF(OR(EXACT(集計用!DV7,\"事業概要：\"), EXACT(集計用!DV7,\"ー\"), ISNUMBER(VALUE(集計用!DV7))), 0, IF(集計用!DV7=\"\", 0, DS12))","v":0},{"$f":"IF(OR(EXACT(集計用!DW7,\"事業概要：\"), EXACT(集計用!DW7,\"ー\"), ISNUMBER(VALUE(集計用!DW7))), 0, IF(集計用!DW7=\"\", 0, DT12))","v":0},{"$f":"IF(OR(EXACT(集計用!DX7,\"事業概要：\"), EXACT(集計用!DX7,\"ー\"), ISNUMBER(VALUE(集計用!DX7))), 0, IF(集計用!DX7=\"\", 0, DU12))","v":0},{"$f":"IF(OR(EXACT(集計用!DY7,\"事業概要：\"), EXACT(集計用!DY7,\"ー\"), ISNUMBER(VALUE(集計用!DY7))), 0, IF(集計用!DY7=\"\", 0, DV12))","v":0},{"$f":"IF(OR(EXACT(集計用!DZ7,\"事業概要：\"), EXACT(集計用!DZ7,\"ー\"), ISNUMBER(VALUE(集計用!DZ7))), 0, IF(集計用!DZ7=\"\", 0, DW12))","v":0},{"$f":"IF(OR(EXACT(集計用!EA7,\"事業概要：\"), EXACT(集計用!EA7,\"ー\"), ISNUMBER(VALUE(集計用!EA7))), 0, IF(集計用!EA7=\"\", 0, DX12))","v":0},{"$f":"IF(OR(EXACT(集計用!EB7,\"事業概要：\"), EXACT(集計用!EB7,\"ー\"), ISNUMBER(VALUE(集計用!EB7))), 0, IF(集計用!EB7=\"\", 0, DY12))","v":0},{"$f":"IF(OR(EXACT(集計用!EC7,\"事業概要：\"), EXACT(集計用!EC7,\"ー\"), ISNUMBER(VALUE(集計用!EC7))), 0, IF(集計用!EC7=\"\", 0, DZ12))","v":0},{"$f":"IF(OR(EXACT(集計用!ED7,\"事業概要：\"), EXACT(集計用!ED7,\"ー\"), ISNUMBER(VALUE(集計用!ED7))), 0, IF(集計用!ED7=\"\", 0, EA12))","v":0},{"$f":"IF(OR(EXACT(集計用!EE7,\"事業概要：\"), EXACT(集計用!EE7,\"ー\"), ISNUMBER(VALUE(集計用!EE7))), 0, IF(集計用!EE7=\"\", 0, EB12))","v":0},{"$f":"IF(OR(EXACT(集計用!EF7,\"事業概要：\"), EXACT(集計用!EF7,\"ー\"), ISNUMBER(VALUE(集計用!EF7))), 0, IF(集計用!EF7=\"\", 0, EC12))","v":0},{"$f":"IF(OR(EXACT(集計用!EG7,\"事業概要：\"), EXACT(集計用!EG7,\"ー\"), ISNUMBER(VALUE(集計用!EG7))), 0, IF(集計用!EG7=\"\", 0, ED12))","v":0},{"$f":"IF(OR(EXACT(集計用!EH7,\"事業概要：\"), EXACT(集計用!EH7,\"ー\"), ISNUMBER(VALUE(集計用!EH7))), 0, IF(集計用!EH7=\"\", 0, EE12))","v":0},{"$f":"IF(OR(EXACT(集計用!EI7,\"事業概要：\"), EXACT(集計用!EI7,\"ー\"), ISNUMBER(VALUE(集計用!EI7))), 0, IF(集計用!EI7=\"\", 0, EF12))","v":0},{"$f":"IF(OR(EXACT(集計用!EJ7,\"事業概要：\"), EXACT(集計用!EJ7,\"ー\"), ISNUMBER(VALUE(集計用!EJ7))), 0, IF(集計用!EJ7=\"\", 0, EG12))","v":0},{"$f":"IF(OR(EXACT(集計用!EK7,\"事業概要：\"), EXACT(集計用!EK7,\"ー\"), ISNUMBER(VALUE(集計用!EK7))), 0, IF(集計用!EK7=\"\", 0, EH12))","v":0},{"$f":"IF(OR(EXACT(集計用!EL7,\"事業概要：\"), EXACT(集計用!EL7,\"ー\"), ISNUMBER(VALUE(集計用!EL7))), 0, IF(集計用!EL7=\"\", 0, EI12))","v":0},{"$f":"IF(OR(EXACT(集計用!EM7,\"事業概要：\"), EXACT(集計用!EM7,\"ー\"), ISNUMBER(VALUE(集計用!EM7))), 0, IF(集計用!EM7=\"\", 0, EJ12))","v":0},{"$f":"IF(OR(EXACT(集計用!EN7,\"事業概要：\"), EXACT(集計用!EN7,\"ー\"), EXACT(集計用!EN7,0), NOT(ISNUMBER(VALUE(集計用!EN7)))), 0, IF(集計用!EN7=\"\", 0, EK12))","v":0},{"$f":"IF(OR(EXACT(集計用!EO7,\"事業概要：\"), EXACT(集計用!EO7,\"ー\"), ISNUMBER(VALUE(集計用!EO7))), 0, IF(集計用!EO7=\"\", 0, EL12))","v":0},{"$f":"IF(OR(EXACT(集計用!EP7,\"事業概要：\"), EXACT(集計用!EP7,\"ー\"), ISNUMBER(VALUE(集計用!EP7))), 0, IF(集計用!EP7=\"\", 0, EM12))","v":0},{"$f":"IF(OR(EXACT(集計用!EQ7,\"事業概要：\"), EXACT(集計用!EQ7,\"ー\"), ISNUMBER(VALUE(集計用!EQ7))), 0, IF(集計用!EQ7=\"\", 0, EN12))","v":0},{"$f":"IF(OR(EXACT(集計用!ER7,\"事業概要：\"), EXACT(集計用!ER7,\"ー\"), ISNUMBER(VALUE(集計用!ER7))), 0, IF(集計用!ER7=\"\", 0, EO12))","v":0},{"$f":"IF(OR(EXACT(集計用!ES7,\"事業概要：\"), EXACT(集計用!ES7,\"ー\"), ISNUMBER(VALUE(集計用!ES7))), 0, IF(集計用!ES7=\"\", 0, EP12))","v":0},{"$f":"IF(OR(EXACT(集計用!ET7,\"事業概要：\"), EXACT(集計用!ET7,\"ー\"), ISNUMBER(VALUE(集計用!ET7))), 0, IF(集計用!ET7=\"\", 0, EQ12))","v":0},{"$f":"IF(OR(EXACT(集計用!EU7,\"事業概要：\"), EXACT(集計用!EU7,\"ー\"), ISNUMBER(VALUE(集計用!EU7))), 0, IF(集計用!EU7=\"\", 0, ER12))","v":0},{"$f":"IF(OR(EXACT(集計用!EV7,\"事業概要：\"), EXACT(集計用!EV7,\"ー\"), ISNUMBER(VALUE(集計用!EV7))), 0, IF(集計用!EV7=\"\", 0, ES12))","v":0},{"$f":"IF(OR(EXACT(集計用!EW7,\"事業概要：\"), EXACT(集計用!EW7,\"ー\"), ISNUMBER(VALUE(集計用!EW7))), 0, IF(集計用!EW7=\"\", 0, ET12))","v":0},{"$f":"IF(OR(EXACT(集計用!EX7,\"事業概要：\"), EXACT(集計用!EX7,\"ー\"), ISNUMBER(VALUE(集計用!EX7))), 0, IF(集計用!EX7=\"\", 0, EU12))","v":0},{"$f":"IF(OR(EXACT(集計用!EY7,\"事業概要：\"), EXACT(集計用!EY7,\"ー\"), ISNUMBER(VALUE(集計用!EY7))), 0, IF(集計用!EY7=\"\", 0, EV12))","v":0},{"$f":"IF(OR(EXACT(集計用!EZ7,\"事業概要：\"), EXACT(集計用!EZ7,\"ー\"), ISNUMBER(VALUE(集計用!EZ7))), 0, IF(集計用!EZ7=\"\", 0, EW12))","v":0},{"$f":"IF(OR(EXACT(集計用!FA7,\"事業概要：\"), EXACT(集計用!FA7,\"ー\"), ISNUMBER(VALUE(集計用!FA7))), 0, IF(集計用!FA7=\"\", 0, EX12))","v":0},{"$f":"IF(OR(EXACT(集計用!FB7,\"事業概要：\"), EXACT(集計用!FB7,\"ー\"), ISNUMBER(VALUE(集計用!FB7))), 0, IF(集計用!FB7=\"\", 0, EY12))","v":0},{"$f":"IF(OR(EXACT(集計用!FC7,\"事業概要：\"), EXACT(集計用!FC7,\"ー\"), ISNUMBER(VALUE(集計用!FC7))), 0, IF(集計用!FC7=\"\", 0, EZ12))","v":0},{"$f":"IF(OR(EXACT(集計用!FD7,\"事業概要：\"), EXACT(集計用!FD7,\"ー\"), ISNUMBER(VALUE(集計用!FD7))), 0, IF(集計用!FD7=\"\", 0, FA12))","v":0},{"$f":"IF(OR(EXACT(集計用!FE7,\"事業概要：\"), EXACT(集計用!FE7,\"ー\"), ISNUMBER(VALUE(集計用!FE7))), 0, IF(集計用!FE7=\"\", 0, FB12))","v":0},{"$f":"IF(OR(EXACT(集計用!FF7,\"事業概要：\"), EXACT(集計用!FF7,\"ー\"), ISNUMBER(VALUE(集計用!FF7))), 0, IF(集計用!FF7=\"\", 0, FC12))","v":0},{"$f":"IF(OR(EXACT(集計用!FG7,\"事業概要：\"), EXACT(集計用!FG7,\"ー\"), ISNUMBER(VALUE(集計用!FG7))), 0, IF(集計用!FG7=\"\", 0, FD12))","v":0},{"$f":"IF(OR(EXACT(集計用!FH7,\"事業概要：\"), EXACT(集計用!FH7,\"ー\"), ISNUMBER(VALUE(集計用!FH7))), 0, IF(集計用!FH7=\"\", 0, FE12))","v":0},{"$f":"IF(OR(EXACT(集計用!FI7,\"事業概要：\"), EXACT(集計用!FI7,\"ー\"), ISNUMBER(VALUE(集計用!FI7))), 0, IF(集計用!FI7=\"\", 0, FF12))","v":0},{"$f":"IF(OR(EXACT(集計用!FJ7,\"事業概要：\"), EXACT(集計用!FJ7,\"ー\"), ISNUMBER(VALUE(集計用!FJ7))), 0, IF(集計用!FJ7=\"\", 0, FG12))","v":0},{"$f":"IF(OR(EXACT(集計用!FK7,\"事業概要：\"), EXACT(集計用!FK7,\"ー\"), ISNUMBER(VALUE(集計用!FK7))), 0, IF(集計用!FK7=\"\", 0, FH12))","v":0},{"$f":"IF(OR(EXACT(集計用!FL7,\"事業概要：\"), EXACT(集計用!FL7,\"ー\"), ISNUMBER(VALUE(集計用!FL7))), 0, IF(集計用!FL7=\"\", 0, FI12))","v":0},{"$f":"IF(OR(EXACT(集計用!FM7,\"事業概要：\"), EXACT(集計用!FM7,\"ー\"), ISNUMBER(VALUE(集計用!FM7))), 0, IF(集計用!FM7=\"\", 0, FJ12))","v":0},{"$f":"IF(OR(EXACT(集計用!FN7,\"事業概要：\"), EXACT(集計用!FN7,\"ー\"), ISNUMBER(VALUE(集計用!FN7))), 0, IF(集計用!FN7=\"\", 0, FK12))","v":0},{"$f":"IF(OR(EXACT(集計用!FO7,\"事業概要：\"), EXACT(集計用!FO7,\"ー\"), ISNUMBER(VALUE(集計用!FO7))), 0, IF(集計用!FO7=\"\", 0, FL12))","v":0},{"$f":"IF(OR(EXACT(集計用!FP7,\"事業概要：\"), EXACT(集計用!FP7,\"ー\"), ISNUMBER(VALUE(集計用!FP7))), 0, IF(集計用!FP7=\"\", 0, FM12))","v":0},{"$f":"IF(OR(EXACT(集計用!FQ7,\"事業概要：\"), EXACT(集計用!FQ7,\"ー\"), ISNUMBER(VALUE(集計用!FQ7))), 0, IF(集計用!FQ7=\"\", 0, FN12))","v":0},{"$f":"IF(OR(EXACT(集計用!FR7,\"事業概要：\"), EXACT(集計用!FR7,\"ー\"), ISNUMBER(VALUE(集計用!FR7))), 0, IF(集計用!FR7=\"\", 0, FO12))","v":0},{"$f":"IF(OR(EXACT(集計用!FS7,\"事業概要：\"), EXACT(集計用!FS7,\"ー\"), ISNUMBER(VALUE(集計用!FS7))), 0, IF(集計用!FS7=\"\", 0, FP12))","v":0},{"$f":"IF(OR(EXACT(集計用!FT7,\"事業概要：\"), EXACT(集計用!FT7,\"ー\"), ISNUMBER(VALUE(集計用!FT7))), 0, IF(集計用!FT7=\"\", 0, FQ12))","v":0},{"$f":"IF(OR(EXACT(集計用!FU7,\"事業概要：\"), EXACT(集計用!FU7,\"ー\"), ISNUMBER(VALUE(集計用!FU7))), 0, IF(集計用!FU7=\"\", 0, FR12))","v":0},{"$f":"IF(OR(EXACT(集計用!FV7,\"事業概要：\"), EXACT(集計用!FV7,\"ー\"), ISNUMBER(VALUE(集計用!FV7))), 0, IF(集計用!FV7=\"\", 0, FS12))","v":0},{"$f":"IF(OR(EXACT(集計用!FW7,\"事業概要：\"), EXACT(集計用!FW7,\"ー\"), ISNUMBER(VALUE(集計用!FW7))), 0, IF(集計用!FW7=\"\", 0, FT12))","v":0},{"$f":"IF(OR(EXACT(集計用!FX7,\"事業概要：\"), EXACT(集計用!FX7,\"ー\"), ISNUMBER(VALUE(集計用!FX7))), 0, IF(集計用!FX7=\"\", 0, FU12))","v":0},{"$f":"IF(OR(EXACT(集計用!FY7,\"事業概要：\"), EXACT(集計用!FY7,\"ー\"), ISNUMBER(VALUE(集計用!FY7))), 0, IF(集計用!FY7=\"\", 0, FV12))","v":0},{"$f":"IF(OR(EXACT(集計用!FZ7,\"事業概要：\"), EXACT(集計用!FZ7,\"ー\"), ISNUMBER(VALUE(集計用!FZ7))), 0, IF(集計用!FZ7=\"\", 0, FW12))","v":0},{"$f":"IF(OR(EXACT(集計用!GA7,\"事業概要：\"), EXACT(集計用!GA7,\"ー\"), ISNUMBER(VALUE(集計用!GA7))), 0, IF(集計用!GA7=\"\", 0, FX12))","v":0},{"$f":"IF(OR(EXACT(集計用!GB7,\"事業概要：\"), EXACT(集計用!GB7,\"ー\"), ISNUMBER(VALUE(集計用!GB7))), 0, IF(集計用!GB7=\"\", 0, FY12))","v":0},{"$f":"IF(OR(EXACT(集計用!GC7,\"事業概要：\"), EXACT(集計用!GC7,\"ー\"), ISNUMBER(VALUE(集計用!GC7))), 0, IF(集計用!GC7=\"\", 0, FZ12))","v":0},{"$f":"IF(OR(EXACT(集計用!GD7,\"事業概要：\"), EXACT(集計用!GD7,\"ー\"), ISNUMBER(VALUE(集計用!GD7))), 0, IF(集計用!GD7=\"\", 0, GA12))","v":0},{"$f":"IF(OR(EXACT(集計用!GE7,\"事業概要：\"), EXACT(集計用!GE7,\"ー\"), ISNUMBER(VALUE(集計用!GE7))), 0, IF(集計用!GE7=\"\", 0, GB12))","v":0},{"$f":"IF(OR(EXACT(集計用!GF7,\"事業概要：\"), EXACT(集計用!GF7,\"ー\"), ISNUMBER(VALUE(集計用!GF7))), 0, IF(集計用!GF7=\"\", 0, GC12))","v":0},{"$f":"IF(OR(EXACT(集計用!GG7,\"事業概要：\"), EXACT(集計用!GG7,\"ー\"), ISNUMBER(VALUE(集計用!GG7))), 0, IF(集計用!GG7=\"\", 0, GD12))","v":0},{"$f":"IF(OR(EXACT(集計用!GH7,\"事業概要：\"), EXACT(集計用!GH7,\"ー\"), ISNUMBER(VALUE(集計用!GH7))), 0, IF(集計用!GH7=\"\", 0, GE12))","v":0},{"$f":"IF(OR(EXACT(集計用!GI7,\"事業概要：\"), EXACT(集計用!GI7,\"ー\"), ISNUMBER(VALUE(集計用!GI7))), 0, IF(集計用!GI7=\"\", 0, GF12))","v":0},{"$f":"IF(OR(EXACT(集計用!GJ7,\"事業概要：\"), EXACT(集計用!GJ7,\"ー\"), ISNUMBER(VALUE(集計用!GJ7))), 0, IF(集計用!GJ7=\"\", 0, GG12))","v":0},{"$f":"IF(OR(EXACT(集計用!GK7,\"事業概要：\"), EXACT(集計用!GK7,\"ー\"), ISNUMBER(VALUE(集計用!GK7))), 0, IF(集計用!GK7=\"\", 0, GH12))","v":0},{"$f":"IF(OR(EXACT(集計用!GL7,\"事業概要：\"), EXACT(集計用!GL7,\"ー\"), ISNUMBER(VALUE(集計用!GL7))), 0, IF(集計用!GL7=\"\", 0, GI12))","v":0},{"$f":"IF(OR(EXACT(集計用!GM7,\"事業概要：\"), EXACT(集計用!GM7,\"ー\"), EXACT(集計用!GM7,0), NOT(ISNUMBER(VALUE(集計用!GM7)))), 0, IF(集計用!GM7=\"\", 0, GJ12))","v":0},{"$f":"IF(OR(EXACT(集計用!GN7,\"事業概要：\"), EXACT(集計用!GN7,\"ー\"), ISNUMBER(VALUE(集計用!GN7))), 0, IF(集計用!GN7=\"\", 0, GK12))","v":0},{"$f":"IF(OR(EXACT(集計用!GO7,\"事業概要：\"), EXACT(集計用!GO7,\"ー\"), ISNUMBER(VALUE(集計用!GO7))), 0, IF(集計用!GO7=\"\", 0, GL12))","v":0},{"$f":"IF(OR(EXACT(集計用!GP7,\"事業概要：\"), EXACT(集計用!GP7,\"ー\"), ISNUMBER(VALUE(集計用!GP7))), 0, IF(集計用!GP7=\"\", 0, GM12))","v":0},{"$f":"IF(OR(EXACT(集計用!GQ7,\"事業概要：\"), EXACT(集計用!GQ7,\"ー\"), ISNUMBER(VALUE(集計用!GQ7))), 0, IF(集計用!GQ7=\"\", 0, GN12))","v":0},{"$f":"IF(OR(EXACT(集計用!GR7,\"事業概要：\"), EXACT(集計用!GR7,\"ー\"), ISNUMBER(VALUE(集計用!GR7))), 0, IF(集計用!GR7=\"\", 0, GO12))","v":0},{"$f":"IF(OR(EXACT(集計用!GS7,\"事業概要：\"), EXACT(集計用!GS7,\"ー\"), ISNUMBER(VALUE(集計用!GS7))), 0, IF(集計用!GS7=\"\", 0, GP12))","v":0},{"$f":"IF(OR(EXACT(集計用!GT7,\"事業概要：\"), EXACT(集計用!GT7,\"ー\"), ISNUMBER(VALUE(集計用!GT7))), 0, IF(集計用!GT7=\"\", 0, GQ12))","v":0},{"$f":"IF(OR(EXACT(集計用!GU7,\"事業概要：\"), EXACT(集計用!GU7,\"ー\"), ISNUMBER(VALUE(集計用!GU7))), 0, IF(集計用!GU7=\"\", 0, GR12))","v":0},{"$f":"IF(OR(EXACT(集計用!GV7,\"事業概要：\"), EXACT(集計用!GV7,\"ー\"), ISNUMBER(VALUE(集計用!GV7))), 0, IF(集計用!GV7=\"\", 0, GS12))","v":0},{"$f":"IF(OR(EXACT(集計用!GW7,\"事業概要：\"), EXACT(集計用!GW7,\"ー\"), ISNUMBER(VALUE(集計用!GW7))), 0, IF(集計用!GW7=\"\", 0, GT12))","v":0},{"$f":"IF(OR(EXACT(集計用!GX7,\"事業概要：\"), EXACT(集計用!GX7,\"ー\"), ISNUMBER(VALUE(集計用!GX7))), 0, IF(集計用!GX7=\"\", 0, GU12))","v":0},{"$f":"IF(OR(EXACT(集計用!GY7,\"事業概要：\"), EXACT(集計用!GY7,\"ー\"), ISNUMBER(VALUE(集計用!GY7))), 0, IF(集計用!GY7=\"\", 0, GV12))","v":0},{"$f":"IF(OR(EXACT(集計用!GZ7,\"事業概要：\"), EXACT(集計用!GZ7,\"ー\"), ISNUMBER(VALUE(集計用!GZ7))), 0, IF(集計用!GZ7=\"\", 0, GW12))","v":0},{"$f":"IF(OR(EXACT(集計用!HA7,\"事業概要：\"), EXACT(集計用!HA7,\"ー\"), ISNUMBER(VALUE(集計用!HA7))), 0, IF(集計用!HA7=\"\", 0, GX12))","v":0},{"$f":"IF(OR(EXACT(集計用!HB7,\"事業概要：\"), EXACT(集計用!HB7,\"ー\"), ISNUMBER(VALUE(集計用!HB7))), 0, IF(集計用!HB7=\"\", 0, GY12))","v":0},{"$f":"IF(OR(EXACT(集計用!HC7,\"事業概要：\"), EXACT(集計用!HC7,\"ー\"), ISNUMBER(VALUE(集計用!HC7))), 0, IF(集計用!HC7=\"\", 0, GZ12))","v":0},{"$f":"IF(OR(EXACT(集計用!HD7,\"事業概要：\"), EXACT(集計用!HD7,\"ー\"), ISNUMBER(VALUE(集計用!HD7))), 0, IF(集計用!HD7=\"\", 0, HA12))","v":0},{"$f":"IF(OR(EXACT(集計用!HE7,\"事業概要：\"), EXACT(集計用!HE7,\"ー\"), ISNUMBER(VALUE(集計用!HE7))), 0, IF(集計用!HE7=\"\", 0, HB12))","v":0},{"$f":"IF(OR(EXACT(集計用!HF7,\"事業概要：\"), EXACT(集計用!HF7,\"ー\"), ISNUMBER(VALUE(集計用!HF7))), 0, IF(集計用!HF7=\"\", 0, HC12))","v":0},{"$f":"IF(OR(EXACT(集計用!HG7,\"事業概要：\"), EXACT(集計用!HG7,\"ー\"), ISNUMBER(VALUE(集計用!HG7))), 0, IF(集計用!HG7=\"\", 0, HD12))","v":0},{"$f":"IF(OR(EXACT(集計用!HH7,\"事業概要：\"), EXACT(集計用!HH7,\"ー\"), ISNUMBER(VALUE(集計用!HH7))), 0, IF(集計用!HH7=\"\", 0, HE12))","v":0},{"$f":"IF(OR(EXACT(集計用!HI7,\"事業概要：\"), EXACT(集計用!HI7,\"ー\"), ISNUMBER(VALUE(集計用!HI7))), 0, IF(集計用!HI7=\"\", 0, HF12))","v":0},{"$f":"IF(OR(EXACT(集計用!HJ7,\"事業概要：\"), EXACT(集計用!HJ7,\"ー\"), ISNUMBER(VALUE(集計用!HJ7))), 0, IF(集計用!HJ7=\"\", 0, HG12))","v":0},{"$f":"IF(OR(EXACT(集計用!HK7,\"事業概要：\"), EXACT(集計用!HK7,\"ー\"), ISNUMBER(VALUE(集計用!HK7))), 0, IF(集計用!HK7=\"\", 0, HH12))","v":0},{"$f":"IF(OR(EXACT(集計用!HL7,\"事業概要：\"), EXACT(集計用!HL7,\"ー\"), ISNUMBER(VALUE(集計用!HL7))), 0, IF(集計用!HL7=\"\", 0, HI12))","v":0},{"$f":"IF(OR(EXACT(集計用!HM7,\"事業概要：\"), EXACT(集計用!HM7,\"ー\"), ISNUMBER(VALUE(集計用!HM7))), 0, IF(集計用!HM7=\"\", 0, HJ12))","v":0},{"$f":"IF(OR(EXACT(集計用!HN7,\"事業概要：\"), EXACT(集計用!HN7,\"ー\"), ISNUMBER(VALUE(集計用!HN7))), 0, IF(集計用!HN7=\"\", 0, HK12))","v":0},{"$f":"IF(OR(EXACT(集計用!HO7,\"事業概要：\"), EXACT(集計用!HO7,\"ー\"), ISNUMBER(VALUE(集計用!HO7))), 0, IF(集計用!HO7=\"\", 0, HL12))","v":0},{"$f":"IF(OR(EXACT(集計用!HP7,\"事業概要：\"), EXACT(集計用!HP7,\"ー\"), ISNUMBER(VALUE(集計用!HP7))), 0, IF(集計用!HP7=\"\", 0, HM12))","v":0},{"$f":"IF(OR(EXACT(集計用!HQ7,\"事業概要：\"), EXACT(集計用!HQ7,\"ー\"), ISNUMBER(VALUE(集計用!HQ7))), 0, IF(集計用!HQ7=\"\", 0, HN12))","v":0},{"$f":"IF(OR(EXACT(集計用!HR7,\"事業概要：\"), EXACT(集計用!HR7,\"ー\"), ISNUMBER(VALUE(集計用!HR7))), 0, IF(集計用!HR7=\"\", 0, HO12))","v":0},{"$f":"IF(OR(EXACT(集計用!HS7,\"事業概要：\"), EXACT(集計用!HS7,\"ー\"), ISNUMBER(VALUE(集計用!HS7))), 0, IF(集計用!HS7=\"\", 0, HP12))","v":0},{"$f":"IF(OR(EXACT(集計用!HT7,\"事業概要：\"), EXACT(集計用!HT7,\"ー\"), ISNUMBER(VALUE(集計用!HT7))), 0, IF(集計用!HT7=\"\", 0, HQ12))","v":0},{"$f":"IF(OR(EXACT(集計用!HU7,\"事業概要：\"), EXACT(集計用!HU7,\"ー\"), ISNUMBER(VALUE(集計用!HU7))), 0, IF(集計用!HU7=\"\", 0, HR12))","v":0},{"$f":"IF(OR(EXACT(集計用!HV7,\"事業概要：\"), EXACT(集計用!HV7,\"ー\"), ISNUMBER(VALUE(集計用!HV7))), 0, IF(集計用!HV7=\"\", 0, HS12))","v":0},{"$f":"IF(OR(EXACT(集計用!HW7,\"事業概要：\"), EXACT(集計用!HW7,\"ー\"), ISNUMBER(VALUE(集計用!HW7))), 0, IF(集計用!HW7=\"\", 0, HT12))","v":0},{"$f":"IF(OR(EXACT(集計用!HX7,\"事業概要：\"), EXACT(集計用!HX7,\"ー\"), ISNUMBER(VALUE(集計用!HX7))), 0, IF(集計用!HX7=\"\", 0, HU12))","v":0},{"$f":"IF(OR(EXACT(集計用!HY7,\"事業概要：\"), EXACT(集計用!HY7,\"ー\"), ISNUMBER(VALUE(集計用!HY7))), 0, IF(集計用!HY7=\"\", 0, HV12))","v":0},{"$f":"IF(OR(EXACT(集計用!HZ7,\"事業概要：\"), EXACT(集計用!HZ7,\"ー\"), ISNUMBER(VALUE(集計用!HZ7))), 0, IF(集計用!HZ7=\"\", 0, HW12))","v":0},{"$f":"IF(OR(EXACT(集計用!IA7,\"事業概要：\"), EXACT(集計用!IA7,\"ー\"), ISNUMBER(VALUE(集計用!IA7))), 0, IF(集計用!IA7=\"\", 0, HX12))","v":0},{"$f":"IF(OR(EXACT(集計用!IB7,\"事業概要：\"), EXACT(集計用!IB7,\"ー\"), ISNUMBER(VALUE(集計用!IB7))), 0, IF(集計用!IB7=\"\", 0, HY12))","v":0},{"$f":"IF(OR(EXACT(集計用!IC7,\"事業概要：\"), EXACT(集計用!IC7,\"ー\"), ISNUMBER(VALUE(集計用!IC7))), 0, IF(集計用!IC7=\"\", 0, HZ12))","v":0},{"$f":"IF(OR(EXACT(集計用!ID7,\"事業概要：\"), EXACT(集計用!ID7,\"ー\"), ISNUMBER(VALUE(集計用!ID7))), 0, IF(集計用!ID7=\"\", 0, IA12))","v":0},{"$f":"IF(OR(EXACT(集計用!IE7,\"事業概要：\"), EXACT(集計用!IE7,\"ー\"), ISNUMBER(VALUE(集計用!IE7))), 0, IF(集計用!IE7=\"\", 0, IB12))","v":0},{"$f":"IF(OR(EXACT(集計用!IF7,\"事業概要：\"), EXACT(集計用!IF7,\"ー\"), ISNUMBER(VALUE(集計用!IF7))), 0, IF(集計用!IF7=\"\", 0, IC12))","v":0},{"$f":"IF(OR(EXACT(集計用!IG7,\"事業概要：\"), EXACT(集計用!IG7,\"ー\"), ISNUMBER(VALUE(集計用!IG7))), 0, IF(集計用!IG7=\"\", 0, ID12))","v":0},{"$f":"IF(OR(EXACT(集計用!IH7,\"事業概要：\"), EXACT(集計用!IH7,\"ー\"), ISNUMBER(VALUE(集計用!IH7))), 0, IF(集計用!IH7=\"\", 0, IE12))","v":0},{"$f":"IF(OR(EXACT(集計用!II7,\"事業概要：\"), EXACT(集計用!II7,\"ー\"), ISNUMBER(VALUE(集計用!II7))), 0, IF(集計用!II7=\"\", 0, IF12))","v":0},{"$f":"IF(OR(EXACT(集計用!IJ7,\"事業概要：\"), EXACT(集計用!IJ7,\"ー\"), ISNUMBER(VALUE(集計用!IJ7))), 0, IF(集計用!IJ7=\"\", 0, IG12))","v":0},{"$f":"IF(OR(EXACT(集計用!IK7,\"事業概要：\"), EXACT(集計用!IK7,\"ー\"), ISNUMBER(VALUE(集計用!IK7))), 0, IF(集計用!IK7=\"\", 0, IH12))","v":0},{"$f":"IF(OR(EXACT(集計用!IL7,\"事業概要：\"), EXACT(集計用!IL7,\"ー\"), ISNUMBER(VALUE(集計用!IL7))), 0, IF(集計用!IL7=\"\", 0, II12))","v":0},{"$f":"IF(OR(EXACT(集計用!IM7,\"事業概要：\"), EXACT(集計用!IM7,\"ー\"), ISNUMBER(VALUE(集計用!IM7))), 0, IF(集計用!IM7=\"\", 0, IJ12))","v":0},{"$f":"IF(OR(EXACT(集計用!IN7,\"事業概要：\"), EXACT(集計用!IN7,\"ー\"), ISNUMBER(VALUE(集計用!IN7))), 0, IF(集計用!IN7=\"\", 0, IK12))","v":0},{"$f":"IF(OR(EXACT(集計用!IO7,\"事業概要：\"), EXACT(集計用!IO7,\"ー\"), ISNUMBER(VALUE(集計用!IO7))), 0, IF(集計用!IO7=\"\", 0, IL12))","v":0},{"$f":"IF(OR(EXACT(集計用!IP7,\"事業概要：\"), EXACT(集計用!IP7,\"ー\"), EXACT(集計用!IP7,0), NOT(ISNUMBER(VALUE(集計用!IP7)))), 0, IF(集計用!IP7=\"\", 0, IM12))","v":0},{"$f":"IF(OR(EXACT(集計用!IQ7,\"事業概要：\"), EXACT(集計用!IQ7,\"ー\"), ISNUMBER(VALUE(集計用!IQ7))), 0, IF(集計用!IQ7=\"\", 0, IN12))","v":0},{"$f":"IF(OR(EXACT(集計用!IR7,\"事業概要：\"), EXACT(集計用!IR7,\"ー\"), ISNUMBER(VALUE(集計用!IR7))), 0, IF(集計用!IR7=\"\", 0, IO12))","v":0},{"$f":"IF(OR(EXACT(集計用!IS7,\"事業概要：\"), EXACT(集計用!IS7,\"ー\"), ISNUMBER(VALUE(集計用!IS7))), 0, IF(集計用!IS7=\"\", 0, IP12))","v":0},{"$f":"IF(OR(EXACT(集計用!IT7,\"事業概要：\"), EXACT(集計用!IT7,\"ー\"), ISNUMBER(VALUE(集計用!IT7))), 0, IF(集計用!IT7=\"\", 0, IQ12))","v":0},{"$f":"IF(OR(EXACT(集計用!IU7,\"事業概要：\"), EXACT(集計用!IU7,\"ー\"), ISNUMBER(VALUE(集計用!IU7))), 0, IF(集計用!IU7=\"\", 0, IR12))","v":0},{"$f":"IF(OR(EXACT(集計用!IV7,\"事業概要：\"), EXACT(集計用!IV7,\"ー\"), ISNUMBER(VALUE(集計用!IV7))), 0, IF(集計用!IV7=\"\", 0, IS12))","v":0},{"$f":"IF(OR(EXACT(集計用!IW7,\"事業概要：\"), EXACT(集計用!IW7,\"ー\"), ISNUMBER(VALUE(集計用!IW7))), 0, IF(集計用!IW7=\"\", 0, IT12))","v":0},{"$f":"IF(OR(EXACT(集計用!IX7,\"事業概要：\"), EXACT(集計用!IX7,\"ー\"), ISNUMBER(VALUE(集計用!IX7))), 0, IF(集計用!IX7=\"\", 0, IU12))","v":0},{"$f":"IF(OR(EXACT(集計用!IY7,\"事業概要：\"), EXACT(集計用!IY7,\"ー\"), ISNUMBER(VALUE(集計用!IY7))), 0, IF(集計用!IY7=\"\", 0, IV12))","v":0},{"$f":"IF(OR(EXACT(集計用!IZ7,\"事業概要：\"), EXACT(集計用!IZ7,\"ー\"), ISNUMBER(VALUE(集計用!IZ7))), 0, IF(集計用!IZ7=\"\", 0, IW12))","v":0},{"$f":"IF(OR(EXACT(集計用!JA7,\"事業概要：\"), EXACT(集計用!JA7,\"ー\"), ISNUMBER(VALUE(集計用!JA7))), 0, IF(集計用!JA7=\"\", 0, IX12))","v":0},{"$f":"IF(OR(EXACT(集計用!JB7,\"事業概要：\"), EXACT(集計用!JB7,\"ー\"), ISNUMBER(VALUE(集計用!JB7))), 0, IF(集計用!JB7=\"\", 0, IY12))","v":0},{"$f":"IF(OR(EXACT(集計用!JC7,\"事業概要：\"), EXACT(集計用!JC7,\"ー\"), ISNUMBER(VALUE(集計用!JC7))), 0, IF(集計用!JC7=\"\", 0, IZ12))","v":0},{"$f":"IF(OR(EXACT(集計用!JD7,\"事業概要：\"), EXACT(集計用!JD7,\"ー\"), ISNUMBER(VALUE(集計用!JD7))), 0, IF(集計用!JD7=\"\", 0, JA12))","v":0},{"$f":"IF(OR(EXACT(集計用!JE7,\"事業概要：\"), EXACT(集計用!JE7,\"ー\"), ISNUMBER(VALUE(集計用!JE7))), 0, IF(集計用!JE7=\"\", 0, JB12))","v":0},{"$f":"IF(OR(EXACT(集計用!JF7,\"事業概要：\"), EXACT(集計用!JF7,\"ー\"), ISNUMBER(VALUE(集計用!JF7))), 0, IF(集計用!JF7=\"\", 0, JC12))","v":0},{"$f":"IF(OR(EXACT(集計用!JG7,\"事業概要：\"), EXACT(集計用!JG7,\"ー\"), ISNUMBER(VALUE(集計用!JG7))), 0, IF(集計用!JG7=\"\", 0, JD12))","v":0},{"$f":"IF(OR(EXACT(集計用!JH7,\"事業概要：\"), EXACT(集計用!JH7,\"ー\"), ISNUMBER(VALUE(集計用!JH7))), 0, IF(集計用!JH7=\"\", 0, JE12))","v":0},{"$f":"IF(OR(EXACT(集計用!JI7,\"事業概要：\"), EXACT(集計用!JI7,\"ー\"), ISNUMBER(VALUE(集計用!JI7))), 0, IF(集計用!JI7=\"\", 0, JF12))","v":0},{"$f":"IF(OR(EXACT(集計用!JJ7,\"事業概要：\"), EXACT(集計用!JJ7,\"ー\"), ISNUMBER(VALUE(集計用!JJ7))), 0, IF(集計用!JJ7=\"\", 0, JG12))","v":0},{"$f":"IF(OR(EXACT(集計用!JK7,\"事業概要：\"), EXACT(集計用!JK7,\"ー\"), ISNUMBER(VALUE(集計用!JK7))), 0, IF(集計用!JK7=\"\", 0, JH12))","v":0},{"$f":"IF(OR(EXACT(集計用!JL7,\"事業概要：\"), EXACT(集計用!JL7,\"ー\"), ISNUMBER(VALUE(集計用!JL7))), 0, IF(集計用!JL7=\"\", 0, JI12))","v":0},{"$f":"IF(OR(EXACT(集計用!JM7,\"事業概要：\"), EXACT(集計用!JM7,\"ー\"), ISNUMBER(VALUE(集計用!JM7))), 0, IF(集計用!JM7=\"\", 0, JJ12))","v":0},{"$f":"IF(OR(EXACT(集計用!JN7,\"事業概要：\"), EXACT(集計用!JN7,\"ー\"), ISNUMBER(VALUE(集計用!JN7))), 0, IF(集計用!JN7=\"\", 0, JK12))","v":0},{"$f":"IF(OR(EXACT(集計用!JO7,\"事業概要：\"), EXACT(集計用!JO7,\"ー\"), ISNUMBER(VALUE(集計用!JO7))), 0, IF(集計用!JO7=\"\", 0, JL12))","v":0},{"$f":"IF(OR(EXACT(集計用!JP7,\"事業概要：\"), EXACT(集計用!JP7,\"ー\"), ISNUMBER(VALUE(集計用!JP7))), 0, IF(集計用!JP7=\"\", 0, JM12))","v":0},{"$f":"IF(OR(EXACT(集計用!JQ7,\"事業概要：\"), EXACT(集計用!JQ7,\"ー\"), ISNUMBER(VALUE(集計用!JQ7))), 0, IF(集計用!JQ7=\"\", 0, JN12))","v":0},{"$f":"IF(OR(EXACT(集計用!JR7,\"事業概要：\"), EXACT(集計用!JR7,\"ー\"), ISNUMBER(VALUE(集計用!JR7))), 0, IF(集計用!JR7=\"\", 0, JO12))","v":0},{"$f":"IF(OR(EXACT(集計用!JS7,\"事業概要：\"), EXACT(集計用!JS7,\"ー\"), ISNUMBER(VALUE(集計用!JS7))), 0, IF(集計用!JS7=\"\", 0, JP12))","v":0},{"$f":"IF(OR(EXACT(集計用!JT7,\"事業概要：\"), EXACT(集計用!JT7,\"ー\"), ISNUMBER(VALUE(集計用!JT7))), 0, IF(集計用!JT7=\"\", 0, JQ12))","v":0},{"$f":"IF(OR(EXACT(集計用!JU7,\"事業概要：\"), EXACT(集計用!JU7,\"ー\"), EXACT(集計用!JU7,0), NOT(ISNUMBER(VALUE(集計用!JU7)))), 0, IF(集計用!JU7=\"\", 0, JR12))","v":0},{"$f":"IF(OR(EXACT(集計用!JV7,\"事業概要：\"), EXACT(集計用!JV7,\"ー\"), ISNUMBER(VALUE(集計用!JV7))), 0, IF(集計用!JV7=\"\", 0, JS12))","v":0},{"$f":"IF(OR(EXACT(集計用!JW7,\"事業概要：\"), EXACT(集計用!JW7,\"ー\"), ISNUMBER(VALUE(集計用!JW7))), 0, IF(集計用!JW7=\"\", 0, JT12))","v":0},{"$f":"IF(OR(EXACT(集計用!JX7,\"事業概要：\"), EXACT(集計用!JX7,\"ー\"), ISNUMBER(VALUE(集計用!JX7))), 0, IF(集計用!JX7=\"\", 0, JU12))","v":0},{"$f":"IF(OR(EXACT(集計用!JY7,\"事業概要：\"), EXACT(集計用!JY7,\"ー\"), ISNUMBER(VALUE(集計用!JY7))), 0, IF(集計用!JY7=\"\", 0, JV12))","v":0},{"$f":"IF(OR(EXACT(集計用!JZ7,\"事業概要：\"), EXACT(集計用!JZ7,\"ー\"), ISNUMBER(VALUE(集計用!JZ7))), 0, IF(集計用!JZ7=\"\", 0, JW12))","v":0},{"$f":"IF(OR(EXACT(集計用!KA7,\"事業概要：\"), EXACT(集計用!KA7,\"ー\"), ISNUMBER(VALUE(集計用!KA7))), 0, IF(集計用!KA7=\"\", 0, JX12))","v":0},{"$f":"IF(OR(EXACT(集計用!KB7,\"事業概要：\"), EXACT(集計用!KB7,\"ー\"), ISNUMBER(VALUE(集計用!KB7))), 0, IF(集計用!KB7=\"\", 0, JY12))","v":0},{"$f":"IF(OR(EXACT(集計用!KC7,\"事業概要：\"), EXACT(集計用!KC7,\"ー\"), ISNUMBER(VALUE(集計用!KC7))), 0, IF(集計用!KC7=\"\", 0, JZ12))","v":0},{"$f":"IF(OR(EXACT(集計用!KD7,\"事業概要：\"), EXACT(集計用!KD7,\"ー\"), ISNUMBER(VALUE(集計用!KD7))), 0, IF(集計用!KD7=\"\", 0, KA12))","v":0},{"$f":"IF(OR(EXACT(集計用!KE7,\"事業概要：\"), EXACT(集計用!KE7,\"ー\"), ISNUMBER(VALUE(集計用!KE7))), 0, IF(集計用!KE7=\"\", 0, KB12))","v":0},{"$f":"IF(OR(EXACT(集計用!KF7,\"事業概要：\"), EXACT(集計用!KF7,\"ー\"), ISNUMBER(VALUE(集計用!KF7))), 0, IF(集計用!KF7=\"\", 0, KC12))","v":0},{"$f":"IF(OR(EXACT(集計用!KG7,\"事業概要：\"), EXACT(集計用!KG7,\"ー\"), ISNUMBER(VALUE(集計用!KG7))), 0, IF(集計用!KG7=\"\", 0, KD12))","v":0},{"$f":"IF(OR(EXACT(集計用!KH7,\"事業概要：\"), EXACT(集計用!KH7,\"ー\"), ISNUMBER(VALUE(集計用!KH7))), 0, IF(集計用!KH7=\"\", 0, KE12))","v":0},{"$f":"IF(OR(EXACT(集計用!KI7,\"事業概要：\"), EXACT(集計用!KI7,\"ー\"), ISNUMBER(VALUE(集計用!KI7))), 0, IF(集計用!KI7=\"\", 0, KF12))","v":0},{"$f":"IF(OR(EXACT(集計用!KJ7,\"事業概要：\"), EXACT(集計用!KJ7,\"ー\"), ISNUMBER(VALUE(集計用!KJ7))), 0, IF(集計用!KJ7=\"\", 0, KG12))","v":0},{"$f":"IF(OR(EXACT(集計用!KK7,\"事業概要：\"), EXACT(集計用!KK7,\"ー\"), ISNUMBER(VALUE(集計用!KK7))), 0, IF(集計用!KK7=\"\", 0, KH12))","v":0},{"$f":"IF(OR(EXACT(集計用!KL7,\"事業概要：\"), EXACT(集計用!KL7,\"ー\"), ISNUMBER(VALUE(集計用!KL7))), 0, IF(集計用!KL7=\"\", 0, KI12))","v":0},{"$f":"IF(OR(EXACT(集計用!KM7,\"事業概要：\"), EXACT(集計用!KM7,\"ー\"), ISNUMBER(VALUE(集計用!KM7))), 0, IF(集計用!KM7=\"\", 0, KJ12))","v":0},{"$f":"IF(OR(EXACT(集計用!KN7,\"事業概要：\"), EXACT(集計用!KN7,\"ー\"), ISNUMBER(VALUE(集計用!KN7))), 0, IF(集計用!KN7=\"\", 0, KK12))","v":0},{"$f":"IF(OR(EXACT(集計用!KO7,\"事業概要：\"), EXACT(集計用!KO7,\"ー\"), ISNUMBER(VALUE(集計用!KO7))), 0, IF(集計用!KO7=\"\", 0, KL12))","v":0},{"$f":"IF(OR(EXACT(集計用!KP7,\"事業概要：\"), EXACT(集計用!KP7,\"ー\"), ISNUMBER(VALUE(集計用!KP7))), 0, IF(集計用!KP7=\"\", 0, KM12))","v":0},{"$f":"IF(OR(EXACT(集計用!KQ7,\"事業概要：\"), EXACT(集計用!KQ7,\"ー\"), ISNUMBER(VALUE(集計用!KQ7))), 0, IF(集計用!KQ7=\"\", 0, KN12))","v":0},{"$f":"IF(OR(EXACT(集計用!KR7,\"事業概要：\"), EXACT(集計用!KR7,\"ー\"), ISNUMBER(VALUE(集計用!KR7))), 0, IF(集計用!KR7=\"\", 0, KO12))","v":0},{"$f":"IF(OR(EXACT(集計用!KS7,\"事業概要：\"), EXACT(集計用!KS7,\"ー\"), ISNUMBER(VALUE(集計用!KS7))), 0, IF(集計用!KS7=\"\", 0, KP12))","v":0},{"$f":"IF(OR(EXACT(集計用!KT7,\"事業概要：\"), EXACT(集計用!KT7,\"ー\"), ISNUMBER(VALUE(集計用!KT7))), 0, IF(集計用!KT7=\"\", 0, KQ12))","v":0},{"$f":"IF(OR(EXACT(集計用!KU7,\"事業概要：\"), EXACT(集計用!KU7,\"ー\"), ISNUMBER(VALUE(集計用!KU7))), 0, IF(集計用!KU7=\"\", 0, KR12))","v":0},{"$f":"IF(OR(EXACT(集計用!KV7,\"事業概要：\"), EXACT(集計用!KV7,\"ー\"), ISNUMBER(VALUE(集計用!KV7))), 0, IF(集計用!KV7=\"\", 0, KS12))","v":0},{"$f":"IF(OR(EXACT(集計用!KW7,\"事業概要：\"), EXACT(集計用!KW7,\"ー\"), ISNUMBER(VALUE(集計用!KW7))), 0, IF(集計用!KW7=\"\", 0, KT12))","v":0},{"$f":"IF(OR(EXACT(集計用!KX7,\"事業概要：\"), EXACT(集計用!KX7,\"ー\"), ISNUMBER(VALUE(集計用!KX7))), 0, IF(集計用!KX7=\"\", 0, KU12))","v":0},{"$f":"IF(OR(EXACT(集計用!KY7,\"事業概要：\"), EXACT(集計用!KY7,\"ー\"), ISNUMBER(VALUE(集計用!KY7))), 0, IF(集計用!KY7=\"\", 0, KV12))","v":0},{"$f":"IF(OR(EXACT(集計用!KZ7,\"事業概要：\"), EXACT(集計用!KZ7,\"ー\"), ISNUMBER(VALUE(集計用!KZ7))), 0, IF(集計用!KZ7=\"\", 0, KW12))","v":0},{"$f":"IF(OR(EXACT(集計用!LA7,\"事業概要：\"), EXACT(集計用!LA7,\"ー\"), ISNUMBER(VALUE(集計用!LA7))), 0, IF(集計用!LA7=\"\", 0, KX12))","v":0},{"$f":"IF(OR(EXACT(集計用!LB7,\"事業概要：\"), EXACT(集計用!LB7,\"ー\"), ISNUMBER(VALUE(集計用!LB7))), 0, IF(集計用!LB7=\"\", 0, KY12))","v":0},{"$f":"IF(OR(EXACT(集計用!LC7,\"事業概要：\"), EXACT(集計用!LC7,\"ー\"), ISNUMBER(VALUE(集計用!LC7))), 0, IF(集計用!LC7=\"\", 0, KZ12))","v":0},{"$f":"IF(OR(EXACT(集計用!LD7,\"事業概要：\"), EXACT(集計用!LD7,\"ー\"), ISNUMBER(VALUE(集計用!LD7))), 0, IF(集計用!LD7=\"\", 0, LA12))","v":0},{"$f":"IF(OR(EXACT(集計用!LE7,\"事業概要：\"), EXACT(集計用!LE7,\"ー\"), ISNUMBER(VALUE(集計用!LE7))), 0, IF(集計用!LE7=\"\", 0, LB12))","v":0},{"$f":"IF(OR(EXACT(集計用!LF7,\"事業概要：\"), EXACT(集計用!LF7,\"ー\"), ISNUMBER(VALUE(集計用!LF7))), 0, IF(集計用!LF7=\"\", 0, LC12))","v":0},{"$f":"IF(OR(EXACT(集計用!LG7,\"事業概要：\"), EXACT(集計用!LG7,\"ー\"), ISNUMBER(VALUE(集計用!LG7))), 0, IF(集計用!LG7=\"\", 0, LD12))","v":0},{"$f":"IF(OR(EXACT(集計用!LH7,\"事業概要：\"), EXACT(集計用!LH7,\"ー\"), ISNUMBER(VALUE(集計用!LH7))), 0, IF(集計用!LH7=\"\", 0, LE12))","v":0},{"$f":"IF(OR(EXACT(集計用!LI7,\"事業概要：\"), EXACT(集計用!LI7,\"ー\"), ISNUMBER(VALUE(集計用!LI7))), 0, IF(集計用!LI7=\"\", 0, LF12))","v":0},{"$f":"IF(OR(EXACT(集計用!LJ7,\"事業概要：\"), EXACT(集計用!LJ7,\"ー\"), ISNUMBER(VALUE(集計用!LJ7))), 0, IF(集計用!LJ7=\"\", 0, LG12))","v":0},{"$f":"IF(OR(EXACT(集計用!LK7,\"事業概要：\"), EXACT(集計用!LK7,\"ー\"), ISNUMBER(VALUE(集計用!LK7))), 0, IF(集計用!LK7=\"\", 0, LH12))","v":0},{"$f":"IF(OR(EXACT(集計用!LL7,\"事業概要：\"), EXACT(集計用!LL7,\"ー\"), ISNUMBER(VALUE(集計用!LL7))), 0, IF(集計用!LL7=\"\", 0, LI12))","v":0},{"$f":"IF(OR(EXACT(集計用!LM7,\"事業概要：\"), EXACT(集計用!LM7,\"ー\"), ISNUMBER(VALUE(集計用!LM7))), 0, IF(集計用!LM7=\"\", 0, LJ12))","v":0},{"$f":"IF(OR(EXACT(集計用!LN7,\"事業概要：\"), EXACT(集計用!LN7,\"ー\"), ISNUMBER(VALUE(集計用!LN7))), 0, IF(集計用!LN7=\"\", 0, LK12))","v":0},{"$f":"IF(OR(EXACT(集計用!LO7,\"事業概要：\"), EXACT(集計用!LO7,\"ー\"), ISNUMBER(VALUE(集計用!LO7))), 0, IF(集計用!LO7=\"\", 0, LL12))","v":0},{"$f":"IF(OR(EXACT(集計用!LP7,\"事業概要：\"), EXACT(集計用!LP7,\"ー\"), ISNUMBER(VALUE(集計用!LP7))), 0, IF(集計用!LP7=\"\", 0, LM12))","v":0},{"$f":"IF(OR(EXACT(集計用!LQ7,\"事業概要：\"), EXACT(集計用!LQ7,\"ー\"), ISNUMBER(VALUE(集計用!LQ7))), 0, IF(集計用!LQ7=\"\", 0, LN12))","v":0},{"$f":"IF(OR(EXACT(集計用!LR7,\"事業概要：\"), EXACT(集計用!LR7,\"ー\"), ISNUMBER(VALUE(集計用!LR7))), 0, IF(集計用!LR7=\"\", 0, LO12))","v":0},{"$f":"IF(OR(EXACT(集計用!LS7,\"事業概要：\"), EXACT(集計用!LS7,\"ー\"), ISNUMBER(VALUE(集計用!LS7))), 0, IF(集計用!LS7=\"\", 0, LP12))","v":0},{"$f":"IF(OR(EXACT(集計用!LT7,\"事業概要：\"), EXACT(集計用!LT7,\"ー\"), ISNUMBER(VALUE(集計用!LT7))), 0, IF(集計用!LT7=\"\", 0, LQ12))","v":0},{"$f":"IF(OR(EXACT(集計用!LU7,\"事業概要：\"), EXACT(集計用!LU7,\"ー\"), ISNUMBER(VALUE(集計用!LU7))), 0, IF(集計用!LU7=\"\", 0, LR12))","v":0},{"$f":"IF(OR(EXACT(集計用!LV7,\"事業概要：\"), EXACT(集計用!LV7,\"ー\"), ISNUMBER(VALUE(集計用!LV7))), 0, IF(集計用!LV7=\"\", 0, LS12))","v":0},{"$f":"IF(OR(EXACT(集計用!LW7,\"事業概要：\"), EXACT(集計用!LW7,\"ー\"), ISNUMBER(VALUE(集計用!LW7))), 0, IF(集計用!LW7=\"\", 0, LT12))","v":0},{"$f":"IF(OR(EXACT(集計用!LX7,\"事業概要：\"), EXACT(集計用!LX7,\"ー\"), ISNUMBER(VALUE(集計用!LX7))), 0, IF(集計用!LX7=\"\", 0, LU12))","v":0},{"$f":"IF(OR(EXACT(集計用!LY7,\"事業概要：\"), EXACT(集計用!LY7,\"ー\"), ISNUMBER(VALUE(集計用!LY7))), 0, IF(集計用!LY7=\"\", 0, LV12))","v":0},{"$f":"IF(OR(EXACT(集計用!LZ7,\"事業概要：\"), EXACT(集計用!LZ7,\"ー\"), ISNUMBER(VALUE(集計用!LZ7))), 0, IF(集計用!LZ7=\"\", 0, LW12))","v":0},{"$f":"IF(OR(EXACT(集計用!MA7,\"事業概要：\"), EXACT(集計用!MA7,\"ー\"), ISNUMBER(VALUE(集計用!MA7))), 0, IF(集計用!MA7=\"\", 0, LX12))","v":0},{"$f":"IF(OR(EXACT(集計用!MB7,\"事業概要：\"), EXACT(集計用!MB7,\"ー\"), ISNUMBER(VALUE(集計用!MB7))), 0, IF(集計用!MB7=\"\", 0, LY12))","v":0},{"$f":"IF(OR(EXACT(集計用!MC7,\"事業概要：\"), EXACT(集計用!MC7,\"ー\"), ISNUMBER(VALUE(集計用!MC7))), 0, IF(集計用!MC7=\"\", 0, LZ12))","v":0},{"$f":"IF(OR(EXACT(集計用!MD7,\"事業概要：\"), EXACT(集計用!MD7,\"ー\"), ISNUMBER(VALUE(集計用!MD7))), 0, IF(集計用!MD7=\"\", 0, MA12))","v":0},{"$f":"IF(OR(EXACT(集計用!ME7,\"事業概要：\"), EXACT(集計用!ME7,\"ー\"), ISNUMBER(VALUE(集計用!ME7))), 0, IF(集計用!ME7=\"\", 0, MB12))","v":0},{"$f":"IF(OR(EXACT(集計用!MF7,\"事業概要：\"), EXACT(集計用!MF7,\"ー\"), ISNUMBER(VALUE(集計用!MF7))), 0, IF(集計用!MF7=\"\", 0, MC12))","v":0},{"$f":"IF(OR(EXACT(集計用!MG7,\"事業概要：\"), EXACT(集計用!MG7,\"ー\"), ISNUMBER(VALUE(集計用!MG7))), 0, IF(集計用!MG7=\"\", 0, MD12))","v":0},{"$f":"IF(OR(EXACT(集計用!MH7,\"事業概要：\"), EXACT(集計用!MH7,\"ー\"), ISNUMBER(VALUE(集計用!MH7))), 0, IF(集計用!MH7=\"\", 0, ME12))","v":0},{"$f":"IF(OR(EXACT(集計用!MI7,\"事業概要：\"), EXACT(集計用!MI7,\"ー\"), ISNUMBER(VALUE(集計用!MI7))), 0, IF(集計用!MI7=\"\", 0, MF12))","v":0},{"$f":"IF(OR(EXACT(集計用!MJ7,\"事業概要：\"), EXACT(集計用!MJ7,\"ー\"), ISNUMBER(VALUE(集計用!MJ7))), 0, IF(集計用!MJ7=\"\", 0, MG12))","v":0},{"$f":"IF(OR(EXACT(集計用!MK7,\"事業概要：\"), EXACT(集計用!MK7,\"ー\"), ISNUMBER(VALUE(集計用!MK7))), 0, IF(集計用!MK7=\"\", 0, MH12))","v":0},{"$f":"IF(OR(EXACT(集計用!ML7,\"事業概要：\"), EXACT(集計用!ML7,\"ー\"), ISNUMBER(VALUE(集計用!ML7))), 0, IF(集計用!ML7=\"\", 0, MI12))","v":0},{"$f":"IF(OR(EXACT(集計用!MM7,\"事業概要：\"), EXACT(集計用!MM7,\"ー\"), ISNUMBER(VALUE(集計用!MM7))), 0, IF(集計用!MM7=\"\", 0, MJ12))","v":0},{"$f":"IF(OR(EXACT(集計用!MN7,\"事業概要：\"), EXACT(集計用!MN7,\"ー\"), ISNUMBER(VALUE(集計用!MN7))), 0, IF(集計用!MN7=\"\", 0, MK12))","v":0},{"$f":"IF(OR(EXACT(集計用!MO7,\"事業概要：\"), EXACT(集計用!MO7,\"ー\"), ISNUMBER(VALUE(集計用!MO7))), 0, IF(集計用!MO7=\"\", 0, ML12))","v":0},{"$f":"IF(OR(EXACT(集計用!MP7,\"事業概要：\"), EXACT(集計用!MP7,\"ー\"), ISNUMBER(VALUE(集計用!MP7))), 0, IF(集計用!MP7=\"\", 0, MM12))","v":0},{"$f":"IF(OR(EXACT(集計用!MQ7,\"事業概要：\"), EXACT(集計用!MQ7,\"ー\"), ISNUMBER(VALUE(集計用!MQ7))), 0, IF(集計用!MQ7=\"\", 0, MN12))","v":0},{"$f":"IF(OR(EXACT(集計用!MR7,\"事業概要：\"), EXACT(集計用!MR7,\"ー\"), ISNUMBER(VALUE(集計用!MR7))), 0, IF(集計用!MR7=\"\", 0, MO12))","v":0},{"$f":"IF(OR(EXACT(集計用!MS7,\"事業概要：\"), EXACT(集計用!MS7,\"ー\"), ISNUMBER(VALUE(集計用!MS7))), 0, IF(集計用!MS7=\"\", 0, MP12))","v":0},{"$f":"IF(OR(EXACT(集計用!MT7,\"事業概要：\"), EXACT(集計用!MT7,\"ー\"), ISNUMBER(VALUE(集計用!MT7))), 0, IF(集計用!MT7=\"\", 0, MQ12))","v":0},{"$f":"IF(OR(EXACT(集計用!MU7,\"事業概要：\"), EXACT(集計用!MU7,\"ー\"), ISNUMBER(VALUE(集計用!MU7))), 0, IF(集計用!MU7=\"\", 0, MR12))","v":0},{"$f":"IF(OR(EXACT(集計用!MV7,\"事業概要：\"), EXACT(集計用!MV7,\"ー\"), ISNUMBER(VALUE(集計用!MV7))), 0, IF(集計用!MV7=\"\", 0, MS12))","v":0},{"$f":"IF(OR(EXACT(集計用!MW7,\"事業概要：\"), EXACT(集計用!MW7,\"ー\"), ISNUMBER(VALUE(集計用!MW7))), 0, IF(集計用!MW7=\"\", 0, MT12))","v":0},{"$f":"IF(OR(EXACT(集計用!MX7,\"事業概要：\"), EXACT(集計用!MX7,\"ー\"), ISNUMBER(VALUE(集計用!MX7))), 0, IF(集計用!MX7=\"\", 0, MU12))","v":0},{"$f":"IF(OR(EXACT(集計用!MY7,\"事業概要：\"), EXACT(集計用!MY7,\"ー\"), ISNUMBER(VALUE(集計用!MY7))), 0, IF(集計用!MY7=\"\", 0, MV12))","v":0},{"$f":"IF(OR(EXACT(集計用!MZ7,\"事業概要：\"), EXACT(集計用!MZ7,\"ー\"), ISNUMBER(VALUE(集計用!MZ7))), 0, IF(集計用!MZ7=\"\", 0, MW12))","v":0},{"$f":"IF(OR(EXACT(集計用!NA7,\"事業概要：\"), EXACT(集計用!NA7,\"ー\"), ISNUMBER(VALUE(集計用!NA7))), 0, IF(集計用!NA7=\"\", 0, MX12))","v":0},{"$f":"IF(OR(EXACT(集計用!NB7,\"事業概要：\"), EXACT(集計用!NB7,\"ー\"), ISNUMBER(VALUE(集計用!NB7))), 0, IF(集計用!NB7=\"\", 0, MY12))","v":0},{"$f":"IF(OR(EXACT(集計用!NC7,\"事業概要：\"), EXACT(集計用!NC7,\"ー\"), ISNUMBER(VALUE(集計用!NC7))), 0, IF(集計用!NC7=\"\", 0, MZ12))","v":0},{"$f":"IF(OR(EXACT(集計用!ND7,\"事業概要：\"), EXACT(集計用!ND7,\"ー\"), ISNUMBER(VALUE(集計用!ND7))), 0, IF(集計用!ND7=\"\", 0, NA12))","v":0},{"$f":"IF(OR(EXACT(集計用!NE7,\"事業概要：\"), EXACT(集計用!NE7,\"ー\"), ISNUMBER(VALUE(集計用!NE7))), 0, IF(集計用!NE7=\"\", 0, NB12))","v":0},{"$f":"IF(OR(EXACT(集計用!NF7,\"事業概要：\"), EXACT(集計用!NF7,\"ー\"), ISNUMBER(VALUE(集計用!NF7))), 0, IF(集計用!NF7=\"\", 0, NC12))","v":0},{"$f":"IF(OR(EXACT(集計用!NG7,\"事業概要：\"), EXACT(集計用!NG7,\"ー\"), ISNUMBER(VALUE(集計用!NG7))), 0, IF(集計用!NG7=\"\", 0, ND12))","v":0},{"$f":"IF(OR(EXACT(集計用!NH7,\"事業概要：\"), EXACT(集計用!NH7,\"ー\"), ISNUMBER(VALUE(集計用!NH7))), 0, IF(集計用!NH7=\"\", 0, NE12))","v":0},{"$f":"IF(OR(EXACT(集計用!NI7,\"事業概要：\"), EXACT(集計用!NI7,\"ー\"), ISNUMBER(VALUE(集計用!NI7))), 0, IF(集計用!NI7=\"\", 0, NF12))","v":0},{"$f":"IF(OR(EXACT(集計用!NJ7,\"事業概要：\"), EXACT(集計用!NJ7,\"ー\"), ISNUMBER(VALUE(集計用!NJ7))), 0, IF(集計用!NJ7=\"\", 0, NG12))","v":0},{"$f":"IF(OR(EXACT(集計用!NK7,\"事業概要：\"), EXACT(集計用!NK7,\"ー\"), ISNUMBER(VALUE(集計用!NK7))), 0, IF(集計用!NK7=\"\", 0, NH12))","v":0},{"$f":"IF(OR(EXACT(集計用!NL7,\"事業概要：\"), EXACT(集計用!NL7,\"ー\"), ISNUMBER(VALUE(集計用!NL7))), 0, IF(集計用!NL7=\"\", 0, NI12))","v":0},{"$f":"IF(OR(EXACT(集計用!NM7,\"事業概要：\"), EXACT(集計用!NM7,\"ー\"), EXACT(集計用!NM7,0), NOT(ISNUMBER(VALUE(集計用!NM7)))), 0, IF(集計用!NM7=\"\", 0, NJ12))","v":0},{"$f":"IF(OR(EXACT(集計用!NN7,\"事業概要：\"), EXACT(集計用!NN7,\"ー\"), ISNUMBER(VALUE(集計用!NN7))), 0, IF(集計用!NN7=\"\", 0, NK12))","v":0},{"$f":"IF(OR(EXACT(集計用!NO7,\"事業概要：\"), EXACT(集計用!NO7,\"ー\"), ISNUMBER(VALUE(集計用!NO7))), 0, IF(集計用!NO7=\"\", 0, NL12))","v":0},{"$f":"IF(OR(EXACT(集計用!NP7,\"事業概要：\"), EXACT(集計用!NP7,\"ー\"), ISNUMBER(VALUE(集計用!NP7))), 0, IF(集計用!NP7=\"\", 0, NM12))","v":0},{"$f":"IF(OR(EXACT(集計用!NQ7,\"事業概要：\"), EXACT(集計用!NQ7,\"ー\"), ISNUMBER(VALUE(集計用!NQ7))), 0, IF(集計用!NQ7=\"\", 0, NN12))","v":0},{"$f":"IF(OR(EXACT(集計用!NR7,\"事業概要：\"), EXACT(集計用!NR7,\"ー\"), ISNUMBER(VALUE(集計用!NR7))), 0, IF(集計用!NR7=\"\", 0, NO12))","v":0},{"$f":"IF(OR(EXACT(集計用!NS7,\"事業概要：\"), EXACT(集計用!NS7,\"ー\"), ISNUMBER(VALUE(集計用!NS7))), 0, IF(集計用!NS7=\"\", 0, NP12))","v":0},{"$f":"IF(OR(EXACT(集計用!NT7,\"事業概要：\"), EXACT(集計用!NT7,\"ー\"), ISNUMBER(VALUE(集計用!NT7))), 0, IF(集計用!NT7=\"\", 0, NQ12))","v":0},{"$f":"IF(OR(EXACT(集計用!NU7,\"事業概要：\"), EXACT(集計用!NU7,\"ー\"), ISNUMBER(VALUE(集計用!NU7))), 0, IF(集計用!NU7=\"\", 0, NR12))","v":0},{"$f":"IF(OR(EXACT(集計用!NV7,\"事業概要：\"), EXACT(集計用!NV7,\"ー\"), ISNUMBER(VALUE(集計用!NV7))), 0, IF(集計用!NV7=\"\", 0, NS12))","v":0},{"$f":"IF(OR(EXACT(集計用!NW7,\"事業概要：\"), EXACT(集計用!NW7,\"ー\"), ISNUMBER(VALUE(集計用!NW7))), 0, IF(集計用!NW7=\"\", 0, NT12))","v":0},{"$f":"IF(OR(EXACT(集計用!NX7,\"事業概要：\"), EXACT(集計用!NX7,\"ー\"), ISNUMBER(VALUE(集計用!NX7))), 0, IF(集計用!NX7=\"\", 0, NU12))","v":0},{"$f":"IF(OR(EXACT(集計用!NY7,\"事業概要：\"), EXACT(集計用!NY7,\"ー\"), EXACT(集計用!NY7,0), NOT(ISNUMBER(VALUE(集計用!NY7)))), 0, IF(集計用!NY7=\"\", 0, NV12))","v":0},{"$f":"IF(OR(EXACT(集計用!NZ7,\"事業概要：\"), EXACT(集計用!NZ7,\"ー\"), ISNUMBER(VALUE(集計用!NZ7))), 0, IF(集計用!NZ7=\"\", 0, NW12))","v":0},{"$f":"IF(OR(EXACT(集計用!OA7,\"事業概要：\"), EXACT(集計用!OA7,\"ー\"), ISNUMBER(VALUE(集計用!OA7))), 0, IF(集計用!OA7=\"\", 0, NX12))","v":0},{"$f":"IF(OR(EXACT(集計用!OB7,\"事業概要：\"), EXACT(集計用!OB7,\"ー\"), ISNUMBER(VALUE(集計用!OB7))), 0, IF(集計用!OB7=\"\", 0, NY12))","v":0},{"$f":"IF(OR(EXACT(集計用!OC7,\"事業概要：\"), EXACT(集計用!OC7,\"ー\"), ISNUMBER(VALUE(集計用!OC7))), 0, IF(集計用!OC7=\"\", 0, NZ12))","v":0},{"$f":"IF(OR(EXACT(集計用!OD7,\"事業概要：\"), EXACT(集計用!OD7,\"ー\"), ISNUMBER(VALUE(集計用!OD7))), 0, IF(集計用!OD7=\"\", 0, OA12))","v":0},{"$f":"IF(OR(EXACT(集計用!OE7,\"事業概要：\"), EXACT(集計用!OE7,\"ー\"), ISNUMBER(VALUE(集計用!OE7))), 0, IF(集計用!OE7=\"\", 0, OB12))","v":0},{"$f":"IF(OR(EXACT(集計用!OF7,\"事業概要：\"), EXACT(集計用!OF7,\"ー\"), ISNUMBER(VALUE(集計用!OF7))), 0, IF(集計用!OF7=\"\", 0, OC12))","v":0},{"$f":"IF(OR(EXACT(集計用!OG7,\"事業概要：\"), EXACT(集計用!OG7,\"ー\"), ISNUMBER(VALUE(集計用!OG7))), 0, IF(集計用!OG7=\"\", 0, OD12))","v":0},{"$f":"IF(OR(EXACT(集計用!OH7,\"事業概要：\"), EXACT(集計用!OH7,\"ー\"), ISNUMBER(VALUE(集計用!OH7))), 0, IF(集計用!OH7=\"\", 0, OE12))","v":0},{"$f":"IF(OR(EXACT(集計用!OI7,\"事業概要：\"), EXACT(集計用!OI7,\"ー\"), ISNUMBER(VALUE(集計用!OI7))), 0, IF(集計用!OI7=\"\", 0, OF12))","v":0},{"$f":"IF(OR(EXACT(集計用!OJ7,\"事業概要：\"), EXACT(集計用!OJ7,\"ー\"), EXACT(集計用!OJ7,0), NOT(ISNUMBER(VALUE(集計用!OJ7)))), 0, IF(集計用!OJ7=\"\", 0, OG12))","v":0}]
[{"$f":"IF(OR(EXACT(集計用!A7,\"事業概要：\"),EXACT(集計用!A7,\"ー\"),集計用!A7=0,集計用!A7=\"\"),0,1)","v":0},{"$f":"IF(OR(EXACT(集計用!B7,\"事業概要：\"),EXACT(集計用!B7,\"ー\"),集計用!B7=0,集計用!B7=\"\"),0,1)","v":0},{"$f":"IF(OR(EXACT(集計用!C7,\"事業概要：\"),EXACT(集計用!C7,\"ー\"),集計用!C7=0,集計用!C7=\"\"),0,1)","v":0},{"$f":"IF(OR(EXACT(集計用!D7,\"事業概要：\"),EXACT(集計用!D7,\"ー\"),集計用!D7=0,集計用!D7=\"\"),0,1)","v":0},{"$f":"IF(OR(EXACT(集計用!E7,\"事業概要：\"),EXACT(集計用!E7,\"ー\"),集計用!E7=0,集計用!E7=\"\"),0,1)","v":0},{"$f":"IF(OR(EXACT(集計用!F7,\"事業概要：\"),EXACT(集計用!F7,\"ー\"),集計用!F7=0,集計用!F7=\"\"),0,1)","v":0},{"$f":"IF(OR(EXACT(集計用!G7,\"事業概要：\"),EXACT(集計用!G7,\"ー\"),集計用!G7=0,集計用!G7=\"\"),0,1)","v":0},{"$f":"IF(OR(EXACT(集計用!H7,\"事業概要：\"),EXACT(集計用!H7,\"ー\"),集計用!H7=0,集計用!H7=\"\"),0,1)","v":0},{"$f":"IF(OR(EXACT(集計用!I7,\"事業概要：\"),EXACT(集計用!I7,\"ー\"),集計用!I7=0,集計用!I7=\"\"),0,1)","v":0},{"$f":"IF(OR(EXACT(集計用!J7,\"事業概要：\"),EXACT(集計用!J7,\"ー\"),集計用!J7=0,集計用!J7=\"\"),0,1)","v":0},{"$f":"IF(OR(EXACT(集計用!K7,\"事業概要：\"),EXACT(集計用!K7,\"ー\"),集計用!K7=0,集計用!K7=\"\"),0,1)","v":0},{"$f":"IF(OR(EXACT(集計用!L7,\"事業概要：\"),EXACT(集計用!L7,\"ー\"),集計用!L7=0,集計用!L7=\"\"),0,1)","v":0},{"$f":"IF(OR(EXACT(集計用!M7,\"事業概要：\"),EXACT(集計用!M7,\"ー\"),集計用!M7=0,集計用!M7=\"\"),0,1)","v":0},{"$f":"IF(OR(EXACT(集計用!N7,\"事業概要：\"),EXACT(集計用!N7,\"ー\"),集計用!N7=0,集計用!N7=\"\"),0,1)","v":0},{"$f":"IF(OR(EXACT(集計用!O7,\"事業概要：\"),EXACT(集計用!O7,\"ー\"),集計用!O7=0,集計用!O7=\"\"),0,1)","v":0},{"$f":"IF(OR(EXACT(集計用!P7,\"事業概要：\"),EXACT(集計用!P7,\"ー\"),集計用!P7=0,集計用!P7=\"\"),0,1)","v":0},{"$f":"IF(OR(EXACT(集計用!Q7,\"事業概要：\"),EXACT(集計用!Q7,\"ー\"),集計用!Q7=0,集計用!Q7=\"\"),0,1)","v":0},{"$f":"IF(OR(EXACT(集計用!R7,\"事業概要：\"),EXACT(集計用!R7,\"ー\"),集計用!R7=0,集計用!R7=\"\"),0,1)","v":0},{"$f":"IF(OR(EXACT(集計用!S7,\"事業概要：\"),EXACT(集計用!S7,\"ー\"),集計用!S7=0,集計用!S7=\"\"),0,1)","v":0},{"$f":"IF(OR(EXACT(集計用!T7,\"事業概要：\"),EXACT(集計用!T7,\"ー\"),集計用!T7=0,集計用!T7=\"\"),0,1)","v":0},{"$f":"IF(OR(EXACT(集計用!X7,\"事業概要：\"),EXACT(集計用!X7,\"ー\"),集計用!X7=0,集計用!X7=\"\"),0,1)","v":0},{"$f":"IF(OR(EXACT(集計用!Y7,\"事業概要：\"),EXACT(集計用!Y7,\"ー\"),集計用!Y7=0,集計用!Y7=\"\"),0,1)","v":0},{"$f":"IF(OR(EXACT(集計用!Z7,\"事業概要：\"),EXACT(集計用!Z7,\"ー\"),集計用!Z7=0,集計用!Z7=\"\"),0,1)","v":0},{"$f":"IF(OR(EXACT(集計用!AA7,\"事業概要：\"),EXACT(集計用!AA7,\"ー\"),集計用!AA7=0,集計用!AA7=\"\"),0,1)","v":0},{"$f":"IF(OR(EXACT(集計用!AB7,\"事業概要：\"),EXACT(集計用!AB7,\"ー\"),集計用!AB7=0,集計用!AB7=\"\"),0,1)","v":0},{"$f":"IF(OR(EXACT(集計用!AC7,\"事業概要：\"),EXACT(集計用!AC7,\"ー\"),集計用!AC7=0,集計用!AC7=\"\"),0,1)","v":0},{"$f":"IF(OR(EXACT(集計用!AD7,\"事業概要：\"),EXACT(集計用!AD7,\"ー\"),集計用!AD7=0,集計用!AD7=\"\"),0,1)","v":0},{"$f":"IF(OR(EXACT(集計用!AE7,\"事業概要：\"),EXACT(集計用!AE7,\"ー\"),集計用!AE7=0,集計用!AE7=\"\"),0,1)","v":0},{"$f":"IF(OR(EXACT(集計用!AF7,\"事業概要：\"),EXACT(集計用!AF7,\"ー\"),集計用!AF7=0,集計用!AF7=\"\"),0,1)","v":0},{"$f":"IF(OR(EXACT(集計用!AG7,\"事業概要：\"),EXACT(集計用!AG7,\"ー\"),集計用!AG7=0,集計用!AG7=\"\"),0,1)","v":0},{"$f":"IF(OR(EXACT(集計用!AH7,\"事業概要：\"),EXACT(集計用!AH7,\"ー\"),集計用!AH7=0,集計用!AH7=\"\"),0,1)","v":0},{"$f":"IF(OR(EXACT(集計用!AI7,\"事業概要：\"),EXACT(集計用!AI7,\"ー\"),集計用!AI7=0,集計用!AI7=\"\"),0,1)","v":0},{"$f":"IF(OR(EXACT(集計用!AJ7,\"事業概要：\"),EXACT(集計用!AJ7,\"ー\"),集計用!AJ7=0,集計用!AJ7=\"\"),0,1)","v":0},{"$f":"IF(OR(EXACT(集計用!AK7,\"事業概要：\"),EXACT(集計用!AK7,\"ー\"),集計用!AK7=0,集計用!AK7=\"\"),0,1)","v":0},{"$f":"IF(OR(EXACT(集計用!AL7,\"事業概要：\"),EXACT(集計用!AL7,\"ー\"),集計用!AL7=0,集計用!AL7=\"\"),0,1)","v":0},{"$f":"IF(OR(EXACT(集計用!AM7,\"事業概要：\"),EXACT(集計用!AM7,\"ー\"),集計用!AM7=0,集計用!AM7=\"\"),0,1)","v":0},{"$f":"IF(OR(EXACT(集計用!AN7,\"事業概要：\"),EXACT(集計用!AN7,\"ー\"),集計用!AN7=0,集計用!AN7=\"\"),0,1)","v":0},{"$f":"IF(OR(EXACT(集計用!AO7,\"事業概要：\"),EXACT(集計用!AO7,\"ー\"),集計用!AO7=0,集計用!AO7=\"\"),0,1)","v":0},{"$f":"IF(OR(EXACT(集計用!AP7,\"事業概要：\"),EXACT(集計用!AP7,\"ー\"),集計用!AP7=0,集計用!AP7=\"\"),0,1)","v":0},{"$f":"IF(OR(EXACT(集計用!AQ7,\"事業概要：\"),EXACT(集計用!AQ7,\"ー\"),集計用!AQ7=0,集計用!AQ7=\"\"),0,1)","v":0},{"$f":"IF(OR(EXACT(集計用!AR7,\"事業概要：\"),EXACT(集計用!AR7,\"ー\"),集計用!AR7=0,集計用!AR7=\"\"),0,1)","v":0},{"$f":"IF(OR(EXACT(集計用!AS7,\"事業概要：\"),EXACT(集計用!AS7,\"ー\"),集計用!AS7=0,集計用!AS7=\"\"),0,1)","v":0},{"$f":"IF(OR(EXACT(集計用!AT7,\"事業概要：\"),EXACT(集計用!AT7,\"ー\"),集計用!AT7=0,集計用!AT7=\"\"),0,1)","v":0},{"$f":"IF(OR(EXACT(集計用!AU7,\"事業概要：\"),EXACT(集計用!AU7,\"ー\"),集計用!AU7=0,集計用!AU7=\"\"),0,1)","v":0},{"$f":"IF(OR(EXACT(集計用!AV7,\"事業概要：\"),EXACT(集計用!AV7,\"ー\"),集計用!AV7=0,集計用!AV7=\"\"),0,1)","v":0},{"$f":"IF(OR(EXACT(集計用!AW7,\"事業概要：\"),EXACT(集計用!AW7,\"ー\"),集計用!AW7=0,集計用!AW7=\"\"),0,1)","v":0},{"$f":"IF(OR(EXACT(集計用!AX7,\"事業概要：\"),EXACT(集計用!AX7,\"ー\"),集計用!AX7=0,集計用!AX7=\"\"),0,1)","v":0},{"$f":"IF(OR(EXACT(集計用!AY7,\"事業概要：\"),EXACT(集計用!AY7,\"ー\"),集計用!AY7=0,集計用!AY7=\"\"),0,1)","v":0},{"$f":"IF(OR(EXACT(集計用!AZ7,\"事業概要：\"),EXACT(集計用!AZ7,\"ー\"),集計用!AZ7=0,集計用!AZ7=\"\"),0,1)","v":0},{"$f":"IF(OR(EXACT(集計用!BA7,\"事業概要：\"),EXACT(集計用!BA7,\"ー\"),集計用!BA7=0,集計用!BA7=\"\"),0,1)","v":0},{"$f":"IF(OR(EXACT(集計用!BB7,\"事業概要：\"),EXACT(集計用!BB7,\"ー\"),集計用!BB7=0,集計用!BB7=\"\"),0,1)","v":0},{"$f":"IF(OR(EXACT(集計用!BC7,\"事業概要：\"),EXACT(集計用!BC7,\"ー\"),集計用!BC7=0,集計用!BC7=\"\"),0,1)","v":0},{"$f":"IF(OR(EXACT(集計用!BD7,\"事業概要：\"),EXACT(集計用!BD7,\"ー\"),集計用!BD7=0,集計用!BD7=\"\"),0,1)","v":0},{"$f":"IF(OR(EXACT(集計用!BE7,\"事業概要：\"),EXACT(集計用!BE7,\"ー\"),集計用!BE7=0,集計用!BE7=\"\"),0,1)","v":0},{"$f":"IF(OR(EXACT(集計用!BF7,\"事業概要：\"),EXACT(集計用!BF7,\"ー\"),集計用!BF7=0,集計用!BF7=\"\"),0,1)","v":0},{"$f":"IF(OR(EXACT(集計用!BG7,\"事業概要：\"),EXACT(集計用!BG7,\"ー\"),集計用!BG7=0,集計用!BG7=\"\"),0,1)","v":0},{"$f":"IF(OR(EXACT(集計用!BH7,\"事業概要：\"),EXACT(集計用!BH7,\"ー\"),集計用!BH7=0,集計用!BH7=\"\"),0,1)","v":0},{"$f":"IF(OR(EXACT(集計用!BI7,\"事業概要：\"),EXACT(集計用!BI7,\"ー\"),集計用!BI7=0,集計用!BI7=\"\"),0,1)","v":0},{"$f":"IF(OR(EXACT(集計用!BJ7,\"事業概要：\"),EXACT(集計用!BJ7,\"ー\"),集計用!BJ7=0,集計用!BJ7=\"\"),0,1)","v":0},{"$f":"IF(OR(EXACT(集計用!BK7,\"事業概要：\"),EXACT(集計用!BK7,\"ー\"),集計用!BK7=0,集計用!BK7=\"\"),0,1)","v":0},{"$f":"IF(OR(EXACT(集計用!BL7,\"事業概要：\"),EXACT(集計用!BL7,\"ー\"),集計用!BL7=0,集計用!BL7=\"\"),0,1)","v":0},{"$f":"IF(OR(EXACT(集計用!BM7,\"事業概要：\"),EXACT(集計用!BM7,\"ー\"),集計用!BM7=0,集計用!BM7=\"\"),0,1)","v":0},{"$f":"IF(OR(EXACT(集計用!BN7,\"事業概要：\"),EXACT(集計用!BN7,\"ー\"),集計用!BN7=0,集計用!BN7=\"\"),0,1)","v":0},{"$f":"IF(OR(EXACT(集計用!BO7,\"事業概要：\"),EXACT(集計用!BO7,\"ー\"),集計用!BO7=0,集計用!BO7=\"\"),0,1)","v":0},{"$f":"IF(OR(EXACT(集計用!BP7,\"事業概要：\"),EXACT(集計用!BP7,\"ー\"),集計用!BP7=0,集計用!BP7=\"\"),0,1)","v":0},{"$f":"IF(OR(EXACT(集計用!BQ7,\"事業概要：\"),EXACT(集計用!BQ7,\"ー\"),集計用!BQ7=0,集計用!BQ7=\"\"),0,1)","v":0},{"$f":"IF(OR(EXACT(集計用!BR7,\"事業概要：\"),EXACT(集計用!BR7,\"ー\"),集計用!BR7=0,集計用!BR7=\"\"),0,1)","v":0},{"$f":"IF(OR(EXACT(集計用!BS7,\"事業概要：\"),EXACT(集計用!BS7,\"ー\"),集計用!BS7=0,集計用!BS7=\"\"),0,1)","v":0},{"$f":"IF(OR(EXACT(集計用!BT7,\"事業概要：\"),EXACT(集計用!BT7,\"ー\"),集計用!BT7=0,集計用!BT7=\"\"),0,1)","v":0},{"$f":"IF(OR(EXACT(集計用!BU7,\"事業概要：\"),EXACT(集計用!BU7,\"ー\"),集計用!BU7=0,集計用!BU7=\"\"),0,1)","v":0},{"$f":"IF(OR(EXACT(集計用!BV7,\"事業概要：\"),EXACT(集計用!BV7,\"ー\"),集計用!BV7=0,集計用!BV7=\"\"),0,1)","v":0},{"$f":"IF(OR(EXACT(集計用!BW7,\"事業概要：\"),EXACT(集計用!BW7,\"ー\"),集計用!BW7=0,集計用!BW7=\"\"),0,1)","v":0},{"$f":"IF(OR(EXACT(集計用!BX7,\"事業概要：\"),EXACT(集計用!BX7,\"ー\"),集計用!BX7=0,集計用!BX7=\"\"),0,1)","v":0},{"$f":"IF(OR(EXACT(集計用!BY7,\"事業概要：\"),EXACT(集計用!BY7,\"ー\"),集計用!BY7=0,集計用!BY7=\"\"),0,1)","v":0},{"$f":"IF(OR(EXACT(集計用!BZ7,\"事業概要：\"),EXACT(集計用!BZ7,\"ー\"),集計用!BZ7=0,集計用!BZ7=\"\"),0,1)","v":0},{"$f":"IF(OR(EXACT(集計用!CA7,\"事業概要：\"),EXACT(集計用!CA7,\"ー\"),集計用!CA7=0,集計用!CA7=\"\"),0,1)","v":0},{"$f":"IF(OR(EXACT(集計用!CB7,\"事業概要：\"),EXACT(集計用!CB7,\"ー\"),集計用!CB7=0,集計用!CB7=\"\"),0,1)","v":0},{"$f":"IF(OR(EXACT(集計用!CC7,\"事業概要：\"),EXACT(集計用!CC7,\"ー\"),集計用!CC7=0,集計用!CC7=\"\"),0,1)","v":0},{"$f":"IF(OR(EXACT(集計用!CD7,\"事業概要：\"),EXACT(集計用!CD7,\"ー\"),集計用!CD7=0,集計用!CD7=\"\"),0,1)","v":0},{"$f":"IF(OR(EXACT(集計用!CE7,\"事業概要：\"),EXACT(集計用!CE7,\"ー\"),集計用!CE7=0,集計用!CE7=\"\"),0,1)","v":0},{"$f":"IF(OR(EXACT(集計用!CF7,\"事業概要：\"),EXACT(集計用!CF7,\"ー\"),集計用!CF7=0,集計用!CF7=\"\"),0,1)","v":0},{"$f":"IF(OR(EXACT(集計用!CG7,\"事業概要：\"),EXACT(集計用!CG7,\"ー\"),集計用!CG7=0,集計用!CG7=\"\"),0,1)","v":0},{"$f":"IF(OR(EXACT(集計用!CH7,\"事業概要：\"),EXACT(集計用!CH7,\"ー\"),集計用!CH7=0,集計用!CH7=\"\"),0,1)","v":0},{"$f":"IF(OR(EXACT(集計用!CI7,\"事業概要：\"),EXACT(集計用!CI7,\"ー\"),集計用!CI7=0,集計用!CI7=\"\"),0,1)","v":0},{"$f":"IF(OR(EXACT(集計用!CJ7,\"事業概要：\"),EXACT(集計用!CJ7,\"ー\"),集計用!CJ7=0,集計用!CJ7=\"\"),0,1)","v":0},{"$f":"IF(OR(EXACT(集計用!CK7,\"事業概要：\"),EXACT(集計用!CK7,\"ー\"),集計用!CK7=0,集計用!CK7=\"\"),0,1)","v":0},{"$f":"IF(OR(EXACT(集計用!CL7,\"事業概要：\"),EXACT(集計用!CL7,\"ー\"),集計用!CL7=0,集計用!CL7=\"\"),0,1)","v":0},{"$f":"IF(OR(EXACT(集計用!CM7,\"事業概要：\"),EXACT(集計用!CM7,\"ー\"),集計用!CM7=0,集計用!CM7=\"\"),0,1)","v":0},{"$f":"IF(OR(EXACT(集計用!CN7,\"事業概要：\"),EXACT(集計用!CN7,\"ー\"),集計用!CN7=0,集計用!CN7=\"\"),0,1)","v":0},{"$f":"IF(OR(EXACT(集計用!CO7,\"事業概要：\"),EXACT(集計用!CO7,\"ー\"),集計用!CO7=0,集計用!CO7=\"\"),0,1)","v":0},{"$f":"IF(OR(EXACT(集計用!CP7,\"事業概要：\"),EXACT(集計用!CP7,\"ー\"),集計用!CP7=0,集計用!CP7=\"\"),0,1)","v":0},{"$f":"IF(OR(EXACT(集計用!CQ7,\"事業概要：\"),EXACT(集計用!CQ7,\"ー\"),集計用!CQ7=0,集計用!CQ7=\"\"),0,1)","v":0},{"$f":"IF(OR(EXACT(集計用!CR7,\"事業概要：\"),EXACT(集計用!CR7,\"ー\"),集計用!CR7=0,集計用!CR7=\"\"),0,1)","v":0},{"$f":"IF(OR(EXACT(集計用!CS7,\"事業概要：\"),EXACT(集計用!CS7,\"ー\"),集計用!CS7=0,集計用!CS7=\"\"),0,1)","v":0},{"$f":"IF(OR(EXACT(集計用!CT7,\"事業概要：\"),EXACT(集計用!CT7,\"ー\"),集計用!CT7=0,集計用!CT7=\"\"),0,1)","v":0},{"$f":"IF(OR(EXACT(集計用!CU7,\"事業概要：\"),EXACT(集計用!CU7,\"ー\"),集計用!CU7=0,集計用!CU7=\"\"),0,1)","v":0},{"$f":"IF(OR(EXACT(集計用!CV7,\"事業概要：\"),EXACT(集計用!CV7,\"ー\"),集計用!CV7=0,集計用!CV7=\"\"),0,1)","v":0},{"$f":"IF(OR(EXACT(集計用!CW7,\"事業概要：\"),EXACT(集計用!CW7,\"ー\"),集計用!CW7=0,集計用!CW7=\"\"),0,1)","v":0},{"$f":"IF(OR(EXACT(集計用!CX7,\"事業概要：\"),EXACT(集計用!CX7,\"ー\"),集計用!CX7=0,集計用!CX7=\"\"),0,1)","v":0},{"$f":"IF(OR(EXACT(集計用!CY7,\"事業概要：\"),EXACT(集計用!CY7,\"ー\"),集計用!CY7=0,集計用!CY7=\"\"),0,1)","v":0},{"$f":"IF(OR(EXACT(集計用!CZ7,\"事業概要：\"),EXACT(集計用!CZ7,\"ー\"),集計用!CZ7=0,集計用!CZ7=\"\"),0,1)","v":0},{"$f":"IF(OR(EXACT(集計用!DA7,\"事業概要：\"),EXACT(集計用!DA7,\"ー\"),集計用!DA7=0,集計用!DA7=\"\"),0,1)","v":0},{"$f":"IF(OR(EXACT(集計用!DB7,\"事業概要：\"),EXACT(集計用!DB7,\"ー\"),集計用!DB7=0,集計用!DB7=\"\"),0,1)","v":0},{"$f":"IF(OR(EXACT(集計用!DC7,\"事業概要：\"),EXACT(集計用!DC7,\"ー\"),集計用!DC7=0,集計用!DC7=\"\"),0,1)","v":0},{"$f":"IF(OR(EXACT(集計用!DD7,\"事業概要：\"),EXACT(集計用!DD7,\"ー\"),集計用!DD7=0,集計用!DD7=\"\"),0,1)","v":0},{"$f":"IF(OR(EXACT(集計用!DE7,\"事業概要：\"),EXACT(集計用!DE7,\"ー\"),集計用!DE7=0,集計用!DE7=\"\"),0,1)","v":0},{"$f":"IF(OR(EXACT(集計用!DF7,\"事業概要：\"),EXACT(集計用!DF7,\"ー\"),集計用!DF7=0,集計用!DF7=\"\"),0,1)","v":0},{"$f":"IF(OR(EXACT(集計用!DG7,\"事業概要：\"),EXACT(集計用!DG7,\"ー\"),集計用!DG7=0,集計用!DG7=\"\"),0,1)","v":0},{"$f":"IF(OR(EXACT(集計用!DH7,\"事業概要：\"),EXACT(集計用!DH7,\"ー\"),集計用!DH7=0,集計用!DH7=\"\"),0,1)","v":0},{"$f":"IF(OR(EXACT(集計用!DI7,\"事業概要：\"),EXACT(集計用!DI7,\"ー\"),集計用!DI7=0,集計用!DI7=\"\"),0,1)","v":0},{"$f":"IF(OR(EXACT(集計用!DJ7,\"事業概要：\"),EXACT(集計用!DJ7,\"ー\"),集計用!DJ7=0,集計用!DJ7=\"\"),0,1)","v":0},{"$f":"IF(OR(EXACT(集計用!DK7,\"事業概要：\"),EXACT(集計用!DK7,\"ー\"),集計用!DK7=0,集計用!DK7=\"\"),0,1)","v":0},{"$f":"IF(OR(EXACT(集計用!DL7,\"事業概要：\"),EXACT(集計用!DL7,\"ー\"),集計用!DL7=0,集計用!DL7=\"\"),0,1)","v":0},{"$f":"IF(OR(EXACT(集計用!DM7,\"事業概要：\"),EXACT(集計用!DM7,\"ー\"),集計用!DM7=0,集計用!DM7=\"\"),0,1)","v":0},{"$f":"IF(OR(EXACT(集計用!DN7,\"事業概要：\"),EXACT(集計用!DN7,\"ー\"),集計用!DN7=0,集計用!DN7=\"\"),0,1)","v":0},{"$f":"IF(OR(EXACT(集計用!DO7,\"事業概要：\"),EXACT(集計用!DO7,\"ー\"),集計用!DO7=0,集計用!DO7=\"\"),0,1)","v":0},{"$f":"IF(OR(EXACT(集計用!DP7,\"事業概要：\"),EXACT(集計用!DP7,\"ー\"),集計用!DP7=0,集計用!DP7=\"\"),0,1)","v":0},{"$f":"IF(OR(EXACT(集計用!DQ7,\"事業概要：\"),EXACT(集計用!DQ7,\"ー\"),集計用!DQ7=0,集計用!DQ7=\"\"),0,1)","v":0},{"$f":"IF(OR(EXACT(集計用!DR7,\"事業概要：\"),EXACT(集計用!DR7,\"ー\"),集計用!DR7=0,集計用!DR7=\"\"),0,1)","v":0},{"$f":"IF(OR(EXACT(集計用!DS7,\"事業概要：\"),EXACT(集計用!DS7,\"ー\"),集計用!DS7=0,集計用!DS7=\"\"),0,1)","v":0},{"$f":"IF(OR(EXACT(集計用!DT7,\"事業概要：\"),EXACT(集計用!DT7,\"ー\"),集計用!DT7=0,集計用!DT7=\"\"),0,1)","v":0},{"$f":"IF(OR(EXACT(集計用!DU7,\"事業概要：\"),EXACT(集計用!DU7,\"ー\"),集計用!DU7=0,集計用!DU7=\"\"),0,1)","v":0},{"$f":"IF(OR(EXACT(集計用!DV7,\"事業概要：\"),EXACT(集計用!DV7,\"ー\"),集計用!DV7=0,集計用!DV7=\"\"),0,1)","v":0},{"$f":"IF(OR(EXACT(集計用!DW7,\"事業概要：\"),EXACT(集計用!DW7,\"ー\"),集計用!DW7=0,集計用!DW7=\"\"),0,1)","v":0},{"$f":"IF(OR(EXACT(集計用!DX7,\"事業概要：\"),EXACT(集計用!DX7,\"ー\"),集計用!DX7=0,集計用!DX7=\"\"),0,1)","v":0},{"$f":"IF(OR(EXACT(集計用!DY7,\"事業概要：\"),EXACT(集計用!DY7,\"ー\"),集計用!DY7=0,集計用!DY7=\"\"),0,1)","v":0},{"$f":"IF(OR(EXACT(集計用!DZ7,\"事業概要：\"),EXACT(集計用!DZ7,\"ー\"),集計用!DZ7=0,集計用!DZ7=\"\"),0,1)","v":0},{"$f":"IF(OR(EXACT(集計用!EA7,\"事業概要：\"),EXACT(集計用!EA7,\"ー\"),集計用!EA7=0,集計用!EA7=\"\"),0,1)","v":0},{"$f":"IF(OR(EXACT(集計用!EB7,\"事業概要：\"),EXACT(集計用!EB7,\"ー\"),集計用!EB7=0,集計用!EB7=\"\"),0,1)","v":0},{"$f":"IF(OR(EXACT(集計用!EC7,\"事業概要：\"),EXACT(集計用!EC7,\"ー\"),集計用!EC7=0,集計用!EC7=\"\"),0,1)","v":0},{"$f":"IF(OR(EXACT(集計用!ED7,\"事業概要：\"),EXACT(集計用!ED7,\"ー\"),集計用!ED7=0,集計用!ED7=\"\"),0,1)","v":0},{"$f":"IF(OR(EXACT(集計用!EE7,\"事業概要：\"),EXACT(集計用!EE7,\"ー\"),集計用!EE7=0,集計用!EE7=\"\"),0,1)","v":0},{"$f":"IF(OR(EXACT(集計用!EF7,\"事業概要：\"),EXACT(集計用!EF7,\"ー\"),集計用!EF7=0,集計用!EF7=\"\"),0,1)","v":0},{"$f":"IF(OR(EXACT(集計用!EG7,\"事業概要：\"),EXACT(集計用!EG7,\"ー\"),集計用!EG7=0,集計用!EG7=\"\"),0,1)","v":0},{"$f":"IF(OR(EXACT(集計用!EH7,\"事業概要：\"),EXACT(集計用!EH7,\"ー\"),集計用!EH7=0,集計用!EH7=\"\"),0,1)","v":0},{"$f":"IF(OR(EXACT(集計用!EI7,\"事業概要：\"),EXACT(集計用!EI7,\"ー\"),集計用!EI7=0,集計用!EI7=\"\"),0,1)","v":0},{"$f":"IF(OR(EXACT(集計用!EJ7,\"事業概要：\"),EXACT(集計用!EJ7,\"ー\"),集計用!EJ7=0,集計用!EJ7=\"\"),0,1)","v":0},{"$f":"IF(OR(EXACT(集計用!EK7,\"事業概要：\"),EXACT(集計用!EK7,\"ー\"),集計用!EK7=0,集計用!EK7=\"\"),0,1)","v":0},{"$f":"IF(OR(EXACT(集計用!EL7,\"事業概要：\"),EXACT(集計用!EL7,\"ー\"),集計用!EL7=0,集計用!EL7=\"\"),0,1)","v":0},{"$f":"IF(OR(EXACT(集計用!EM7,\"事業概要：\"),EXACT(集計用!EM7,\"ー\"),集計用!EM7=0,集計用!EM7=\"\"),0,1)","v":0},{"$f":"IF(OR(EXACT(集計用!EN7,\"事業概要：\"),EXACT(集計用!EN7,\"ー\"),集計用!EN7=0,集計用!EN7=\"\"),0,1)","v":0},{"$f":"IF(OR(EXACT(集計用!EO7,\"事業概要：\"),EXACT(集計用!EO7,\"ー\"),集計用!EO7=0,集計用!EO7=\"\"),0,1)","v":0},{"$f":"IF(OR(EXACT(集計用!EP7,\"事業概要：\"),EXACT(集計用!EP7,\"ー\"),集計用!EP7=0,集計用!EP7=\"\"),0,1)","v":0},{"$f":"IF(OR(EXACT(集計用!EQ7,\"事業概要：\"),EXACT(集計用!EQ7,\"ー\"),集計用!EQ7=0,集計用!EQ7=\"\"),0,1)","v":0},{"$f":"IF(OR(EXACT(集計用!ER7,\"事業概要：\"),EXACT(集計用!ER7,\"ー\"),集計用!ER7=0,集計用!ER7=\"\"),0,1)","v":0},{"$f":"IF(OR(EXACT(集計用!ES7,\"事業概要：\"),EXACT(集計用!ES7,\"ー\"),集計用!ES7=0,集計用!ES7=\"\"),0,1)","v":0},{"$f":"IF(OR(EXACT(集計用!ET7,\"事業概要：\"),EXACT(集計用!ET7,\"ー\"),集計用!ET7=0,集計用!ET7=\"\"),0,1)","v":0},{"$f":"IF(OR(EXACT(集計用!EU7,\"事業概要：\"),EXACT(集計用!EU7,\"ー\"),集計用!EU7=0,集計用!EU7=\"\"),0,1)","v":0},{"$f":"IF(OR(EXACT(集計用!EV7,\"事業概要：\"),EXACT(集計用!EV7,\"ー\"),集計用!EV7=0,集計用!EV7=\"\"),0,1)","v":0},{"$f":"IF(OR(EXACT(集計用!EW7,\"事業概要：\"),EXACT(集計用!EW7,\"ー\"),集計用!EW7=0,集計用!EW7=\"\"),0,1)","v":0},{"$f":"IF(OR(EXACT(集計用!EX7,\"事業概要：\"),EXACT(集計用!EX7,\"ー\"),集計用!EX7=0,集計用!EX7=\"\"),0,1)","v":0},{"$f":"IF(OR(EXACT(集計用!EY7,\"事業概要：\"),EXACT(集計用!EY7,\"ー\"),集計用!EY7=0,集計用!EY7=\"\"),0,1)","v":0},{"$f":"IF(OR(EXACT(集計用!EZ7,\"事業概要：\"),EXACT(集計用!EZ7,\"ー\"),集計用!EZ7=0,集計用!EZ7=\"\"),0,1)","v":0},{"$f":"IF(OR(EXACT(集計用!FA7,\"事業概要：\"),EXACT(集計用!FA7,\"ー\"),集計用!FA7=0,集計用!FA7=\"\"),0,1)","v":0},{"$f":"IF(OR(EXACT(集計用!FB7,\"事業概要：\"),EXACT(集計用!FB7,\"ー\"),集計用!FB7=0,集計用!FB7=\"\"),0,1)","v":0},{"$f":"IF(OR(EXACT(集計用!FC7,\"事業概要：\"),EXACT(集計用!FC7,\"ー\"),集計用!FC7=0,集計用!FC7=\"\"),0,1)","v":0},{"$f":"IF(OR(EXACT(集計用!FD7,\"事業概要：\"),EXACT(集計用!FD7,\"ー\"),集計用!FD7=0,集計用!FD7=\"\"),0,1)","v":0},{"$f":"IF(OR(EXACT(集計用!FE7,\"事業概要：\"),EXACT(集計用!FE7,\"ー\"),集計用!FE7=0,集計用!FE7=\"\"),0,1)","v":0},{"$f":"IF(OR(EXACT(集計用!FF7,\"事業概要：\"),EXACT(集計用!FF7,\"ー\"),集計用!FF7=0,集計用!FF7=\"\"),0,1)","v":0},{"$f":"IF(OR(EXACT(集計用!FG7,\"事業概要：\"),EXACT(集計用!FG7,\"ー\"),集計用!FG7=0,集計用!FG7=\"\"),0,1)","v":0},{"$f":"IF(OR(EXACT(集計用!FH7,\"事業概要：\"),EXACT(集計用!FH7,\"ー\"),集計用!FH7=0,集計用!FH7=\"\"),0,1)","v":0},{"$f":"IF(OR(EXACT(集計用!FI7,\"事業概要：\"),EXACT(集計用!FI7,\"ー\"),集計用!FI7=0,集計用!FI7=\"\"),0,1)","v":0},{"$f":"IF(OR(EXACT(集計用!FJ7,\"事業概要：\"),EXACT(集計用!FJ7,\"ー\"),集計用!FJ7=0,集計用!FJ7=\"\"),0,1)","v":0},{"$f":"IF(OR(EXACT(集計用!FK7,\"事業概要：\"),EXACT(集計用!FK7,\"ー\"),集計用!FK7=0,集計用!FK7=\"\"),0,1)","v":0},{"$f":"IF(OR(EXACT(集計用!FL7,\"事業概要：\"),EXACT(集計用!FL7,\"ー\"),集計用!FL7=0,集計用!FL7=\"\"),0,1)","v":0},{"$f":"IF(OR(EXACT(集計用!FM7,\"事業概要：\"),EXACT(集計用!FM7,\"ー\"),集計用!FM7=0,集計用!FM7=\"\"),0,1)","v":0},{"$f":"IF(OR(EXACT(集計用!FN7,\"事業概要：\"),EXACT(集計用!FN7,\"ー\"),集計用!FN7=0,集計用!FN7=\"\"),0,1)","v":0},{"$f":"IF(OR(EXACT(集計用!FO7,\"事業概要：\"),EXACT(集計用!FO7,\"ー\"),集計用!FO7=0,集計用!FO7=\"\"),0,1)","v":0},{"$f":"IF(OR(EXACT(集計用!FP7,\"事業概要：\"),EXACT(集計用!FP7,\"ー\"),集計用!FP7=0,集計用!FP7=\"\"),0,1)","v":0},{"$f":"IF(OR(EXACT(集計用!FQ7,\"事業概要：\"),EXACT(集計用!FQ7,\"ー\"),集計用!FQ7=0,集計用!FQ7=\"\"),0,1)","v":0},{"$f":"IF(OR(EXACT(集計用!FR7,\"事業概要：\"),EXACT(集計用!FR7,\"ー\"),集計用!FR7=0,集計用!FR7=\"\"),0,1)","v":0},{"$f":"IF(OR(EXACT(集計用!FS7,\"事業概要：\"),EXACT(集計用!FS7,\"ー\"),集計用!FS7=0,集計用!FS7=\"\"),0,1)","v":0},{"$f":"IF(OR(EXACT(集計用!FT7,\"事業概要：\"),EXACT(集計用!FT7,\"ー\"),集計用!FT7=0,集計用!FT7=\"\"),0,1)","v":0},{"$f":"IF(OR(EXACT(集計用!FU7,\"事業概要：\"),EXACT(集計用!FU7,\"ー\"),集計用!FU7=0,集計用!FU7=\"\"),0,1)","v":0},{"$f":"IF(OR(EXACT(集計用!FV7,\"事業概要：\"),EXACT(集計用!FV7,\"ー\"),集計用!FV7=0,集計用!FV7=\"\"),0,1)","v":0},{"$f":"IF(OR(EXACT(集計用!FW7,\"事業概要：\"),EXACT(集計用!FW7,\"ー\"),集計用!FW7=0,集計用!FW7=\"\"),0,1)","v":0},{"$f":"IF(OR(EXACT(集計用!FX7,\"事業概要：\"),EXACT(集計用!FX7,\"ー\"),集計用!FX7=0,集計用!FX7=\"\"),0,1)","v":0},{"$f":"IF(OR(EXACT(集計用!FY7,\"事業概要：\"),EXACT(集計用!FY7,\"ー\"),集計用!FY7=0,集計用!FY7=\"\"),0,1)","v":0},{"$f":"IF(OR(EXACT(集計用!FZ7,\"事業概要：\"),EXACT(集計用!FZ7,\"ー\"),集計用!FZ7=0,集計用!FZ7=\"\"),0,1)","v":0},{"$f":"IF(OR(EXACT(集計用!GA7,\"事業概要：\"),EXACT(集計用!GA7,\"ー\"),集計用!GA7=0,集計用!GA7=\"\"),0,1)","v":0},{"$f":"IF(OR(EXACT(集計用!GB7,\"事業概要：\"),EXACT(集計用!GB7,\"ー\"),集計用!GB7=0,集計用!GB7=\"\"),0,1)","v":0},{"$f":"IF(OR(EXACT(集計用!GC7,\"事業概要：\"),EXACT(集計用!GC7,\"ー\"),集計用!GC7=0,集計用!GC7=\"\"),0,1)","v":0},{"$f":"IF(OR(EXACT(集計用!GD7,\"事業概要：\"),EXACT(集計用!GD7,\"ー\"),集計用!GD7=0,集計用!GD7=\"\"),0,1)","v":0},{"$f":"IF(OR(EXACT(集計用!GE7,\"事業概要：\"),EXACT(集計用!GE7,\"ー\"),集計用!GE7=0,集計用!GE7=\"\"),0,1)","v":0},{"$f":"IF(OR(EXACT(集計用!GF7,\"事業概要：\"),EXACT(集計用!GF7,\"ー\"),集計用!GF7=0,集計用!GF7=\"\"),0,1)","v":0},{"$f":"IF(OR(EXACT(集計用!GG7,\"事業概要：\"),EXACT(集計用!GG7,\"ー\"),集計用!GG7=0,集計用!GG7=\"\"),0,1)","v":0},{"$f":"IF(OR(EXACT(集計用!GH7,\"事業概要：\"),EXACT(集計用!GH7,\"ー\"),集計用!GH7=0,集計用!GH7=\"\"),0,1)","v":0},{"$f":"IF(OR(EXACT(集計用!GI7,\"事業概要：\"),EXACT(集計用!GI7,\"ー\"),集計用!GI7=0,集計用!GI7=\"\"),0,1)","v":0},{"$f":"IF(OR(EXACT(集計用!GJ7,\"事業概要：\"),EXACT(集計用!GJ7,\"ー\"),集計用!GJ7=0,集計用!GJ7=\"\"),0,1)","v":0},{"$f":"IF(OR(EXACT(集計用!GK7,\"事業概要：\"),EXACT(集計用!GK7,\"ー\"),集計用!GK7=0,集計用!GK7=\"\"),0,1)","v":0},{"$f":"IF(OR(EXACT(集計用!GL7,\"事業概要：\"),EXACT(集計用!GL7,\"ー\"),集計用!GL7=0,集計用!GL7=\"\"),0,1)","v":0},{"$f":"IF(OR(EXACT(集計用!GM7,\"事業概要：\"),EXACT(集計用!GM7,\"ー\"),集計用!GM7=0,集計用!GM7=\"\"),0,1)","v":0},{"$f":"IF(OR(EXACT(集計用!GN7,\"事業概要：\"),EXACT(集計用!GN7,\"ー\"),集計用!GN7=0,集計用!GN7=\"\"),0,1)","v":0},{"$f":"IF(OR(EXACT(集計用!GO7,\"事業概要：\"),EXACT(集計用!GO7,\"ー\"),集計用!GO7=0,集計用!GO7=\"\"),0,1)","v":0},{"$f":"IF(OR(EXACT(集計用!GP7,\"事業概要：\"),EXACT(集計用!GP7,\"ー\"),集計用!GP7=0,集計用!GP7=\"\"),0,1)","v":0},{"$f":"IF(OR(EXACT(集計用!GQ7,\"事業概要：\"),EXACT(集計用!GQ7,\"ー\"),集計用!GQ7=0,集計用!GQ7=\"\"),0,1)","v":0},{"$f":"IF(OR(EXACT(集計用!GR7,\"事業概要：\"),EXACT(集計用!GR7,\"ー\"),集計用!GR7=0,集計用!GR7=\"\"),0,1)","v":0},{"$f":"IF(OR(EXACT(集計用!GS7,\"事業概要：\"),EXACT(集計用!GS7,\"ー\"),集計用!GS7=0,集計用!GS7=\"\"),0,1)","v":0},{"$f":"IF(OR(EXACT(集計用!GT7,\"事業概要：\"),EXACT(集計用!GT7,\"ー\"),集計用!GT7=0,集計用!GT7=\"\"),0,1)","v":0},{"$f":"IF(OR(EXACT(集計用!GU7,\"事業概要：\"),EXACT(集計用!GU7,\"ー\"),集計用!GU7=0,集計用!GU7=\"\"),0,1)","v":0},{"$f":"IF(OR(EXACT(集計用!GV7,\"事業概要：\"),EXACT(集計用!GV7,\"ー\"),集計用!GV7=0,集計用!GV7=\"\"),0,1)","v":0},{"$f":"IF(OR(EXACT(集計用!GW7,\"事業概要：\"),EXACT(集計用!GW7,\"ー\"),集計用!GW7=0,集計用!GW7=\"\"),0,1)","v":0},{"$f":"IF(OR(EXACT(集計用!GX7,\"事業概要：\"),EXACT(集計用!GX7,\"ー\"),集計用!GX7=0,集計用!GX7=\"\"),0,1)","v":0},{"$f":"IF(OR(EXACT(集計用!GY7,\"事業概要：\"),EXACT(集計用!GY7,\"ー\"),集計用!GY7=0,集計用!GY7=\"\"),0,1)","v":0},{"$f":"IF(OR(EXACT(集計用!GZ7,\"事業概要：\"),EXACT(集計用!GZ7,\"ー\"),集計用!GZ7=0,集計用!GZ7=\"\"),0,1)","v":0},{"$f":"IF(OR(EXACT(集計用!HA7,\"事業概要：\"),EXACT(集計用!HA7,\"ー\"),集計用!HA7=0,集計用!HA7=\"\"),0,1)","v":0},{"$f":"IF(OR(EXACT(集計用!HB7,\"事業概要：\"),EXACT(集計用!HB7,\"ー\"),集計用!HB7=0,集計用!HB7=\"\"),0,1)","v":0},{"$f":"IF(OR(EXACT(集計用!HC7,\"事業概要：\"),EXACT(集計用!HC7,\"ー\"),集計用!HC7=0,集計用!HC7=\"\"),0,1)","v":0},{"$f":"IF(OR(EXACT(集計用!HD7,\"事業概要：\"),EXACT(集計用!HD7,\"ー\"),集計用!HD7=0,集計用!HD7=\"\"),0,1)","v":0},{"$f":"IF(OR(EXACT(集計用!HE7,\"事業概要：\"),EXACT(集計用!HE7,\"ー\"),集計用!HE7=0,集計用!HE7=\"\"),0,1)","v":0},{"$f":"IF(OR(EXACT(集計用!HF7,\"事業概要：\"),EXACT(集計用!HF7,\"ー\"),集計用!HF7=0,集計用!HF7=\"\"),0,1)","v":0},{"$f":"IF(OR(EXACT(集計用!HG7,\"事業概要：\"),EXACT(集計用!HG7,\"ー\"),集計用!HG7=0,集計用!HG7=\"\"),0,1)","v":0},{"$f":"IF(OR(EXACT(集計用!HH7,\"事業概要：\"),EXACT(集計用!HH7,\"ー\"),集計用!HH7=0,集計用!HH7=\"\"),0,1)","v":0},{"$f":"IF(OR(EXACT(集計用!HI7,\"事業概要：\"),EXACT(集計用!HI7,\"ー\"),集計用!HI7=0,集計用!HI7=\"\"),0,1)","v":0},{"$f":"IF(OR(EXACT(集計用!HJ7,\"事業概要：\"),EXACT(集計用!HJ7,\"ー\"),集計用!HJ7=0,集計用!HJ7=\"\"),0,1)","v":0},{"$f":"IF(OR(EXACT(集計用!HK7,\"事業概要：\"),EXACT(集計用!HK7,\"ー\"),集計用!HK7=0,集計用!HK7=\"\"),0,1)","v":0},{"$f":"IF(OR(EXACT(集計用!HL7,\"事業概要：\"),EXACT(集計用!HL7,\"ー\"),集計用!HL7=0,集計用!HL7=\"\"),0,1)","v":0},{"$f":"IF(OR(EXACT(集計用!HM7,\"事業概要：\"),EXACT(集計用!HM7,\"ー\"),集計用!HM7=0,集計用!HM7=\"\"),0,1)","v":0},{"$f":"IF(OR(EXACT(集計用!HN7,\"事業概要：\"),EXACT(集計用!HN7,\"ー\"),集計用!HN7=0,集計用!HN7=\"\"),0,1)","v":0},{"$f":"IF(OR(EXACT(集計用!HO7,\"事業概要：\"),EXACT(集計用!HO7,\"ー\"),集計用!HO7=0,集計用!HO7=\"\"),0,1)","v":0},{"$f":"IF(OR(EXACT(集計用!HP7,\"事業概要：\"),EXACT(集計用!HP7,\"ー\"),集計用!HP7=0,集計用!HP7=\"\"),0,1)","v":0},{"$f":"IF(OR(EXACT(集計用!HQ7,\"事業概要：\"),EXACT(集計用!HQ7,\"ー\"),集計用!HQ7=0,集計用!HQ7=\"\"),0,1)","v":0},{"$f":"IF(OR(EXACT(集計用!HR7,\"事業概要：\"),EXACT(集計用!HR7,\"ー\"),集計用!HR7=0,集計用!HR7=\"\"),0,1)","v":0},{"$f":"IF(OR(EXACT(集計用!HS7,\"事業概要：\"),EXACT(集計用!HS7,\"ー\"),集計用!HS7=0,集計用!HS7=\"\"),0,1)","v":0},{"$f":"IF(OR(EXACT(集計用!HT7,\"事業概要：\"),EXACT(集計用!HT7,\"ー\"),集計用!HT7=0,集計用!HT7=\"\"),0,1)","v":0},{"$f":"IF(OR(EXACT(集計用!HU7,\"事業概要：\"),EXACT(集計用!HU7,\"ー\"),集計用!HU7=0,集計用!HU7=\"\"),0,1)","v":0},{"$f":"IF(OR(EXACT(集計用!HV7,\"事業概要：\"),EXACT(集計用!HV7,\"ー\"),集計用!HV7=0,集計用!HV7=\"\"),0,1)","v":0},{"$f":"IF(OR(EXACT(集計用!HW7,\"事業概要：\"),EXACT(集計用!HW7,\"ー\"),集計用!HW7=0,集計用!HW7=\"\"),0,1)","v":0},{"$f":"IF(OR(EXACT(集計用!HX7,\"事業概要：\"),EXACT(集計用!HX7,\"ー\"),集計用!HX7=0,集計用!HX7=\"\"),0,1)","v":0},{"$f":"IF(OR(EXACT(集計用!HY7,\"事業概要：\"),EXACT(集計用!HY7,\"ー\"),集計用!HY7=0,集計用!HY7=\"\"),0,1)","v":0},{"$f":"IF(OR(EXACT(集計用!HZ7,\"事業概要：\"),EXACT(集計用!HZ7,\"ー\"),集計用!HZ7=0,集計用!HZ7=\"\"),0,1)","v":0},{"$f":"IF(OR(EXACT(集計用!IA7,\"事業概要：\"),EXACT(集計用!IA7,\"ー\"),集計用!IA7=0,集計用!IA7=\"\"),0,1)","v":0},{"$f":"IF(OR(EXACT(集計用!IB7,\"事業概要：\"),EXACT(集計用!IB7,\"ー\"),集計用!IB7=0,集計用!IB7=\"\"),0,1)","v":0},{"$f":"IF(OR(EXACT(集計用!IC7,\"事業概要：\"),EXACT(集計用!IC7,\"ー\"),集計用!IC7=0,集計用!IC7=\"\"),0,1)","v":0},{"$f":"IF(OR(EXACT(集計用!ID7,\"事業概要：\"),EXACT(集計用!ID7,\"ー\"),集計用!ID7=0,集計用!ID7=\"\"),0,1)","v":0},{"$f":"IF(OR(EXACT(集計用!IE7,\"事業概要：\"),EXACT(集計用!IE7,\"ー\"),集計用!IE7=0,集計用!IE7=\"\"),0,1)","v":0},{"$f":"IF(OR(EXACT(集計用!IF7,\"事業概要：\"),EXACT(集計用!IF7,\"ー\"),集計用!IF7=0,集計用!IF7=\"\"),0,1)","v":0},{"$f":"IF(OR(EXACT(集計用!IG7,\"事業概要：\"),EXACT(集計用!IG7,\"ー\"),集計用!IG7=0,集計用!IG7=\"\"),0,1)","v":0},{"$f":"IF(OR(EXACT(集計用!IH7,\"事業概要：\"),EXACT(集計用!IH7,\"ー\"),集計用!IH7=0,集計用!IH7=\"\"),0,1)","v":0},{"$f":"IF(OR(EXACT(集計用!II7,\"事業概要：\"),EXACT(集計用!II7,\"ー\"),集計用!II7=0,集計用!II7=\"\"),0,1)","v":0},{"$f":"IF(OR(EXACT(集計用!IJ7,\"事業概要：\"),EXACT(集計用!IJ7,\"ー\"),集計用!IJ7=0,集計用!IJ7=\"\"),0,1)","v":0},{"$f":"IF(OR(EXACT(集計用!IK7,\"事業概要：\"),EXACT(集計用!IK7,\"ー\"),集計用!IK7=0,集計用!IK7=\"\"),0,1)","v":0},{"$f":"IF(OR(EXACT(集計用!IL7,\"事業概要：\"),EXACT(集計用!IL7,\"ー\"),集計用!IL7=0,集計用!IL7=\"\"),0,1)","v":0},{"$f":"IF(OR(EXACT(集計用!IM7,\"事業概要：\"),EXACT(集計用!IM7,\"ー\"),集計用!IM7=0,集計用!IM7=\"\"),0,1)","v":0},{"$f":"IF(OR(EXACT(集計用!IN7,\"事業概要：\"),EXACT(集計用!IN7,\"ー\"),集計用!IN7=0,集計用!IN7=\"\"),0,1)","v":0},{"$f":"IF(OR(EXACT(集計用!IO7,\"事業概要：\"),EXACT(集計用!IO7,\"ー\"),集計用!IO7=0,集計用!IO7=\"\"),0,1)","v":0},{"$f":"IF(OR(EXACT(集計用!IP7,\"事業概要：\"),EXACT(集計用!IP7,\"ー\"),集計用!IP7=0,集計用!IP7=\"\"),0,1)","v":0},{"$f":"IF(OR(EXACT(集計用!IQ7,\"事業概要：\"),EXACT(集計用!IQ7,\"ー\"),集計用!IQ7=0,集計用!IQ7=\"\"),0,1)","v":0},{"$f":"IF(OR(EXACT(集計用!IR7,\"事業概要：\"),EXACT(集計用!IR7,\"ー\"),集計用!IR7=0,集計用!IR7=\"\"),0,1)","v":0},{"$f":"IF(OR(EXACT(集計用!IS7,\"事業概要：\"),EXACT(集計用!IS7,\"ー\"),集計用!IS7=0,集計用!IS7=\"\"),0,1)","v":0},{"$f":"IF(OR(EXACT(集計用!IT7,\"事業概要：\"),EXACT(集計用!IT7,\"ー\"),集計用!IT7=0,集計用!IT7=\"\"),0,1)","v":0},{"$f":"IF(OR(EXACT(集計用!IU7,\"事業概要：\"),EXACT(集計用!IU7,\"ー\"),集計用!IU7=0,集計用!IU7=\"\"),0,1)","v":0},{"$f":"IF(OR(EXACT(集計用!IV7,\"事業概要：\"),EXACT(集計用!IV7,\"ー\"),集計用!IV7=0,集計用!IV7=\"\"),0,1)","v":0},{"$f":"IF(OR(EXACT(集計用!IW7,\"事業概要：\"),EXACT(集計用!IW7,\"ー\"),集計用!IW7=0,集計用!IW7=\"\"),0,1)","v":0},{"$f":"IF(OR(EXACT(集計用!IX7,\"事業概要：\"),EXACT(集計用!IX7,\"ー\"),集計用!IX7=0,集計用!IX7=\"\"),0,1)","v":0},{"$f":"IF(OR(EXACT(集計用!IY7,\"事業概要：\"),EXACT(集計用!IY7,\"ー\"),集計用!IY7=0,集計用!IY7=\"\"),0,1)","v":0},{"$f":"IF(OR(EXACT(集計用!IZ7,\"事業概要：\"),EXACT(集計用!IZ7,\"ー\"),集計用!IZ7=0,集計用!IZ7=\"\"),0,1)","v":0},{"$f":"IF(OR(EXACT(集計用!JA7,\"事業概要：\"),EXACT(集計用!JA7,\"ー\"),集計用!JA7=0,集計用!JA7=\"\"),0,1)","v":0},{"$f":"IF(OR(EXACT(集計用!JB7,\"事業概要：\"),EXACT(集計用!JB7,\"ー\"),集計用!JB7=0,集計用!JB7=\"\"),0,1)","v":0},{"$f":"IF(OR(EXACT(集計用!JC7,\"事業概要：\"),EXACT(集計用!JC7,\"ー\"),集計用!JC7=0,集計用!JC7=\"\"),0,1)","v":0},{"$f":"IF(OR(EXACT(集計用!JD7,\"事業概要：\"),EXACT(集計用!JD7,\"ー\"),集計用!JD7=0,集計用!JD7=\"\"),0,1)","v":0},{"$f":"IF(OR(EXACT(集計用!JE7,\"事業概要：\"),EXACT(集計用!JE7,\"ー\"),集計用!JE7=0,集計用!JE7=\"\"),0,1)","v":0},{"$f":"IF(OR(EXACT(集計用!JF7,\"事業概要：\"),EXACT(集計用!JF7,\"ー\"),集計用!JF7=0,集計用!JF7=\"\"),0,1)","v":0},{"$f":"IF(OR(EXACT(集計用!JG7,\"事業概要：\"),EXACT(集計用!JG7,\"ー\"),集計用!JG7=0,集計用!JG7=\"\"),0,1)","v":0},{"$f":"IF(OR(EXACT(集計用!JH7,\"事業概要：\"),EXACT(集計用!JH7,\"ー\"),集計用!JH7=0,集計用!JH7=\"\"),0,1)","v":0},{"$f":"IF(OR(EXACT(集計用!JI7,\"事業概要：\"),EXACT(集計用!JI7,\"ー\"),集計用!JI7=0,集計用!JI7=\"\"),0,1)","v":0},{"$f":"IF(OR(EXACT(集計用!JJ7,\"事業概要：\"),EXACT(集計用!JJ7,\"ー\"),集計用!JJ7=0,集計用!JJ7=\"\"),0,1)","v":0},{"$f":"IF(OR(EXACT(集計用!JK7,\"事業概要：\"),EXACT(集計用!JK7,\"ー\"),集計用!JK7=0,集計用!JK7=\"\"),0,1)","v":0},{"$f":"IF(OR(EXACT(集計用!JL7,\"事業概要：\"),EXACT(集計用!JL7,\"ー\"),集計用!JL7=0,集計用!JL7=\"\"),0,1)","v":0},{"$f":"IF(OR(EXACT(集計用!JM7,\"事業概要：\"),EXACT(集計用!JM7,\"ー\"),集計用!JM7=0,集計用!JM7=\"\"),0,1)","v":0},{"$f":"IF(OR(EXACT(集計用!JN7,\"事業概要：\"),EXACT(集計用!JN7,\"ー\"),集計用!JN7=0,集計用!JN7=\"\"),0,1)","v":0},{"$f":"IF(OR(EXACT(集計用!JO7,\"事業概要：\"),EXACT(集計用!JO7,\"ー\"),集計用!JO7=0,集計用!JO7=\"\"),0,1)","v":0},{"$f":"IF(OR(EXACT(集計用!JP7,\"事業概要：\"),EXACT(集計用!JP7,\"ー\"),集計用!JP7=0,集計用!JP7=\"\"),0,1)","v":0},{"$f":"IF(OR(EXACT(集計用!JQ7,\"事業概要：\"),EXACT(集計用!JQ7,\"ー\"),集計用!JQ7=0,集計用!JQ7=\"\"),0,1)","v":0},{"$f":"IF(OR(EXACT(集計用!JR7,\"事業概要：\"),EXACT(集計用!JR7,\"ー\"),集計用!JR7=0,集計用!JR7=\"\"),0,1)","v":0},{"$f":"IF(OR(EXACT(集計用!JS7,\"事業概要：\"),EXACT(集計用!JS7,\"ー\"),集計用!JS7=0,集計用!JS7=\"\"),0,1)","v":0},{"$f":"IF(OR(EXACT(集計用!JT7,\"事業概要：\"),EXACT(集計用!JT7,\"ー\"),集計用!JT7=0,集計用!JT7=\"\"),0,1)","v":0},{"$f":"IF(OR(EXACT(集計用!JU7,\"事業概要：\"),EXACT(集計用!JU7,\"ー\"),集計用!JU7=0,集計用!JU7=\"\"),0,1)","v":0},{"$f":"IF(OR(EXACT(集計用!JV7,\"事業概要：\"),EXACT(集計用!JV7,\"ー\"),集計用!JV7=0,集計用!JV7=\"\"),0,1)","v":0},{"$f":"IF(OR(EXACT(集計用!JW7,\"事業概要：\"),EXACT(集計用!JW7,\"ー\"),集計用!JW7=0,集計用!JW7=\"\"),0,1)","v":0},{"$f":"IF(OR(EXACT(集計用!JX7,\"事業概要：\"),EXACT(集計用!JX7,\"ー\"),集計用!JX7=0,集計用!JX7=\"\"),0,1)","v":0},{"$f":"IF(OR(EXACT(集計用!JY7,\"事業概要：\"),EXACT(集計用!JY7,\"ー\"),集計用!JY7=0,集計用!JY7=\"\"),0,1)","v":0},{"$f":"IF(OR(EXACT(集計用!JZ7,\"事業概要：\"),EXACT(集計用!JZ7,\"ー\"),集計用!JZ7=0,集計用!JZ7=\"\"),0,1)","v":0},{"$f":"IF(OR(EXACT(集計用!KA7,\"事業概要：\"),EXACT(集計用!KA7,\"ー\"),集計用!KA7=0,集計用!KA7=\"\"),0,1)","v":0},{"$f":"IF(OR(EXACT(集計用!KB7,\"事業概要：\"),EXACT(集計用!KB7,\"ー\"),集計用!KB7=0,集計用!KB7=\"\"),0,1)","v":0},{"$f":"IF(OR(EXACT(集計用!KC7,\"事業概要：\"),EXACT(集計用!KC7,\"ー\"),集計用!KC7=0,集計用!KC7=\"\"),0,1)","v":0},{"$f":"IF(OR(EXACT(集計用!KD7,\"事業概要：\"),EXACT(集計用!KD7,\"ー\"),集計用!KD7=0,集計用!KD7=\"\"),0,1)","v":0},{"$f":"IF(OR(EXACT(集計用!KE7,\"事業概要：\"),EXACT(集計用!KE7,\"ー\"),集計用!KE7=0,集計用!KE7=\"\"),0,1)","v":0},{"$f":"IF(OR(EXACT(集計用!KF7,\"事業概要：\"),EXACT(集計用!KF7,\"ー\"),集計用!KF7=0,集計用!KF7=\"\"),0,1)","v":0},{"$f":"IF(OR(EXACT(集計用!KG7,\"事業概要：\"),EXACT(集計用!KG7,\"ー\"),集計用!KG7=0,集計用!KG7=\"\"),0,1)","v":0},{"$f":"IF(OR(EXACT(集計用!KH7,\"事業概要：\"),EXACT(集計用!KH7,\"ー\"),集計用!KH7=0,集計用!KH7=\"\"),0,1)","v":0},{"$f":"IF(OR(EXACT(集計用!KI7,\"事業概要：\"),EXACT(集計用!KI7,\"ー\"),集計用!KI7=0,集計用!KI7=\"\"),0,1)","v":0},{"$f":"IF(OR(EXACT(集計用!KJ7,\"事業概要：\"),EXACT(集計用!KJ7,\"ー\"),集計用!KJ7=0,集計用!KJ7=\"\"),0,1)","v":0},{"$f":"IF(OR(EXACT(集計用!KK7,\"事業概要：\"),EXACT(集計用!KK7,\"ー\"),集計用!KK7=0,集計用!KK7=\"\"),0,1)","v":0},{"$f":"IF(OR(EXACT(集計用!KL7,\"事業概要：\"),EXACT(集計用!KL7,\"ー\"),集計用!KL7=0,集計用!KL7=\"\"),0,1)","v":0},{"$f":"IF(OR(EXACT(集計用!KM7,\"事業概要：\"),EXACT(集計用!KM7,\"ー\"),集計用!KM7=0,集計用!KM7=\"\"),0,1)","v":0},{"$f":"IF(OR(EXACT(集計用!KN7,\"事業概要：\"),EXACT(集計用!KN7,\"ー\"),集計用!KN7=0,集計用!KN7=\"\"),0,1)","v":0},{"$f":"IF(OR(EXACT(集計用!KO7,\"事業概要：\"),EXACT(集計用!KO7,\"ー\"),集計用!KO7=0,集計用!KO7=\"\"),0,1)","v":0},{"$f":"IF(OR(EXACT(集計用!KP7,\"事業概要：\"),EXACT(集計用!KP7,\"ー\"),集計用!KP7=0,集計用!KP7=\"\"),0,1)","v":0},{"$f":"IF(OR(EXACT(集計用!KQ7,\"事業概要：\"),EXACT(集計用!KQ7,\"ー\"),集計用!KQ7=0,集計用!KQ7=\"\"),0,1)","v":0},{"$f":"IF(OR(EXACT(集計用!KR7,\"事業概要：\"),EXACT(集計用!KR7,\"ー\"),集計用!KR7=0,集計用!KR7=\"\"),0,1)","v":0},{"$f":"IF(OR(EXACT(集計用!KS7,\"事業概要：\"),EXACT(集計用!KS7,\"ー\"),集計用!KS7=0,集計用!KS7=\"\"),0,1)","v":0},{"$f":"IF(OR(EXACT(集計用!KT7,\"事業概要：\"),EXACT(集計用!KT7,\"ー\"),集計用!KT7=0,集計用!KT7=\"\"),0,1)","v":0},{"$f":"IF(OR(EXACT(集計用!KU7,\"事業概要：\"),EXACT(集計用!KU7,\"ー\"),集計用!KU7=0,集計用!KU7=\"\"),0,1)","v":0},{"$f":"IF(OR(EXACT(集計用!KV7,\"事業概要：\"),EXACT(集計用!KV7,\"ー\"),集計用!KV7=0,集計用!KV7=\"\"),0,1)","v":0},{"$f":"IF(OR(EXACT(集計用!KW7,\"事業概要：\"),EXACT(集計用!KW7,\"ー\"),集計用!KW7=0,集計用!KW7=\"\"),0,1)","v":0},{"$f":"IF(OR(EXACT(集計用!KX7,\"事業概要：\"),EXACT(集計用!KX7,\"ー\"),集計用!KX7=0,集計用!KX7=\"\"),0,1)","v":0},{"$f":"IF(OR(EXACT(集計用!KY7,\"事業概要：\"),EXACT(集計用!KY7,\"ー\"),集計用!KY7=0,集計用!KY7=\"\"),0,1)","v":0},{"$f":"IF(OR(EXACT(集計用!KZ7,\"事業概要：\"),EXACT(集計用!KZ7,\"ー\"),集計用!KZ7=0,集計用!KZ7=\"\"),0,1)","v":0},{"$f":"IF(OR(EXACT(集計用!LA7,\"事業概要：\"),EXACT(集計用!LA7,\"ー\"),集計用!LA7=0,集計用!LA7=\"\"),0,1)","v":0},{"$f":"IF(OR(EXACT(集計用!LB7,\"事業概要：\"),EXACT(集計用!LB7,\"ー\"),集計用!LB7=0,集計用!LB7=\"\"),0,1)","v":0},{"$f":"IF(OR(EXACT(集計用!LC7,\"事業概要：\"),EXACT(集計用!LC7,\"ー\"),集計用!LC7=0,集計用!LC7=\"\"),0,1)","v":0},{"$f":"IF(OR(EXACT(集計用!LD7,\"事業概要：\"),EXACT(集計用!LD7,\"ー\"),集計用!LD7=0,集計用!LD7=\"\"),0,1)","v":0},{"$f":"IF(OR(EXACT(集計用!LE7,\"事業概要：\"),EXACT(集計用!LE7,\"ー\"),集計用!LE7=0,集計用!LE7=\"\"),0,1)","v":0},{"$f":"IF(OR(EXACT(集計用!LF7,\"事業概要：\"),EXACT(集計用!LF7,\"ー\"),集計用!LF7=0,集計用!LF7=\"\"),0,1)","v":0},{"$f":"IF(OR(EXACT(集計用!LG7,\"事業概要：\"),EXACT(集計用!LG7,\"ー\"),集計用!LG7=0,集計用!LG7=\"\"),0,1)","v":0},{"$f":"IF(OR(EXACT(集計用!LH7,\"事業概要：\"),EXACT(集計用!LH7,\"ー\"),集計用!LH7=0,集計用!LH7=\"\"),0,1)","v":0},{"$f":"IF(OR(EXACT(集計用!LI7,\"事業概要：\"),EXACT(集計用!LI7,\"ー\"),集計用!LI7=0,集計用!LI7=\"\"),0,1)","v":0},{"$f":"IF(OR(EXACT(集計用!LJ7,\"事業概要：\"),EXACT(集計用!LJ7,\"ー\"),集計用!LJ7=0,集計用!LJ7=\"\"),0,1)","v":0},{"$f":"IF(OR(EXACT(集計用!LK7,\"事業概要：\"),EXACT(集計用!LK7,\"ー\"),集計用!LK7=0,集計用!LK7=\"\"),0,1)","v":0},{"$f":"IF(OR(EXACT(集計用!LL7,\"事業概要：\"),EXACT(集計用!LL7,\"ー\"),集計用!LL7=0,集計用!LL7=\"\"),0,1)","v":0},{"$f":"IF(OR(EXACT(集計用!LM7,\"事業概要：\"),EXACT(集計用!LM7,\"ー\"),集計用!LM7=0,集計用!LM7=\"\"),0,1)","v":0},{"$f":"IF(OR(EXACT(集計用!LN7,\"事業概要：\"),EXACT(集計用!LN7,\"ー\"),集計用!LN7=0,集計用!LN7=\"\"),0,1)","v":0},{"$f":"IF(OR(EXACT(集計用!LO7,\"事業概要：\"),EXACT(集計用!LO7,\"ー\"),集計用!LO7=0,集計用!LO7=\"\"),0,1)","v":0},{"$f":"IF(OR(EXACT(集計用!LP7,\"事業概要：\"),EXACT(集計用!LP7,\"ー\"),集計用!LP7=0,集計用!LP7=\"\"),0,1)","v":0},{"$f":"IF(OR(EXACT(集計用!LQ7,\"事業概要：\"),EXACT(集計用!LQ7,\"ー\"),集計用!LQ7=0,集計用!LQ7=\"\"),0,1)","v":0},{"$f":"IF(OR(EXACT(集計用!LR7,\"事業概要：\"),EXACT(集計用!LR7,\"ー\"),集計用!LR7=0,集計用!LR7=\"\"),0,1)","v":0},{"$f":"IF(OR(EXACT(集計用!LS7,\"事業概要：\"),EXACT(集計用!LS7,\"ー\"),集計用!LS7=0,集計用!LS7=\"\"),0,1)","v":0},{"$f":"IF(OR(EXACT(集計用!LT7,\"事業概要：\"),EXACT(集計用!LT7,\"ー\"),集計用!LT7=0,集計用!LT7=\"\"),0,1)","v":0},{"$f":"IF(OR(EXACT(集計用!LU7,\"事業概要：\"),EXACT(集計用!LU7,\"ー\"),集計用!LU7=0,集計用!LU7=\"\"),0,1)","v":0},{"$f":"IF(OR(EXACT(集計用!LV7,\"事業概要：\"),EXACT(集計用!LV7,\"ー\"),集計用!LV7=0,集計用!LV7=\"\"),0,1)","v":0},{"$f":"IF(OR(EXACT(集計用!LW7,\"事業概要：\"),EXACT(集計用!LW7,\"ー\"),集計用!LW7=0,集計用!LW7=\"\"),0,1)","v":0},{"$f":"IF(OR(EXACT(集計用!LX7,\"事業概要：\"),EXACT(集計用!LX7,\"ー\"),集計用!LX7=0,集計用!LX7=\"\"),0,1)","v":0},{"$f":"IF(OR(EXACT(集計用!LY7,\"事業概要：\"),EXACT(集計用!LY7,\"ー\"),集計用!LY7=0,集計用!LY7=\"\"),0,1)","v":0},{"$f":"IF(OR(EXACT(集計用!LZ7,\"事業概要：\"),EXACT(集計用!LZ7,\"ー\"),集計用!LZ7=0,集計用!LZ7=\"\"),0,1)","v":0},{"$f":"IF(OR(EXACT(集計用!MA7,\"事業概要：\"),EXACT(集計用!MA7,\"ー\"),集計用!MA7=0,集計用!MA7=\"\"),0,1)","v":0},{"$f":"IF(OR(EXACT(集計用!MB7,\"事業概要：\"),EXACT(集計用!MB7,\"ー\"),集計用!MB7=0,集計用!MB7=\"\"),0,1)","v":0},{"$f":"IF(OR(EXACT(集計用!MC7,\"事業概要：\"),EXACT(集計用!MC7,\"ー\"),集計用!MC7=0,集計用!MC7=\"\"),0,1)","v":0},{"$f":"IF(OR(EXACT(集計用!MD7,\"事業概要：\"),EXACT(集計用!MD7,\"ー\"),集計用!MD7=0,集計用!MD7=\"\"),0,1)","v":0},{"$f":"IF(OR(EXACT(集計用!ME7,\"事業概要：\"),EXACT(集計用!ME7,\"ー\"),集計用!ME7=0,集計用!ME7=\"\"),0,1)","v":0},{"$f":"IF(OR(EXACT(集計用!MF7,\"事業概要：\"),EXACT(集計用!MF7,\"ー\"),集計用!MF7=0,集計用!MF7=\"\"),0,1)","v":0},{"$f":"IF(OR(EXACT(集計用!MG7,\"事業概要：\"),EXACT(集計用!MG7,\"ー\"),集計用!MG7=0,集計用!MG7=\"\"),0,1)","v":0},{"$f":"IF(OR(EXACT(集計用!MH7,\"事業概要：\"),EXACT(集計用!MH7,\"ー\"),集計用!MH7=0,集計用!MH7=\"\"),0,1)","v":0},{"$f":"IF(OR(EXACT(集計用!MI7,\"事業概要：\"),EXACT(集計用!MI7,\"ー\"),集計用!MI7=0,集計用!MI7=\"\"),0,1)","v":0},{"$f":"IF(OR(EXACT(集計用!MJ7,\"事業概要：\"),EXACT(集計用!MJ7,\"ー\"),集計用!MJ7=0,集計用!MJ7=\"\"),0,1)","v":0},{"$f":"IF(OR(EXACT(集計用!MK7,\"事業概要：\"),EXACT(集計用!MK7,\"ー\"),集計用!MK7=0,集計用!MK7=\"\"),0,1)","v":0},{"$f":"IF(OR(EXACT(集計用!ML7,\"事業概要：\"),EXACT(集計用!ML7,\"ー\"),集計用!ML7=0,集計用!ML7=\"\"),0,1)","v":0},{"$f":"IF(OR(EXACT(集計用!MM7,\"事業概要：\"),EXACT(集計用!MM7,\"ー\"),集計用!MM7=0,集計用!MM7=\"\"),0,1)","v":0},{"$f":"IF(OR(EXACT(集計用!MN7,\"事業概要：\"),EXACT(集計用!MN7,\"ー\"),集計用!MN7=0,集計用!MN7=\"\"),0,1)","v":0},{"$f":"IF(OR(EXACT(集計用!MO7,\"事業概要：\"),EXACT(集計用!MO7,\"ー\"),集計用!MO7=0,集計用!MO7=\"\"),0,1)","v":0},{"$f":"IF(OR(EXACT(集計用!MP7,\"事業概要：\"),EXACT(集計用!MP7,\"ー\"),集計用!MP7=0,集計用!MP7=\"\"),0,1)","v":0},{"$f":"IF(OR(EXACT(集計用!MQ7,\"事業概要：\"),EXACT(集計用!MQ7,\"ー\"),集計用!MQ7=0,集計用!MQ7=\"\"),0,1)","v":0},{"$f":"IF(OR(EXACT(集計用!MR7,\"事業概要：\"),EXACT(集計用!MR7,\"ー\"),集計用!MR7=0,集計用!MR7=\"\"),0,1)","v":0},{"$f":"IF(OR(EXACT(集計用!MS7,\"事業概要：\"),EXACT(集計用!MS7,\"ー\"),集計用!MS7=0,集計用!MS7=\"\"),0,1)","v":0},{"$f":"IF(OR(EXACT(集計用!MT7,\"事業概要：\"),EXACT(集計用!MT7,\"ー\"),集計用!MT7=0,集計用!MT7=\"\"),0,1)","v":0},{"$f":"IF(OR(EXACT(集計用!MU7,\"事業概要：\"),EXACT(集計用!MU7,\"ー\"),集計用!MU7=0,集計用!MU7=\"\"),0,1)","v":0},{"$f":"IF(OR(EXACT(集計用!MV7,\"事業概要：\"),EXACT(集計用!MV7,\"ー\"),集計用!MV7=0,集計用!MV7=\"\"),0,1)","v":0},{"$f":"IF(OR(EXACT(集計用!MW7,\"事業概要：\"),EXACT(集計用!MW7,\"ー\"),集計用!MW7=0,集計用!MW7=\"\"),0,1)","v":0},{"$f":"IF(OR(EXACT(集計用!MX7,\"事業概要：\"),EXACT(集計用!MX7,\"ー\"),集計用!MX7=0,集計用!MX7=\"\"),0,1)","v":0},{"$f":"IF(OR(EXACT(集計用!MY7,\"事業概要：\"),EXACT(集計用!MY7,\"ー\"),集計用!MY7=0,集計用!MY7=\"\"),0,1)","v":0},{"$f":"IF(OR(EXACT(集計用!MZ7,\"事業概要：\"),EXACT(集計用!MZ7,\"ー\"),集計用!MZ7=0,集計用!MZ7=\"\"),0,1)","v":0},{"$f":"IF(OR(EXACT(集計用!NA7,\"事業概要：\"),EXACT(集計用!NA7,\"ー\"),集計用!NA7=0,集計用!NA7=\"\"),0,1)","v":0},{"$f":"IF(OR(EXACT(集計用!NB7,\"事業概要：\"),EXACT(集計用!NB7,\"ー\"),集計用!NB7=0,集計用!NB7=\"\"),0,1)","v":0},{"$f":"IF(OR(EXACT(集計用!NC7,\"事業概要：\"),EXACT(集計用!NC7,\"ー\"),集計用!NC7=0,集計用!NC7=\"\"),0,1)","v":0},{"$f":"IF(OR(EXACT(集計用!ND7,\"事業概要：\"),EXACT(集計用!ND7,\"ー\"),集計用!ND7=0,集計用!ND7=\"\"),0,1)","v":0},{"$f":"IF(OR(EXACT(集計用!NE7,\"事業概要：\"),EXACT(集計用!NE7,\"ー\"),集計用!NE7=0,集計用!NE7=\"\"),0,1)","v":0},{"$f":"IF(OR(EXACT(集計用!NF7,\"事業概要：\"),EXACT(集計用!NF7,\"ー\"),集計用!NF7=0,集計用!NF7=\"\"),0,1)","v":0},{"$f":"IF(OR(EXACT(集計用!NG7,\"事業概要：\"),EXACT(集計用!NG7,\"ー\"),集計用!NG7=0,集計用!NG7=\"\"),0,1)","v":0},{"$f":"IF(OR(EXACT(集計用!NH7,\"事業概要：\"),EXACT(集計用!NH7,\"ー\"),集計用!NH7=0,集計用!NH7=\"\"),0,1)","v":0},{"$f":"IF(OR(EXACT(集計用!NI7,\"事業概要：\"),EXACT(集計用!NI7,\"ー\"),集計用!NI7=0,集計用!NI7=\"\"),0,1)","v":0},{"$f":"IF(OR(EXACT(集計用!NJ7,\"事業概要：\"),EXACT(集計用!NJ7,\"ー\"),集計用!NJ7=0,集計用!NJ7=\"\"),0,1)","v":0},{"$f":"IF(OR(EXACT(集計用!NK7,\"事業概要：\"),EXACT(集計用!NK7,\"ー\"),集計用!NK7=0,集計用!NK7=\"\"),0,1)","v":0},{"$f":"IF(OR(EXACT(集計用!NL7,\"事業概要：\"),EXACT(集計用!NL7,\"ー\"),集計用!NL7=0,集計用!NL7=\"\"),0,1)","v":0},{"$f":"IF(OR(EXACT(集計用!NM7,\"事業概要：\"),EXACT(集計用!NM7,\"ー\"),集計用!NM7=0,集計用!NM7=\"\"),0,1)","v":0},{"$f":"IF(OR(EXACT(集計用!NN7,\"事業概要：\"),EXACT(集計用!NN7,\"ー\"),集計用!NN7=0,集計用!NN7=\"\"),0,1)","v":0},{"$f":"IF(OR(EXACT(集計用!NO7,\"事業概要：\"),EXACT(集計用!NO7,\"ー\"),集計用!NO7=0,集計用!NO7=\"\"),0,1)","v":0},{"$f":"IF(OR(EXACT(集計用!NP7,\"事業概要：\"),EXACT(集計用!NP7,\"ー\"),集計用!NP7=0,集計用!NP7=\"\"),0,1)","v":0},{"$f":"IF(OR(EXACT(集計用!NQ7,\"事業概要：\"),EXACT(集計用!NQ7,\"ー\"),集計用!NQ7=0,集計用!NQ7=\"\"),0,1)","v":0},{"$f":"IF(OR(EXACT(集計用!NR7,\"事業概要：\"),EXACT(集計用!NR7,\"ー\"),集計用!NR7=0,集計用!NR7=\"\"),0,1)","v":0},{"$f":"IF(OR(EXACT(集計用!NS7,\"事業概要：\"),EXACT(集計用!NS7,\"ー\"),集計用!NS7=0,集計用!NS7=\"\"),0,1)","v":0},{"$f":"IF(OR(EXACT(集計用!NT7,\"事業概要：\"),EXACT(集計用!NT7,\"ー\"),集計用!NT7=0,集計用!NT7=\"\"),0,1)","v":0},{"$f":"IF(OR(EXACT(集計用!NU7,\"事業概要：\"),EXACT(集計用!NU7,\"ー\"),集計用!NU7=0,集計用!NU7=\"\"),0,1)","v":0},{"$f":"IF(OR(EXACT(集計用!NV7,\"事業概要：\"),EXACT(集計用!NV7,\"ー\"),集計用!NV7=0,集計用!NV7=\"\"),0,1)","v":0},{"$f":"IF(OR(EXACT(集計用!NW7,\"事業概要：\"),EXACT(集計用!NW7,\"ー\"),集計用!NW7=0,集計用!NW7=\"\"),0,1)","v":0},{"$f":"IF(OR(EXACT(集計用!NX7,\"事業概要：\"),EXACT(集計用!NX7,\"ー\"),集計用!NX7=0,集計用!NX7=\"\"),0,1)","v":0},{"$f":"IF(OR(EXACT(集計用!NY7,\"事業概要：\"),EXACT(集計用!NY7,\"ー\"),集計用!NY7=0,集計用!NY7=\"\"),0,1)","v":0},{"$f":"IF(OR(EXACT(集計用!NZ7,\"事業概要：\"),EXACT(集計用!NZ7,\"ー\"),集計用!NZ7=0,集計用!NZ7=\"\"),0,1)","v":0},{"$f":"IF(OR(EXACT(集計用!OA7,\"事業概要：\"),EXACT(集計用!OA7,\"ー\"),集計用!OA7=0,集計用!OA7=\"\"),0,1)","v":0},{"$f":"IF(OR(EXACT(集計用!OB7,\"事業概要：\"),EXACT(集計用!OB7,\"ー\"),集計用!OB7=0,集計用!OB7=\"\"),0,1)","v":0},{"$f":"IF(OR(EXACT(集計用!OC7,\"事業概要：\"),EXACT(集計用!OC7,\"ー\"),集計用!OC7=0,集計用!OC7=\"\"),0,1)","v":0},{"$f":"IF(OR(EXACT(集計用!OD7,\"事業概要：\"),EXACT(集計用!OD7,\"ー\"),集計用!OD7=0,集計用!OD7=\"\"),0,1)","v":0},{"$f":"IF(OR(EXACT(集計用!OE7,\"事業概要：\"),EXACT(集計用!OE7,\"ー\"),集計用!OE7=0,集計用!OE7=\"\"),0,1)","v":0},{"$f":"IF(OR(EXACT(集計用!OF7,\"事業概要：\"),EXACT(集計用!OF7,\"ー\"),集計用!OF7=0,集計用!OF7=\"\"),0,1)","v":0},{"$f":"IF(OR(EXACT(集計用!OG7,\"事業概要：\"),EXACT(集計用!OG7,\"ー\"),集計用!OG7=0,集計用!OG7=\"\"),0,1)","v":0},{"$f":"IF(OR(EXACT(集計用!OH7,\"事業概要：\"),EXACT(集計用!OH7,\"ー\"),集計用!OH7=0,集計用!OH7=\"\"),0,1)","v":0},{"$f":"IF(OR(EXACT(集計用!OI7,\"事業概要：\"),EXACT(集計用!OI7,\"ー\"),集計用!OI7=0,集計用!OI7=\"\"),0,1)","v":0},{"$f":"IF(OR(EXACT(集計用!OJ7,\"事業概要：\"),EXACT(集計用!OJ7,\"ー\"),集計用!OJ7=0,集計用!OJ7=\"\"),0,1)","v":0}]
["F","F","F","F","F","T","T","T","T","T","T","T","T","T","T","T","T","T","T","F","F","F","F","F","F","F","F","F","F","F","F","F","F","F","F","F","F","F","F","F","F","F","F","F","F","F","F","T","T","F","T","T","F","F","T","F","F","F","F","F","T","T","F","F","T","F","F","F","F","F","T","T","F","F","T","F","F","F","F","F","T","T","F","F","T","F","F","F","F","F","T","T","F","F","T","F","F","F","F","F","T","T","F","F","T","F","F","F","F","F","T","T","F","F","T","F","F","F","F","F","T","T","F","F","T","F","F","F","F","F","T","T","F","F","T","F","F","F","F","F","T","T","T","F","F","T","F","F","F","F","F","T","T","F","F","T","F","F","F","F","F","F","T","F","F","T","F","F","F","F","F","T","T","F","F","T","F","F","F","F","F","T","T","F","F","T","F","F","F","F","F","T","T","T","F","F","T","F","F","F","F","F","T","T","T","F","F","T","F","F","F","F","F","T","T","T","F","F","T","F","F","F","F","F","T","T","T","F","F","T","F","F","F","F","F","T","T","T","F","F","T","F","F","F","F","F","T","T","T","F","F","T","F","F","F","F","F","T","T","F","F","T","F","F","F","F","F","T","T","F","F","T","F","F","F","F","F","T","T","F","F","T","F","F","F","F","F","T","T","T","F","F","T","F","F","F","F","F","T","T","T","F","F","T","F","F","F","F","F","T","F","F","T","F","F","F","F","F","T","T","F","F","T","F","F","F","F","F","T","T","T","T","F","F","T","F","F","F","F","F","T","T","T","F","F","T","F","F","F","F","F","T","T","T","F","F","T","F","F","F","F","F","T","T","T","F","F","T","F","F","F","F","F","T","T","T","T","F","F","T","F","F","F","F","F","T","T","T","F","F","T","F","F","F","F","F","T"]
[null,null,null,null,null,0,0,0,0,0,0,0,null,0,0,0,0,0,0,null,null,null,null,null,null,null,null,null,null,null,null,null,null,null,null,null,null,null,null,null,null,null,null,null,null,null,null,0,0,null,0,0,null,null,null,null,null,null,null,null,0,0,null,null,null,null,null,null,null,null,0,0,null,null,null,null,null,null,null,null,0,0,null,null,null,null,null,null,null,null,0,0,null,null,null,null,null,null,null,null,0,0,null,null,null,null,null,null,null,null,0,0,null,null,null,null,null,null,null,null,0,0,null,null,null,null,null,null,null,null,0,0,null,null,null,null,null,null,null,null,null,0,0,null,null,null,null,null,null,null,null,0,0,null,null,null,null,null,null,null,null,null,0,null,null,null,null,null,null,null,null,0,0,null,null,null,null,null,null,null,null,0,0,null,null,null,null,null,null,null,null,null,0,0,null,null,null,null,null,null,null,null,null,0,0,null,null,null,null,null,null,null,null,null,0,0,null,null,null,null,null,null,null,null,null,0,0,null,null,null,null,null,null,null,null,null,0,0,null,null,null,null,null,null,null,null,null,0,0,null,null,null,null,null,null,null,null,0,0,null,null,null,null,null,null,null,null,0,0,null,null,null,null,null,null,null,null,null,0,null,null,null,null,null,null,null,null,null,0,0,null,null,null,null,null,null,null,null,null,0,0,null,null,null,null,null,null,null,null,0,null,null,null,null,null,null,null,null,null,0,null,null,null,null,null,null,null,null,null,null,0,0,null,null,null,null,null,null,null,null,null,0,0,null,null,null,null,null,null,null,null,null,0,0,null,null,null,null,null,null,null,null,null,0,0,null,null,null,null,null,null,null,null,null,null,0,0,null,null,null,null,null,null,null,null,null,null,0]
[]
[null,null,null,null,null,2,2,2,2,1,2,2,1,2,1,2,1,3,2,1,1,1,1,1,1,1,1,1,1,1,1,1,1,1,1,1,1,1,1,1,1,1,1,1,1,1,1,1,1,2,1,1,1,1,1,1,1,1,1,1,1,1,1,1,1,1,1,1,1,1,1,1,1,1,1,1,1,1,1,1,1,1,1,1,1,1,1,1,1,1,1,1,1,1,1,1,1,1,1,1,1,1,1,1,1,1,1,1,1,1,1,1,1,1,1,1,1,1,1,1,1,1,1,1,1,1,1,1,1,1,1,1,1,1,1,1,1,1,1,1,2,1,1,1,1,1,1,1,1,1,1,1,1,1,1,1,1,1,1,1,1,1,1,1,1,1,1,1,1,1,1,1,1,1,1,1,1,1,1,1,1,1,1,1,1,1,1,1,1,1,1,2,1,1,1,1,1,1,1,1,1,1,1,1,1,1,1,1,1,1,1,1,1,1,1,1,1,1,1,1,1,1,1,1,1,1,1,1,1,1,1,1,1,1,1,1,1,1,1,1,1,1,1,1,1,1,2,1,1,1,1,1,1,1,1,1,1,1,1,1,1,1,1,1,1,1,1,1,1,1,1,1,1,1,1,1,1,2,1,1,1,1,1,1,1,1,1,1,1,1,1,1,1,1,1,1,1,1,1,1,1,1,1,1,1,1,1,1,1,1,1,1,1,1,1,1,1,1,2,1,1,1,1,1,1,1,1,1,2,1,1,1,1,1,1,1,1,1,1,1,1,1,1,1,1,1,1,1,1,1,1,1,1,1,1,1,1,1,1,1,1,1,1,1,1,1,1,1,1,1,1,1,1,2,1,1,1,1,1,1,1,1,1,1,1,2,2,1,1,1,1,1,1,1,1,1,2]
[]
[]
[null,null,null,null,null,null,"二種免許","特例講習",null,38,39,40,41,42,43,44,45]
["認証状況","えるぼし","くるみん","倍率",null,"保有車両数×1/2","内示人数","内示人数",null,"平均要望額×保有車両数×0.95","平均要望額×保有車両数×0.95","平均要望額×保有車両数×0.95","平均要望額×保有車両数×0.95","平均要望額×保有車両数×0.95","平均要望額×保有車両数×0.95","平均要望額×保有車両数×0.95","平均要望額×保有車両数×0.95"]
[{"$f":"IF(集計用!U7=5,2,IF(集計用!U7=4,1.5,IF(集計用!U7=3,1,0.5)))","v":0.5},{"$f":"IF(AND(集計用!V7>=3,ISNUMBER(集計用!V7),集計用!V7<>\"\"),1.5,1)","v":1},{"$f":"IF(AND(集計用!W7>=3,ISNUMBER(集計用!W7),集計用!W7<>\"\"),1.5,1)","v":1},{"$f":"A17*MAX(B17,C17)","v":0.5},null,{"$f":"IFERROR(IF(ROUNDDOWN(集計用!AZ7/2,0)=0,1,ROUNDDOWN(集計用!AZ7/2,0)),0)","v":1},{"$f":"IF(タクシー!M258<=2,タクシー!M258,MIN(F17,タクシー!M258))","v":0},{"$f":"IF(タクシー!M259<=2,タクシー!M259,MIN(F17,タクシー!M259))","v":0},null,{"$f":"IFERROR(ROUNDDOWN(IF(集計用!$AZ$7=\"\",\"\",(J24*集計用!$AZ$7*0.95)),0),\"\")","v":0},{"$f":"IFERROR(ROUNDDOWN(IF(集計用!$AZ$7=\"\",\"\",(K24*集計用!$AZ$7*0.95)),0),\"\")","v":0},{"$f":"IFERROR(ROUNDDOWN(IF(集計用!$AZ$7=\"\",\"\",(L24*集計用!$AZ$7*0.95)),0),\"\")","v":0},{"$f":"IFERROR(ROUNDDOWN(IF(集計用!$AZ$7=\"\",\"\",(M24*集計用!$AZ$7*0.95)),0),\"\")","v":0},{"$f":"IFERROR(ROUNDDOWN(IF(集計用!$AZ$7=\"\",\"\",(N24*集計用!$AZ$7*0.95)),0),\"\")","v":0},{"$f":"IFERROR(ROUNDDOWN(IF(集計用!$AZ$7=\"\",\"\",(O24*集計用!$AZ$7*0.95)),0),\"\")","v":0},{"$f":"IFERROR(ROUNDDOWN(IF(集計用!$AZ$7=\"\",\"\",(P24*集計用!$AZ$7*0.95)),0),\"\")","v":0},{"$f":"IFERROR(ROUNDDOWN(IF(集計用!$AZ$7=\"\",\"\",(Q24*集計用!$AZ$7*0.95)),0),\"\")","v":0}]
[]
[null,null,null,null,null,null,null,null,null,"保有車両数合計","保有車両数合計","保有車両数合計","保有車両数合計","保有車両数合計","保有車両数合計","保有車両数合計","保有車両数合計"]
[null,null,null,null,null,null,null,null,null,44624,108891,49679,9066,8113,9830,11991,18843]
[null,null,null,null,null,null,null,null,null,"要望額合計","要望額合計","要望額合計","要望額合計","要望額合計","要望額合計","要望額合計","要望額合計"]
[null,null,null,null,null,null,null,null,null,204876,2816652,24267.087500000001,2970,9324,38588,79672,53707]
[null,null,null,null,null,null,null,null,null,"平均要望額","平均要望額","平均要望額","平均要望額","平均要望額","平均要望額","平均要望額","平均要望額"]
[null,null,null,null,null,null,null,null,null,4.591161706704912,25.866710747444692,0.4884777773304616,0.32759761747187294,1.1492666091458155,3.9255340793489317,6.6443165707614043,2.8502361619699621]

{"sheet":"補助","index":4,"n_rows":1145,"n_cols":24,"rows_kept":1145,"cut":false,"hidden":true,"merged":[]}
[null,{"$f":"YEAR(TODAY()) - YEAR(DATE(2019, 5, 1)) + 1","v":6},"\\\\ts5220d992\\交通DXGX事務局\\014_SEチーム\\002_共有物格納先\\240524_要望調査票_様式フォーマット\\最終版第1様式"]
[null,{"$f":"MONTH(TODAY())","v":11},"様式第1A.pdf",null,"金融機関等\nコード","金融機関等\n名称",null,null,"口座名義（フリガナ）",null,null,null,"中央値","補助対象経費","数","下限","上限",null,null,null,null,null,null,"F4"]
[null,{"$f":"DAY(TODAY())","v":22},"\\\\ts5220d992\\交通DXGX事務局\\014_SEチーム\\002_共有物格納先\\240524_要望調査票_様式フォーマット\\最終版第1様式",null,null,null,null,null,"使用可能文字一覧",null,null,null,null,null,null,null,null,null,null,null,null,null,null,"N4"]
[null,null,"様式第1B.pdf",null,1,"みずほ",null,null,"ｱ",null,null,null,2977434.5,"$P$165","$M$165",297743.45,29774345,{"$f":"M4*10","v":29774345},{"$f":"M4/10","v":297743.45},null,null,null,null,"F6"]
[null,null,null,null,5,"三菱ＵＦＪ",null,null,"ｲ",null,null,null,2300000,"$P$167","$M$167",230000,23000000,{"$f":"M5*10","v":23000000},{"$f":"M5/10","v":230000},null,null,null,null,"N6"]
[null,null,null,null,9,"三井住友",null,null,"ｳ",null,null,null,3382933.333333333,"$P$169","$M$169",338293.33333333331,33829333.333333328,33829333.333333328,338293.33333333331,null,null,null,null,"F8"]
[null,null,{"$f":"IF(COUNT(INDEX(FIND(I4:I93,B7),))=LEN(B7),0,3)","v":0},null,10,"りそな",null,null,"ｴ",null,null,null,6200000,"$P$171","$M$171",620000,62000000,62000000,620000,null,null,null,null,"N8"]
["MM29",null,null,null,17,"埼玉りそな",null,null,"ｵ",null,null,null,178800,"$P$183","$M$183",17880,1788000,1788000,17880,null,null,null,null,"F18"]
[null,null,null,null,33,"ＰａｙＰａｙ",null,null,"ｶ",null,null,null,1085400,"$P$184","$M$184",108540,10854000,10854000,108540,null,null,null,null,"N18"]
[null,null,null,null,34,"セブン",null,null,"ｷ",null,null,null,3877535,"$P$185","$M$185",387753.5,38775350,38775350,387753.5,null,null,null,null,"F20"]
[null,null,null,null,35,"ソニー",null,null,"ｸ",null,null,null,1652600,"$P$186","$M$186",165260,16526000,16526000,165260,null,null,null,null,"F22"]
[null,null,null,null,36,"楽天",null,null,"ｹ",null,null,null,550000,"$P$187","$M$187",55000,5500000,5500000,55000,null,null,null,null,"F24"]
[null,null,null,null,38,"住信ＳＢＩネット",null,null,"ｺ",null,null,null,53922.727272727272,"$P$204","$M$204",6535434.5454545449,653543454.5454545,539227.27272727271,5392.272727272727,null,null,null,null,"F26"]
[null,null,null,null,39,"ａｕじぶん",null,null,"ｻ",null,null,null,29800,"$P$205","$M$205",2980,298000,298000,2980,null,null,null,null,"F28"]
[null,null,null,null,40,"イオン",null,null,"ｼ",null,null,null,756000,"$P$206","$M$206",7560000,75600,7560000,75600,null,null,null,null,"F30"]
[null,null,null,null,41,"大和ネクスト",null,null,"ｽ",null,null,null,50000,"$P$207","$M$207",5000,500000,500000,5000,null,null,null,null,"S253"]
[null,null,null,null,42,"ローソン",null,null,"ｾ",null,null,null,50700,"$P$208","$M$208",5070,507000,507000,5070,null,null,null,null,"S254"]
[null,null,null,null,43,"みんなの",null,null,"ｿ",null,null,null,22909.090909090904,"$P$215","$M$215",2290.9090909090905,229090.90909090906,229090.90909090906,2290.9090909090905,null,null,null,null,"M165"]
[null,null,null,null,44,"ＵＩ",null,null,"ﾀ",null,null,null,91020.512820512828,"$P$220","$M$220",9102.0512820512831,910205.12820512825,910205.12820512825,9102.0512820512831,null,null,null,null,"P165"]
[null,null,null,null,116,"北海道",null,null,"ﾁ",null,null,null,21800,"$P$221","$M$221",2180,218000,218000,2180,null,null,null,null,"M167"]
[null,null,null,null,117,"青森",null,null,"ﾂ",null,null,null,50000,"$P$222","$M$222",5000,500000,500000,5000,null,null,null,null,"P167"]
[null,null,null,null,118,"みちのく",null,null,"ﾃ",null,null,null,105726.7441860465,"$P$223","$M$223",10572.674418604651,1057267.4418604651,1057267.4418604651,10572.674418604651,null,null,null,null,"M169"]
[null,null,null,null,119,"秋田",null,null,"ﾄ",null,null,null,25000,"$P$229","$M$229",2500,250000,250000,2500,null,null,null,null,"P169"]
[null,null,null,null,120,"北都",null,null,"ﾅ",null,null,null,170200,"$P$230","$M$230",17020,1702000,1702000,17020,null,null,null,null,"M171"]
[null,null,null,null,121,"荘内",null,null,"ﾆ",null,null,null,74463.5,"$P$231","$M$231",7446.35,744635,744635,7446.35,null,null,null,null,"P171"]
[null,null,null,null,122,"山形",null,null,"ﾇ",null,null,null,543375,"$P$237","$M$237",5433750,54337.5,5433750,54337.5,null,null,null,null,"M183"]
[null,null,null,null,123,"岩手",null,null,"ﾈ",null,null,null,210636,"$P$258","$M$258",21063.599999999999,2106360,2106360,21063.599999999999,null,null,null,null,"P183"]
[null,null,null,null,124,"東北",null,null,"ﾉ",null,null,null,248891,"$P$259","$M$259",24889.1,2488910,2488910,24889.1,null,null,null,null,"M184"]
[null,null,null,null,125,"七十七",null,null,"ﾊ",null,null,null,560000,"$P$269","$M$269",56000,5600000,5600000,56000,null,null,null,null,"P184"]
[null,null,null,null,126,"東邦",null,null,"ﾋ",null,null,null,1800400,"$P$285","$M$285",18004000,180040,18004000,180040,null,null,null,null,"M185"]
[null,null,null,null,128,"群馬",null,null,"ﾌ",null,null,null,4000,"$P$308","$M$308",400,40000,40000,400,null,null,null,null,"P185"]
[null,null,null,null,129,"足利",null,null,"ﾍ",null,null,null,5455,"$P$309","$M$309",545.5,54550,54550,545.5,null,null,null,null,"M186"]
[null,null,null,null,130,"常陽",null,null,"ﾎ",null,null,null,12000,"$P$310","$M$310",1200,120000,120000,1200,null,null,null,null,"P186"]
[null,null,null,null,131,"筑波",null,null,"ﾏ",null,null,null,24000,"$P$311","$M$311",2400,240000,240000,2400,null,null,null,null,"M187"]
[null,null,null,null,133,"武蔵野",null,null,"ﾐ",null,null,null,20000,"$P$315","$M$315",2000,200000,200000,2000,null,null,null,null,"P187"]
[null,null,null,null,134,"千葉",null,null,"ﾑ",null,null,null,321345,"$P$327","$M$327",3213450,32134.5,3213450,32134.5,null,null,null,null,"E188"]
[null,null,null,null,135,"千葉興業",null,null,"ﾒ",null,null,null,null,null,null,null,null,null,null,null,null,null,null,"M204"]
[null,null,null,null,137,"きらぼし",null,null,"ﾓ",null,null,null,null,null,null,null,null,null,null,null,null,null,null,"P204"]
[null,null,null,null,138,"横浜",null,null,"ﾔ",null,null,null,null,null,null,null,null,null,null,null,null,null,null,"M205"]
[null,null,null,null,140,"第四北越",null,null,"ﾕ",null,null,null,null,null,null,null,null,null,null,null,null,null,null,"P205"]
[null,null,null,null,142,"山梨中央",null,null,"ﾖ",null,null,null,null,null,null,null,null,null,null,null,null,null,null,"P206"]
[null,null,null,null,143,"八十二",null,null,"ﾗ",null,null,null,null,null,null,null,null,null,null,null,null,null,null,"M207"]
[null,null,null,null,144,"北陸",null,null,"ﾘ",null,null,null,null,null,null,null,null,null,null,null,null,null,null,"P207"]
[null,null,null,null,145,"富山",null,null,"ﾙ",null,null,null,null,null,null,null,null,null,null,null,null,null,null,"M208"]
[null,null,null,null,146,"北國",null,null,"ﾚ",null,null,null,null,null,null,null,null,null,null,null,null,null,null,"P208"]
[null,null,null,null,147,"福井",null,null,"ﾛ",null,null,null,null,null,null,null,null,null,null,null,null,null,null,"E209"]
[null,null,null,null,149,"静岡",null,null,"ﾜ",null,null,null,null,null,null,null,null,null,null,null,null,null,null,"M215"]
[null,null,null,null,150,"スルガ",null,null,"ﾝ",null,null,null,null,null,null,null,null,null,null,null,null,null,null,"P215"]
[null,null,null,null,151,"清水",null,null,"ﾞ",null,null,null,null,null,null,null,null,null,null,null,null,null,null,"I220"]
[null,null,null,null,152,"大垣共立",null,null,"ﾟ",null,null,null,null,null,null,null,null,null,null,null,null,null,null,"M220"]
[null,null,null,null,153,"十六",null,null,0,null,null,null,null,null,null,null,null,null,null,null,null,null,null,"P220"]
[null,null,null,null,154,"三十三",null,null,1,null,null,null,null,null,null,null,null,null,null,null,null,null,null,"I221"]
[null,null,null,null,155,"百五",null,null,2,null,null,null,null,null,null,null,null,null,null,null,null,null,null,"M221"]
[null,null,null,null,157,"滋賀",null,null,3,null,null,null,null,null,null,null,null,null,null,null,null,null,null,"P221"]
[null,null,null,null,158,"京都",null,null,4,null,null,null,null,null,null,null,null,null,null,null,null,null,null,"I222"]
[null,null,null,null,159,"関西みらい",null,null,5,null,null,null,null,null,null,null,null,null,null,null,null,null,null,"M222"]
[null,null,null,null,161,"池田泉州",null,null,6,null,null,null,null,null,null,null,null,null,null,null,null,null,null,"P222"]
[null,null,null,null,162,"南都",null,null,7,null,null,null,null,null,null,null,null,null,null,null,null,null,null,"I223"]
[null,null,null,null,163,"紀陽",null,null,8,null,null,null,null,null,null,null,null,null,null,null,null,null,null,"M223"]
[null,null,null,null,164,"但馬",null,null,9,null,null,null,null,null,null,null,null,null,null,null,null,null,null,"P223"]
[null,null,null,null,166,"鳥取",null,null,"A",null,null,null,null,null,null,null,null,null,null,null,null,null,null,"E224"]
[null,null,null,null,167,"山陰合同",null,null,"B",null,null,null,null,null,null,null,null,null,null,null,null,null,null,"M229"]
[null,null,null,null,168,"中国",null,null,"C",null,null,null,null,null,null,null,null,null,null,null,null,null,null,"P229"]
[null,null,null,null,169,"広島",null,null,"D",null,null,null,null,null,null,null,null,null,null,null,null,null,null,"M230"]
[null,null,null,null,170,"山口",null,null,"E",null,null,null,null,null,null,null,null,null,null,null,null,null,null,"P230"]
[null,null,null,null,172,"阿波",null,null,"F",null,null,null,null,null,null,null,null,null,null,null,null,null,null,"M231"]
[null,null,null,null,173,"百十四",null,null,"G",null,null,null,null,null,null,null,null,null,null,null,null,null,null,"P231"]
[null,null,null,null,174,"伊予",null,null,"H",null,null,null,null,null,null,null,null,null,null,null,null,null,null,"E237"]
[null,null,null,null,175,"四国",null,null,"I",null,null,null,null,null,null,null,null,null,null,null,null,null,null,"P237"]
[null,null,null,null,177,"福岡",null,null,"J",null,null,null,null,null,null,null,null,null,null,null,null,null,null,"M258"]
[null,null,null,null,178,"筑邦",null,null,"K",null,null,null,null,null,null,null,null,null,null,null,null,null,null,"P258"]
[null,null,null,null,179,"佐賀",null,null,"L",null,null,null,null,null,null,null,null,null,null,null,null,null,null,"M259"]
[null,null,null,null,181,"十八親和",null,null,"M",null,null,null,null,null,null,null,null,null,null,null,null,null,null,"P259"]
[null,null,null,null,182,"肥後",null,null,"N",null,null,null,null,null,null,null,null,null,null,null,null,null,null,"P269"]
[null,null,null,null,183,"大分",null,null,"O",null,null,null,null,null,null,null,null,null,null,null,null,null,null,"C272"]
[null,null,null,null,184,"宮崎",null,null,"P",null,null,null,null,null,null,null,null,null,null,null,null,null,null,"P285"]
[null,null,null,null,185,"鹿児島",null,null,"Q",null,null,null,null,null,null,null,null,null,null,null,null,null,null,"C288"]
[null,null,null,null,187,"琉球",null,null,"R",null,null,null,null,null,null,null,null,null,null,null,null,null,null,"M308"]
[null,null,null,null,188,"沖縄",null,null,"S",null,null,null,null,null,null,null,null,null,null,null,null,null,null,"P308"]
[null,null,null,null,190,"西日本シティ",null,null,"T",null,null,null,null,null,null,null,null,null,null,null,null,null,null,"M309"]
[null,null,null,null,191,"北九州",null,null,"U",null,null,null,null,null,null,null,null,null,null,null,null,null,null,"P309"]
[null,null,null,null,288,"三菱ＵＦＪ信託",null,null,"V",null,null,null,null,null,null,null,null,null,null,null,null,null,null,"M310"]
[null,null,null,null,289,"みずほ信託",null,null,"W",null,null,null,null,null,null,null,null,null,null,null,null,null,null,"P310"]
[null,null,null,null,294,"三井住友信託",null,null,"X",null,null,null,null,null,null,null,null,null,null,null,null,null,null,"M311"]
[null,null,null,null,297,"日本マスタートラスト信託",null,null,"Y",null,null,null,null,null,null,null,null,null,null,null,null,null,null,"P311"]
[null,null,null,null,300,"ＳＭＢＣ信託",null,null,"Z",null,null,null,null,null,null,null,null,null,null,null,null,null,null,"E315"]
[null,null,null,null,304,"野村信託",null,null,"(",null,null,null,null,null,null,null,null,null,null,null,null,null,null,"M315"]
[null,null,null,null,307,"オリックス",null,null,")",null,null,null,null,null,null,null,null,null,null,null,null,null,null,"P315"]
[null,null,null,null,310,"ＧＭＯあおぞらネット",null,null,".",null,null,null,null,null,null,null,null,null,null,null,null,null,null,"C317"]
[null,null,null,null,324,"日本カストディ",null,null,"-",null,null,null,null,null,null,null,null,null,null,null,null,null,null,"E327"]
[null,null,null,null,397,"ＳＢＩ新生",null,null,"ｰ",null,null,null,null,null,null,null,null,null,null,null,null,null,null,"P327"]
[null,null,null,null,398,"あおぞら",null,null,"/",null,null,null,null,null,null,null,null,null,null,null,null,null,null,"C329"]
[null,null,null,null,401,"シティバンク、エヌ・エイ",null,null," "]
[null,null,null,null,402,"ジェー・ピー・モルガン・チェース・バンク・ナショナル・アソシエーション"]
[null,null,null,null,403,"バンク・オブ・アメリカ・エヌ・エイ"]
[null,null,null,null,411,"香港上海"]
[null,null,null,null,430,"ドイツ"]
[null,null,null,null,443,"ビー・エヌ・ピー・パリバ"]
[null,null,null,null,472,"ＳＢＪ"]
[null,null,null,null,489,"バンク・オブ・チャイナ"]
[null,null,null,null,501,"北洋"]
[null,null,null,null,508,"きらやか"]
[null,null,null,null,509,"北日本"]
[null,null,null,null,512,"仙台"]
[null,null,null,null,513,"福島"]
[null,null,null,null,514,"大東"]
[null,null,null,null,516,"東和"]
[null,null,null,null,517,"栃木"]
[null,null,null,null,522,"京葉"]
[null,null,null,null,525,"東日本"]
[null,null,null,null,526,"東京スター"]
[null,null,null,null,530,"神奈川"]
[null,null,null,null,532,"大光"]
[null,null,null,null,533,"長野"]
[null,null,null,null,534,"富山第一"]
[null,null,null,null,537,"福邦"]
[null,null,null,null,538,"静岡中央"]
[null,null,null,null,542,"愛知"]
[null,null,null,null,543,"名古屋"]
[null,null,null,null,544,"中京"]
[null,null,null,null,562,"みなと"]
[null,null,null,null,565,"島根"]
[null,null,null,null,566,"トマト"]
[null,null,null,null,569,"もみじ"]
[null,null,null,null,570,"西京"]
[null,null,null,null,572,"徳島大正"]
[null,null,null,null,573,"香川"]
[null,null,null,null,576,"愛媛"]
[null,null,null,null,578,"高知"]
[null,null,null,null,582,"福岡中央"]
[null,null,null,null,583,"佐賀共栄"]
[null,null,null,null,585,"長崎"]
[null,null,null,null,587,"熊本"]
[null,null,null,null,590,"豊和"]
[null,null,null,null,591,"宮崎太陽"]
[null,null,null,null,594,"南日本"]
[null,null,null,null,596,"沖縄海邦"]
[null,null,null,null,1000,"信金中央金庫"]
[null,null,null,null,1001,"北海道信金"]
[null,null,null,null,1003,"室蘭信金"]
[null,null,null,null,1004,"空知信金"]
[null,null,null,null,1006,"苫小牧信金"]
[null,null,null,null,1008,"北門信金"]
[null,null,null,null,1009,"伊達信金"]
[null,null,null,null,1010,"北空知信金"]
[null,null,null,null,1011,"日高信金"]
[null,null,null,null,1013,"渡島信金"]
[null,null,null,null,1014,"道南うみ街信金"]
[null,null,null,null,1020,"旭川信金"]
[null,null,null,null,1021,"稚内信金"]
[null,null,null,null,1022,"留萌信金"]
[null,null,null,null,1024,"北星信金"]
[null,null,null,null,1026,"帯広信金"]
[null,null,null,null,1027,"釧路信金"]
[null,null,null,null,1028,"大地みらい信金"]
[null,null,null,null,1030,"北見信金"]
[null,null,null,null,1031,"網走信金"]
[null,null,null,null,1033,"遠軽信金"]
[null,null,null,null,1104,"東奥信金"]
[null,null,null,null,1105,"青い森信金"]
[null,null,null,null,1120,"秋田信金"]
[null,null,null,null,1123,"羽後信金"]
[null,null,null,null,1140,"山形信金"]
[null,null,null,null,1141,"米沢信金"]
[null,null,null,null,1142,"鶴岡信金"]
[null,null,null,null,1143,"新庄信金"]
[null,null,null,null,1150,"盛岡信金"]
[null,null,null,null,1152,"宮古信金"]
[null,null,null,null,1153,"一関信金"]
[null,null,null,null,1154,"北上信金"]
[null,null,null,null,1155,"花巻信金"]
[null,null,null,null,1156,"水沢信金"]
[null,null,null,null,1170,"杜の都信金"]
[null,null,null,null,1171,"宮城第一信金"]
[null,null,null,null,1172,"石巻信金"]
[null,null,null,null,1174,"仙南信金"]
[null,null,null,null,1175,"気仙沼信金"]
[null,null,null,null,1181,"会津信金"]
[null,null,null,null,1182,"郡山信金"]
[null,null,null,null,1184,"白河信金"]
[null,null,null,null,1185,"須賀川信金"]
[null,null,null,null,1186,"ひまわり信金"]
[null,null,null,null,1188,"あぶくま信金"]
[null,null,null,null,1189,"二本松信金"]
[null,null,null,null,1190,"福島信金"]
[null,null,null,null,1203,"高崎信金"]
[null,null,null,null,1204,"桐生信金"]
[null,null,null,null,1206,"アイオー信金"]
[null,null,null,null,1208,"利根郡信金"]
[null,null,null,null,1209,"館林信金"]
[null,null,null,null,1210,"北群馬信金"]
[null,null,null,null,1211,"しののめ信金"]
[null,null,null,null,1221,"足利小山信金"]
[null,null,null,null,1222,"栃木信金"]
[null,null,null,null,1223,"鹿沼相互信金"]
[null,null,null,null,1224,"佐野信金"]
[null,null,null,null,1225,"大田原信金"]
[null,null,null,null,1227,"烏山信金"]
[null,null,null,null,1240,"水戸信金"]
[null,null,null,null,1242,"結城信金"]
[null,null,null,null,1250,"埼玉縣信金"]
[null,null,null,null,1251,"川口信金"]
[null,null,null,null,1252,"青木信金"]
[null,null,null,null,1253,"飯能信金"]
[null,null,null,null,1260,"千葉信金"]
[null,null,null,null,1261,"銚子信金"]
[null,null,null,null,1262,"東京ベイ信金"]
[null,null,null,null,1264,"館山信金"]
[null,null,null,null,1267,"佐原信金"]
[null,null,null,null,1280,"横浜信金"]
[null,null,null,null,1281,"かながわ信金"]
[null,null,null,null,1282,"湘南信金"]
[null,null,null,null,1283,"川崎信金"]
[null,null,null,null,1286,"平塚信金"]
[null,null,null,null,1288,"さがみ信金"]
[null,null,null,null,1289,"中栄信金"]
[null,null,null,null,1290,"中南信金"]
[null,null,null,null,1303,"朝日信金"]
[null,null,null,null,1305,"興産信金"]
[null,null,null,null,1310,"さわやか信金"]
[null,null,null,null,1311,"東京シティ信金"]
[null,null,null,null,1319,"芝信金"]
[null,null,null,null,1320,"東京東信金"]
[null,null,null,null,1321,"東栄信金"]
[null,null,null,null,1323,"亀有信金"]
[null,null,null,null,1326,"小松川信金"]
[null,null,null,null,1327,"足立成和信金"]
[null,null,null,null,1333,"東京三協信金"]
[null,null,null,null,1336,"西京信金"]
[null,null,null,null,1341,"西武信金"]
[null,null,null,null,1344,"城南信金"]
[null,null,null,null,1345,"昭和信金"]
[null,null,null,null,1346,"目黒信金"]
[null,null,null,null,1348,"世田谷信金"]
[null,null,null,null,1349,"東京信金"]
[null,null,null,null,1351,"城北信金"]
[null,null,null,null,1352,"瀧野川信金"]
[null,null,null,null,1356,"巣鴨信金"]
[null,null,null,null,1358,"青梅信金"]
[null,null,null,null,1360,"多摩信金"]
[null,null,null,null,1370,"新潟信金"]
[null,null,null,null,1371,"長岡信金"]
[null,null,null,null,1373,"三条信金"]
[null,null,null,null,1374,"新発田信金"]
[null,null,null,null,1375,"柏崎信金"]
[null,null,null,null,1376,"上越信金"]
[null,null,null,null,1377,"新井信金"]
[null,null,null,null,1379,"村上信金"]
[null,null,null,null,1380,"加茂信金"]
[null,null,null,null,1385,"甲府信金"]
[null,null,null,null,1386,"山梨信金"]
[null,null,null,null,1390,"長野信金"]
[null,null,null,null,1391,"松本信金"]
[null,null,null,null,1392,"上田信金"]
[null,null,null,null,1393,"諏訪信金"]
[null,null,null,null,1394,"飯田信金"]
[null,null,null,null,1396,"アルプス中央信金"]
[null,null,null,null,1401,"富山信金"]
[null,null,null,null,1402,"高岡信金"]
[null,null,null,null,1404,"新湊信金"]
[null,null,null,null,1405,"にいかわ信金"]
[null,null,null,null,1406,"氷見伏木信金"]
[null,null,null,null,1412,"砺波信金"]
[null,null,null,null,1413,"石動信金"]
[null,null,null,null,1440,"金沢信金"]
[null,null,null,null,1442,"のと共栄信金"]
[null,null,null,null,1444,"はくさん信金"]
[null,null,null,null,1448,"興能信金"]
[null,null,null,null,1470,"福井信金"]
[null,null,null,null,1471,"敦賀信金"]
[null,null,null,null,1473,"小浜信金"]
[null,null,null,null,1475,"越前信金"]
[null,null,null,null,1501,"しずおか焼津信金"]
[null,null,null,null,1502,"静清信金"]
[null,null,null,null,1503,"浜松磐田信金"]
[null,null,null,null,1505,"沼津信金"]
[null,null,null,null,1506,"三島信金"]
[null,null,null,null,1507,"富士宮信金"]
[null,null,null,null,1513,"島田掛川信金"]
[null,null,null,null,1515,"富士信金"]
[null,null,null,null,1517,"遠州信金"]
[null,null,null,null,1530,"岐阜信金"]
[null,null,null,null,1531,"大垣西濃信金"]
[null,null,null,null,1532,"高山信金"]
[null,null,null,null,1533,"東濃信金"]
[null,null,null,null,1534,"関信金"]
[null,null,null,null,1538,"八幡信金"]
[null,null,null,null,1550,"愛知信金"]
[null,null,null,null,1551,"豊橋信金"]
[null,null,null,null,1552,"岡崎信金"]
[null,null,null,null,1553,"いちい信金"]
[null,null,null,null,1554,"瀬戸信金"]
[null,null,null,null,1555,"半田信金"]
[null,null,null,null,1556,"知多信金"]
[null,null,null,null,1557,"豊川信金"]
[null,null,null,null,1559,"豊田信金"]
[null,null,null,null,1560,"碧海信金"]
[null,null,null,null,1561,"西尾信金"]
[null,null,null,null,1562,"蒲郡信金"]
[null,null,null,null,1563,"尾西信金"]
[null,null,null,null,1565,"中日信金"]
[null,null,null,null,1566,"東春信金"]
[null,null,null,null,1580,"津信金"]
[null,null,null,null,1581,"北伊勢上野信金"]
[null,null,null,null,1583,"桑名三重信金"]
[null,null,null,null,1585,"紀北信金"]
[null,null,null,null,1602,"滋賀中央信金"]
[null,null,null,null,1603,"長浜信金"]
[null,null,null,null,1604,"湖東信金"]
[null,null,null,null,1610,"京都信金"]
[null,null,null,null,1611,"京都中央信金"]
[null,null,null,null,1620,"京都北都信金"]
[null,null,null,null,1630,"大阪信金"]
[null,null,null,null,1633,"大阪厚生信金"]
[null,null,null,null,1635,"大阪シティ信金"]
[null,null,null,null,1636,"大阪商工信金"]
[null,null,null,null,1643,"永和信金"]
[null,null,null,null,1645,"北おおさか信金"]
[null,null,null,null,1656,"枚方信金"]
[null,null,null,null,1666,"奈良信金"]
[null,null,null,null,1667,"大和信金"]
[null,null,null,null,1668,"奈良中央信金"]
[null,null,null,null,1671,"新宮信金"]
[null,null,null,null,1674,"きのくに信金"]
[null,null,null,null,1680,"神戸信金"]
[null,null,null,null,1685,"姫路信金"]
[null,null,null,null,1686,"播州信金"]
[null,null,null,null,1687,"兵庫信金"]
[null,null,null,null,1688,"尼崎信金"]
[null,null,null,null,1689,"日新信金"]
[null,null,null,null,1691,"淡路信金"]
[null,null,null,null,1692,"但馬信金"]
[null,null,null,null,1694,"西兵庫信金"]
[null,null,null,null,1695,"中兵庫信金"]
[null,null,null,null,1696,"但陽信金"]
[null,null,null,null,1701,"鳥取信金"]
[null,null,null,null,1702,"米子信金"]
[null,null,null,null,1703,"倉吉信金"]
[null,null,null,null,1710,"しまね信金"]
[null,null,null,null,1711,"日本海信金"]
[null,null,null,null,1712,"島根中央信金"]
[null,null,null,null,1732,"おかやま信金"]
[null,null,null,null,1734,"水島信金"]
[null,null,null,null,1735,"津山信金"]
[null,null,null,null,1738,"玉島信金"]
[null,null,null,null,1740,"備北信金"]
[null,null,null,null,1741,"吉備信金"]
[null,null,null,null,1743,"備前日生信金"]
[null,null,null,null,1750,"広島信金"]
[null,null,null,null,1752,"呉信金"]
[null,null,null,null,1756,"しまなみ信金"]
[null,null,null,null,1758,"広島みどり信金"]
[null,null,null,null,1780,"萩山口信金"]
[null,null,null,null,1781,"西中国信金"]
[null,null,null,null,1789,"東山口信金"]
[null,null,null,null,1801,"徳島信金"]
[null,null,null,null,1803,"阿南信金"]
[null,null,null,null,1830,"高松信金"]
[null,null,null,null,1833,"観音寺信金"]
[null,null,null,null,1860,"愛媛信金"]
[null,null,null,null,1862,"宇和島信金"]
[null,null,null,null,1864,"東予信金"]
[null,null,null,null,1866,"川之江信金"]
[null,null,null,null,1880,"幡多信金"]
[null,null,null,null,1881,"高知信金"]
[null,null,null,null,1901,"福岡信金"]
[null,null,null,null,1903,"福岡ひびき信金"]
[null,null,null,null,1908,"大牟田柳川信金"]
[null,null,null,null,1909,"筑後信金"]
[null,null,null,null,1910,"飯塚信金"]
[null,null,null,null,1913,"田川信金"]
[null,null,null,null,1917,"大川信金"]
[null,null,null,null,1920,"遠賀信金"]
[null,null,null,null,1930,"唐津信金"]
[null,null,null,null,1931,"佐賀信金"]
[null,null,null,null,1932,"伊万里信金"]
[null,null,null,null,1933,"九州ひぜん信金"]
[null,null,null,null,1942,"たちばな信金"]
[null,null,null,null,1951,"熊本信金"]
[null,null,null,null,1952,"熊本第一信金"]
[null,null,null,null,1954,"熊本中央信金"]
[null,null,null,null,1955,"天草信金"]
[null,null,null,null,1960,"大分信金"]
[null,null,null,null,1962,"大分みらい信金"]
[null,null,null,null,1968,"日田信金"]
[null,null,null,null,1980,"宮崎第一信金"]
[null,null,null,null,1982,"延岡信金"]
[null,null,null,null,1985,"高鍋信金"]
[null,null,null,null,1990,"鹿児島信金"]
[null,null,null,null,1991,"鹿児島相互信金"]
[null,null,null,null,1993,"奄美大島信金"]
[null,null,null,null,1996,"コザ信金"]
[null,null,null,null,2004,"商工組合中央金庫"]
[null,null,null,null,2010,"全国信用協同組合連合会"]
[null,null,null,null,2011,"北央信組"]
[null,null,null,null,2013,"札幌中央信組"]
[null,null,null,null,2014,"ウリ信組"]
[null,null,null,null,2017,"函館商工信組"]
[null,null,null,null,2019,"空知商工信組"]
[null,null,null,null,2024,"十勝信組"]
[null,null,null,null,2025,"釧路信組"]
[null,null,null,null,2030,"青森県信組"]
[null,null,null,null,2045,"杜陵信組"]
[null,null,null,null,2049,"岩手県医師信組"]
[null,null,null,null,2060,"あすか信組"]
[null,null,null,null,2061,"石巻商工信組"]
[null,null,null,null,2062,"古川信組"]
[null,null,null,null,2063,"仙北信組"]
[null,null,null,null,2075,"秋田県信組"]
[null,null,null,null,2083,"北郡信組"]
[null,null,null,null,2084,"山形中央信組"]
[null,null,null,null,2085,"山形第一信組"]
[null,null,null,null,2090,"福島県商工信組"]
[null,null,null,null,2092,"いわき信組"]
[null,null,null,null,2095,"相双五城信組"]
[null,null,null,null,2096,"会津商工信組"]
[null,null,null,null,2101,"茨城県信組"]
[null,null,null,null,2122,"真岡信組"]
[null,null,null,null,2125,"那須信組"]
[null,null,null,null,2143,"あかぎ信組"]
[null,null,null,null,2146,"群馬県信組"]
[null,null,null,null,2149,"ぐんまみらい信組"]
[null,null,null,null,2151,"群馬県医師信組"]
[null,null,null,null,2162,"埼玉県医師信組"]
[null,null,null,null,2165,"熊谷商工信組"]
[null,null,null,null,2167,"埼玉信組"]
[null,null,null,null,2180,"房総信組"]
[null,null,null,null,2184,"銚子商工信組"]
[null,null,null,null,2190,"君津信組"]
[null,null,null,null,2202,"全東栄信組"]
[null,null,null,null,2210,"東浴信組"]
[null,null,null,null,2211,"文化産業信組"]
[null,null,null,null,2213,"整理回収機構"]
[null,null,null,null,2215,"東京証券信組"]
[null,null,null,null,2224,"東京厚生信組"]
[null,null,null,null,2226,"東信組"]
[null,null,null,null,2229,"江東信組"]
[null,null,null,null,2231,"青和信組"]
[null,null,null,null,2235,"中ノ郷信組"]
[null,null,null,null,2241,"共立信組"]
[null,null,null,null,2243,"七島信組"]
[null,null,null,null,2248,"大東京信組"]
[null,null,null,null,2254,"第一勧業信組"]
[null,null,null,null,2271,"警視庁職員信組"]
[null,null,null,null,2274,"東京消防信組"]
[null,null,null,null,2276,"東京都職員信組"]
[null,null,null,null,2277,"ハナ信組"]
[null,null,null,null,2304,"神奈川県医師信組"]
[null,null,null,null,2305,"神奈川県歯科医師信組"]
[null,null,null,null,2306,"横浜幸銀信組"]
[null,null,null,null,2307,"横浜華銀信組"]
[null,null,null,null,2315,"小田原第一信組"]
[null,null,null,null,2318,"相愛信組"]
[null,null,null,null,2332,"静岡県医師信組"]
[null,null,null,null,2351,"新潟縣信組"]
[null,null,null,null,2354,"新潟鉄道信組"]
[null,null,null,null,2356,"興栄信組"]
[null,null,null,null,2357,"はばたき信組"]
[null,null,null,null,2360,"協栄信組"]
[null,null,null,null,2361,"三條信組"]
[null,null,null,null,2362,"巻信組"]
[null,null,null,null,2363,"新潟大栄信組"]
[null,null,null,null,2365,"塩沢信組"]
[null,null,null,null,2366,"糸魚川信組"]
[null,null,null,null,2377,"山梨県民信組"]
[null,null,null,null,2378,"都留信組"]
[null,null,null,null,2390,"長野県信組"]
[null,null,null,null,2402,"富山県医師信組"]
[null,null,null,null,2404,"富山県信組"]
[null,null,null,null,2411,"金沢中央信組"]
[null,null,null,null,2417,"石川県医師信組"]
[null,null,null,null,2430,"福泉信組"]
[null,null,null,null,2435,"福井県医師信組"]
[null,null,null,null,2440,"丸八信組"]
[null,null,null,null,2442,"愛知商銀信組"]
[null,null,null,null,2443,"愛知県警察信組"]
[null,null,null,null,2444,"名古屋青果物信組"]
[null,null,null,null,2446,"愛知県医療信組"]
[null,null,null,null,2447,"愛知県医師信組"]
[null,null,null,null,2448,"豊橋商工信組"]
[null,null,null,null,2451,"愛知県中央信組"]
[null,null,null,null,2470,"岐阜商工信組"]
[null,null,null,null,2471,"イオ信組"]
[null,null,null,null,2473,"岐阜県医師信組"]
[null,null,null,null,2476,"飛騨信組"]
[null,null,null,null,2481,"益田信組"]
[null,null,null,null,2504,"滋賀県民信組"]
[null,null,null,null,2505,"滋賀県信組"]
[null,null,null,null,2526,"京滋信組"]
[null,null,null,null,2540,"大同信組"]
[null,null,null,null,2541,"成協信組"]
[null,null,null,null,2543,"大阪協栄信組"]
[null,null,null,null,2548,"大阪貯蓄信組"]
[null,null,null,null,2549,"のぞみ信組"]
[null,null,null,null,2556,"中央信組"]
[null,null,null,null,2560,"大阪府医師信組"]
[null,null,null,null,2566,"大阪府警察信組"]
[null,null,null,null,2567,"近畿産業信組"]
[null,null,null,null,2580,"朝日新聞信組"]
[null,null,null,null,2581,"毎日信組"]
[null,null,null,null,2582,"ミレ信組"]
[null,null,null,null,2602,"兵庫県警察信組"]
[null,null,null,null,2605,"兵庫県医療信組"]
[null,null,null,null,2606,"兵庫県信組"]
[null,null,null,null,2610,"神戸市職員信組"]
[null,null,null,null,2616,"淡陽信組"]
[null,null,null,null,2620,"兵庫ひまわり信組"]
[null,null,null,null,2634,"和歌山県医師信組"]
[null,null,null,null,2661,"島根益田信組"]
[null,null,null,null,2672,"朝銀西信組"]
[null,null,null,null,2674,"笠岡信組"]
[null,null,null,null,2680,"広島市信組"]
[null,null,null,null,2681,"広島県信組"]
[null,null,null,null,2684,"広島商銀信組"]
[null,null,null,null,2690,"両備信組"]
[null,null,null,null,2696,"備後信組"]
[null,null,null,null,2703,"山口県信組"]
[null,null,null,null,2721,"香川県信組"]
[null,null,null,null,2740,"土佐信組"]
[null,null,null,null,2741,"宿毛商銀信組"]
[null,null,null,null,2751,"福岡県庁信組"]
[null,null,null,null,2753,"福岡県医師信組"]
[null,null,null,null,2773,"福岡県信組"]
[null,null,null,null,2802,"佐賀県医師信組"]
[null,null,null,null,2803,"佐賀東信組"]
[null,null,null,null,2808,"佐賀西信組"]
[null,null,null,null,2820,"長崎三菱信組"]
[null,null,null,null,2821,"長崎県医師信組"]
[null,null,null,null,2825,"西海みずき信組"]
[null,null,null,null,2833,"福江信組"]
[null,null,null,null,2842,"熊本県医師信組"]
[null,null,null,null,2845,"熊本県信組"]
[null,null,null,null,2870,"大分県信組"]
[null,null,null,null,2884,"宮崎県南部信組"]
[null,null,null,null,2890,"鹿児島興業信組"]
[null,null,null,null,2891,"鹿児島県医師信組"]
[null,null,null,null,2895,"奄美信組"]
[null,null,null,null,2950,"労働金庫連合会"]
[null,null,null,null,2951,"北海道労金"]
[null,null,null,null,2954,"東北労金"]
[null,null,null,null,2963,"中央労金"]
[null,null,null,null,2965,"新潟県労金"]
[null,null,null,null,2966,"長野県労金"]
[null,null,null,null,2968,"静岡県労金"]
[null,null,null,null,2970,"北陸労金"]
[null,null,null,null,2972,"東海労金"]
[null,null,null,null,2978,"近畿労金"]
[null,null,null,null,2984,"中国労金"]
[null,null,null,null,2987,"四国労金"]
[null,null,null,null,2990,"九州労金"]
[null,null,null,null,2997,"沖縄県労金"]
[null,null,null,null,3000,"農林中央金庫"]
[null,null,null,null,3001,"北海道信連"]
[null,null,null,null,3003,"岩手県信連"]
[null,null,null,null,3008,"茨城県信連"]
[null,null,null,null,3011,"埼玉県信連"]
[null,null,null,null,3013,"東京都信連"]
[null,null,null,null,3014,"神奈川県信連"]
[null,null,null,null,3015,"山梨県信連"]
[null,null,null,null,3016,"長野県信連"]
[null,null,null,null,3017,"新潟県信連"]
[null,null,null,null,3019,"石川県信連"]
[null,null,null,null,3020,"岐阜県信連"]
[null,null,null,null,3021,"静岡県信連"]
[null,null,null,null,3022,"愛知県信連"]
[null,null,null,null,3023,"三重県信連"]
[null,null,null,null,3024,"福井県信連"]
[null,null,null,null,3025,"滋賀県信連"]
[null,null,null,null,3026,"京都府信連"]
[null,null,null,null,3027,"大阪府信連"]
[null,null,null,null,3028,"兵庫県信連"]
[null,null,null,null,3030,"和歌山県信連"]
[null,null,null,null,3031,"鳥取県信連"]
[null,null,null,null,3034,"広島県信連"]
[null,null,null,null,3035,"山口県信連"]
[null,null,null,null,3036,"徳島県信連"]
[null,null,null,null,3037,"香川県信連"]
[null,null,null,null,3038,"愛媛県信連"]
[null,null,null,null,3039,"高知県信連"]
[null,null,null,null,3040,"福岡県信連"]
[null,null,null,null,3041,"佐賀県信連"]
[null,null,null,null,3044,"大分県信連"]
[null,null,null,null,3045,"宮崎県信連"]
[null,null,null,null,3046,"鹿児島県信連"]
[null,null,null,null,3058,"今金町農協"]
[null,null,null,null,3066,"函館市亀田農協"]
[null,null,null,null,3068,"新函館農協"]
[null,null,null,null,3086,"ようてい農協"]
[null,null,null,null,3087,"きょうわ農協"]
[null,null,null,null,3094,"新おたる農協"]
[null,null,null,null,3095,"余市町農協"]
[null,null,null,null,3103,"とうや湖農協"]
[null,null,null,null,3107,"伊達市農協"]
[null,null,null,null,3112,"とまこまい広域農協"]
[null,null,null,null,3114,"鵡川農協"]
[null,null,null,null,3120,"びらとり農協"]
[null,null,null,null,3122,"門別町農協"]
[null,null,null,null,3126,"みついし農協"]
[null,null,null,null,3133,"札幌市農協"]
[null,null,null,null,3139,"道央農協"]
[null,null,null,null,3142,"石狩市農協"]
[null,null,null,null,3145,"北石狩農協"]
[null,null,null,null,3147,"新篠津村農協"]
[null,null,null,null,3154,"サツラク農協"]
[null,null,null,null,3156,"いわみざわ農協"]
[null,null,null,null,3161,"南幌町農協"]
[null,null,null,null,3164,"美唄市農協"]
[null,null,null,null,3165,"峰延農協"]
[null,null,null,null,3168,"月形町農協"]
[null,null,null,null,3170,"ながぬま農協"]
[null,null,null,null,3172,"そらち南農協"]
[null,null,null,null,3173,"夕張市農協"]
[null,null,null,null,3175,"新砂川農協"]
[null,null,null,null,3177,"たきかわ農協"]
[null,null,null,null,3181,"ピンネ農協"]
[null,null,null,null,3188,"北いぶき農協"]
[null,null,null,null,3189,"きたそらち農協"]
[null,null,null,null,3202,"るもい農協"]
[null,null,null,null,3208,"幌延町農協"]
[null,null,null,null,3210,"あさひかわ農協"]
[null,null,null,null,3214,"たいせつ農協"]
[null,null,null,null,3219,"東神楽農協"]
[null,null,null,null,3220,"東旭川農協"]
[null,null,null,null,3223,"当麻農協"]
[null,null,null,null,3224,"比布町農協"]
[null,null,null,null,3225,"上川中央農協"]
[null,null,null,null,3227,"東川町農協"]
[null,null,null,null,3228,"美瑛町農協"]
[null,null,null,null,3231,"ふらの農協"]
[null,null,null,null,3238,"北ひびき農協"]
[null,null,null,null,3244,"道北なよろ農協"]
[null,null,null,null,3248,"北はるか農協"]
[null,null,null,null,3257,"北宗谷農協"]
[null,null,null,null,3259,"東宗谷農協"]
[null,null,null,null,3261,"宗谷南農協"]
[null,null,null,null,3264,"帯広市川西農協"]
[null,null,null,null,3265,"帯広大正農協"]
[null,null,null,null,3266,"中札内村農協"]
[null,null,null,null,3267,"更別村農協"]
[null,null,null,null,3268,"忠類農協"]
[null,null,null,null,3269,"大樹町農協"]
[null,null,null,null,3270,"広尾町農協"]
[null,null,null,null,3271,"芽室町農協"]
[null,null,null,null,3273,"十勝清水町農協"]
[null,null,null,null,3275,"新得町農協"]
[null,null,null,null,3276,"鹿追町農協"]
[null,null,null,null,3277,"木野農協"]
[null,null,null,null,3278,"音更町農協"]
[null,null,null,null,3279,"士幌町農協"]
[null,null,null,null,3280,"上士幌町農協"]
[null,null,null,null,3281,"札内農協"]
[null,null,null,null,3282,"幕別町農協"]
[null,null,null,null,3283,"十勝池田町農協"]
[null,null,null,null,3286,"豊頃町農協"]
[null,null,null,null,3287,"浦幌町農協"]
[null,null,null,null,3288,"本別町農協"]
[null,null,null,null,3289,"足寄町農協"]
[null,null,null,null,3290,"陸別町農協"]
[null,null,null,null,3297,"北オホーツク農協"]
[null,null,null,null,3301,"オホーツクはまなす農協"]
[null,null,null,null,3303,"佐呂間町農協"]
[null,null,null,null,3305,"湧別町農協"]
[null,null,null,null,3306,"えんゆう農協"]
[null,null,null,null,3317,"きたみらい農協"]
[null,null,null,null,3319,"津別町農協"]
[null,null,null,null,3320,"美幌町農協"]
[null,null,null,null,3321,"女満別町農協"]
[null,null,null,null,3322,"常呂町農協"]
[null,null,null,null,3326,"オホーツク網走農協"]
[null,null,null,null,3328,"小清水町農協"]
[null,null,null,null,3329,"しれとこ斜里農協"]
[null,null,null,null,3330,"清里町農協"]
[null,null,null,null,3334,"釧路太田農協"]
[null,null,null,null,3335,"浜中町農協"]
[null,null,null,null,3336,"標茶町農協"]
[null,null,null,null,3337,"摩周湖農協"]
[null,null,null,null,3338,"阿寒農協"]
[null,null,null,null,3339,"釧路丹頂農協"]
[null,null,null,null,3348,"標津町農協"]
[null,null,null,null,3349,"中標津町農協"]
[null,null,null,null,3350,"計根別農協"]
[null,null,null,null,3354,"道東あさひ農協"]
[null,null,null,null,3358,"中春別農協"]
[null,null,null,null,3373,"青森農協"]
[null,null,null,null,3387,"つがる弘前農協"]
[null,null,null,null,3390,"相馬村農協"]
[null,null,null,null,3407,"津軽みらい農協"]
[null,null,null,null,3421,"つがるにしきた農協"]
[null,null,null,null,3442,"ごしょつがる農協"]
[null,null,null,null,3455,"十和田おいらせ農協"]
[null,null,null,null,3469,"ゆうき青森農協"]
[null,null,null,null,3474,"おいらせ農協"]
[null,null,null,null,3488,"八戸農協"]
[null,null,null,null,3517,"新岩手農協"]
[null,null,null,null,3541,"岩手中央農協"]
[null,null,null,null,3553,"花巻農協"]
[null,null,null,null,3572,"岩手ふるさと農協"]
[null,null,null,null,3579,"岩手江刺農協"]
[null,null,null,null,3590,"いわて平泉農協"]
[null,null,null,null,3598,"大船渡市農協"]
[null,null,null,null,3636,"仙台農協"]
[null,null,null,null,3647,"岩沼市農協"]
[null,null,null,null,3652,"名取岩沼農協"]
[null,null,null,null,3653,"みやぎ亘理農協"]
[null,null,null,null,3665,"みやぎ登米農協"]
[null,null,null,null,3704,"古川農協"]
[null,null,null,null,3710,"加美よつば農協"]
[null,null,null,null,3721,"新みやぎ農協"]
[null,null,null,null,3731,"いしのまき農協"]
[null,null,null,null,3751,"みやぎ仙南農協"]
[null,null,null,null,3762,"かづの農協"]
[null,null,null,null,3764,"あきた北農協"]
[null,null,null,null,3771,"秋田たかのす農協"]
[null,null,null,null,3784,"あきた白神農協"]
[null,null,null,null,3795,"秋田やまもと農協"]
[null,null,null,null,3798,"あきた湖東農協"]
[null,null,null,null,3810,"秋田なまはげ農協"]
[null,null,null,null,3825,"秋田しんせい農協"]
[null,null,null,null,3855,"秋田おばこ農協"]
[null,null,null,null,3878,"秋田ふるさと農協"]
[null,null,null,null,3913,"こまち農協"]
[null,null,null,null,3917,"うご農協"]
[null,null,null,null,3929,"大潟村農協"]
[null,null,null,null,3931,"山形市農協"]
[null,null,null,null,3932,"山形農協"]
[null,null,null,null,3938,"天童市農協"]
[null,null,null,null,3943,"さがえ西村山農協"]
[null,null,null,null,3960,"みちのく村山農協"]
[null,null,null,null,3962,"東根市農協"]
[null,null,null,null,3971,"新庄市農協"]
[null,null,null,null,3973,"もがみ中央農協"]
[null,null,null,null,3987,"金山農協"]
[null,null,null,null,3989,"山形おきたま農協"]
[null,null,null,null,4000,"鶴岡市農協"]
[null,null,null,null,4013,"庄内たがわ農協"]
[null,null,null,null,4022,"余目町農協"]
[null,null,null,null,4027,"庄内みどり農協"]
[null,null,null,null,4036,"酒田市袖浦農協"]
[null,null,null,null,4047,"ふくしま未来農協"]
[null,null,null,null,4091,"夢みなみ農協"]
[null,null,null,null,4132,"東西しらかわ農協"]
[null,null,null,null,4160,"会津よつば農協"]
[null,null,null,null,4196,"福島さくら農協"]
[null,null,null,null,4238,"水戸農協"]
[null,null,null,null,4263,"常陸農協"]
[null,null,null,null,4294,"日立市多賀農協"]
[null,null,null,null,4295,"茨城旭村農協"]
[null,null,null,null,4296,"ほこた農協"]
[null,null,null,null,4301,"なめがたしおさい農協"]
[null,null,null,null,4322,"稲敷農協"]
[null,null,null,null,4344,"水郷つくば農協"]
[null,null,null,null,4363,"つくば市農協"]
[null,null,null,null,4371,"つくば市谷田部農協"]
[null,null,null,null,4378,"茨城みなみ農協"]
[null,null,null,null,4387,"やさと農協"]
[null,null,null,null,4394,"新ひたち野農協"]
[null,null,null,null,4397,"北つくば農協"]
[null,null,null,null,4413,"常総ひかり農協"]
[null,null,null,null,4422,"茨城むつみ農協"]
[null,null,null,null,4425,"岩井農協"]
[null,null,null,null,4445,"宇都宮農協"]
[null,null,null,null,4456,"上都賀農協"]
[null,null,null,null,4463,"はが野農協"]
[null,null,null,null,4478,"下野農協"]
[null,null,null,null,4490,"小山農協"]
[null,null,null,null,4497,"塩野谷農協"]
[null,null,null,null,4507,"那須野農協"]
[null,null,null,null,4518,"那須南農協"]
[null,null,null,null,4523,"佐野農協"]
[null,null,null,null,4533,"足利市農協"]
[null,null,null,null,4540,"赤城橘農協"]
[null,null,null,null,4544,"前橋市農協"]
[null,null,null,null,4563,"高崎市農協"]
[null,null,null,null,4567,"はぐくみ農協"]
[null,null,null,null,4593,"北群渋川農協"]
[null,null,null,null,4594,"多野藤岡農協"]
[null,null,null,null,4608,"甘楽富岡農協"]
[null,null,null,null,4613,"碓氷安中農協"]
[null,null,null,null,4626,"あがつま農協"]
[null,null,null,null,4628,"嬬恋村農協"]
[null,null,null,null,4632,"利根沼田農協"]
[null,null,null,null,4652,"佐波伊勢崎農協"]
[null,null,null,null,4664,"新田みどり農協"]
[null,null,null,null,4665,"太田市農協"]
[null,null,null,null,4677,"邑楽館林農協"]
[null,null,null,null,4682,"さいたま農協"]
[null,null,null,null,4730,"あさか野農協"]
[null,null,null,null,4735,"いるま野農協"]
[null,null,null,null,4780,"埼玉中央農協"]
[null,null,null,null,4792,"ちちぶ農協"]
[null,null,null,null,4802,"埼玉ひびきの農協"]
[null,null,null,null,4808,"くまがや農協"]
[null,null,null,null,4820,"埼玉岡部農協"]
[null,null,null,null,4823,"花園農協"]
[null,null,null,null,4828,"ほくさい農協"]
[null,null,null,null,4847,"越谷市農協"]
[null,null,null,null,4848,"南彩農協"]
[null,null,null,null,4859,"埼玉みずほ農協"]
[null,null,null,null,4864,"さいかつ農協"]
[null,null,null,null,4874,"ふかや農協"]
[null,null,null,null,4876,"安房農協"]
[null,null,null,null,4893,"いすみ農協"]
[null,null,null,null,4902,"木更津市農協"]
[null,null,null,null,4909,"君津市農協"]
[null,null,null,null,4916,"長生農協"]
[null,null,null,null,4929,"山武郡市農協"]
[null,null,null,null,4949,"市原市農協"]
[null,null,null,null,4954,"千葉みらい農協"]
[null,null,null,null,4955,"八千代市農協"]
[null,null,null,null,4959,"市川市農協"]
[null,null,null,null,4965,"とうかつ中央農協"]
[null,null,null,null,4975,"ちば東葛農協"]
[null,null,null,null,4992,"成田市農協"]
[null,null,null,null,4993,"富里市農協"]
[null,null,null,null,4996,"西印旛農協"]
[null,null,null,null,5000,"かとり農協"]
[null,null,null,null,5016,"ちばみどり農協"]
[null,null,null,null,5030,"西東京農協"]
[null,null,null,null,5037,"西多摩農協"]
[null,null,null,null,5039,"秋川農協"]
[null,null,null,null,5050,"八王子市農協"]
[null,null,null,null,5055,"東京南農協"]
[null,null,null,null,5060,"町田市農協"]
[null,null,null,null,5070,"マインズ農協"]
[null,null,null,null,5072,"東京みどり農協"]
[null,null,null,null,5077,"東京みらい農協"]
[null,null,null,null,5087,"東京むさし農協"]
[null,null,null,null,5094,"東京中央農協"]
[null,null,null,null,5095,"世田谷目黒農協"]
[null,null,null,null,5097,"東京あおば農協"]
[null,null,null,null,5100,"東京スマイル農協"]
[null,null,null,null,5114,"横浜農協"]
[null,null,null,null,5123,"セレサ川崎農協"]
[null,null,null,null,5128,"よこすか葉山農協"]
[null,null,null,null,5130,"三浦市農協"]
[null,null,null,null,5131,"さがみ農協"]
[null,null,null,null,5137,"湘南農協"]
[null,null,null,null,5140,"秦野市農協"]
[null,null,null,null,5147,"かながわ西湘農協"]
[null,null,null,null,5152,"厚木市農協"]
[null,null,null,null,5153,"県央愛川農協"]
[null,null,null,null,5159,"相模原市農協"]
[null,null,null,null,5162,"神奈川つくい農協"]
[null,null,null,null,5169,"フルーツ山梨農協"]
[null,null,null,null,5199,"笛吹農協"]
[null,null,null,null,5207,"山梨みらい農協"]
[null,null,null,null,5243,"南アルプス市農協"]
[null,null,null,null,5260,"梨北農協"]
[null,null,null,null,5272,"クレイン農協"]
[null,null,null,null,5284,"北富士農協"]
[null,null,null,null,5287,"鳴沢村農協"]
[null,null,null,null,5311,"長野八ヶ岳農協"]
[null,null,null,null,5335,"佐久浅間農協"]
[null,null,null,null,5348,"信州うえだ農協"]
[null,null,null,null,5372,"信州諏訪農協"]
[null,null,null,null,5384,"上伊那農協"]
[null,null,null,null,5405,"みなみ信州農協"]
[null,null,null,null,5441,"木曽農協"]
[null,null,null,null,5448,"松本ハイランド農協"]
[null,null,null,null,5462,"洗馬農協"]
[null,null,null,null,5466,"あづみ農協"]
[null,null,null,null,5470,"大北農協"]
[null,null,null,null,5477,"グリーン長野農協"]
[null,null,null,null,5491,"中野市農協"]
[null,null,null,null,5499,"ながの農協"]
[null,null,null,null,5554,"北越後農協"]
[null,null,null,null,5568,"胎内市農協"]
[null,null,null,null,5600,"新潟かがやき農協"]
[null,null,null,null,5666,"えちご中越農協"]
[null,null,null,null,5690,"越後おぢや農協"]
[null,null,null,null,5693,"北魚沼農協"]
[null,null,null,null,5707,"みなみ魚沼農協"]
[null,null,null,null,5714,"十日町農協"]
[null,null,null,null,5719,"津南町農協"]
[null,null,null,null,5768,"えちご上越農協"]
[null,null,null,null,5797,"ひすい農協"]
[null,null,null,null,5815,"かみはやし農協"]
[null,null,null,null,5823,"にいがた岩船農協"]
[null,null,null,null,5832,"佐渡農協"]
[null,null,null,null,5847,"羽茂農協"]
[null,null,null,null,5864,"新潟市農協"]
[null,null,null,null,5877,"みな穂農協"]
[null,null,null,null,5883,"黒部市農協"]
[null,null,null,null,5885,"魚津市農協"]
[null,null,null,null,5888,"アルプス農協"]
[null,null,null,null,5895,"あおば農協"]
[null,null,null,null,5897,"富山市農協"]
[null,null,null,null,5898,"なのはな農協"]
[null,null,null,null,5911,"いみず野農協"]
[null,null,null,null,5916,"高岡市農協"]
[null,null,null,null,5920,"氷見市農協"]
[null,null,null,null,5921,"となみ野農協"]
[null,null,null,null,5927,"なんと農協"]
[null,null,null,null,5932,"いなば農協"]
[null,null,null,null,5935,"福光農協"]
[null,null,null,null,5943,"加賀農協"]
[null,null,null,null,5962,"小松市農協"]
[null,null,null,null,5980,"根上農協"]
[null,null,null,null,5982,"能美農協"]
[null,null,null,null,5997,"松任市農協"]
[null,null,null,null,6010,"野々市農協"]
[null,null,null,null,6012,"白山農協"]
[null,null,null,null,6024,"金沢中央農協"]
[null,null,null,null,6025,"金沢市農協"]
[null,null,null,null,6062,"石川かほく農協"]
[null,null,null,null,6076,"はくい農協"]
[null,null,null,null,6084,"志賀農協"]
[null,null,null,null,6094,"能登わかば農協"]
[null,null,null,null,6113,"おおぞら農協"]
[null,null,null,null,6121,"内浦町農協"]
[null,null,null,null,6122,"珠洲市農協"]
[null,null,null,null,6129,"ぎふ農協"]
[null,null,null,null,6175,"西美濃農協"]
[null,null,null,null,6198,"いび川農協"]
[null,null,null,null,6242,"めぐみの農協"]
[null,null,null,null,6265,"陶都信用農協"]
[null,null,null,null,6287,"東美濃農協"]
[null,null,null,null,6313,"飛騨農協"]
[null,null,null,null,6345,"富士伊豆農協"]
[null,null,null,null,6363,"清水農協"]
[null,null,null,null,6373,"静岡市農協"]
[null,null,null,null,6377,"大井川農協"]
[null,null,null,null,6382,"ハイナン農協"]
[null,null,null,null,6386,"掛川市農協"]
[null,null,null,null,6387,"遠州夢咲農協"]
[null,null,null,null,6391,"遠州中央農協"]
[null,null,null,null,6403,"とぴあ浜松農協"]
[null,null,null,null,6423,"三ヶ日町農協"]
[null,null,null,null,6430,"なごや農協"]
[null,null,null,null,6436,"天白信用農協"]
[null,null,null,null,6443,"緑信用農協"]
[null,null,null,null,6451,"尾張中央農協"]
[null,null,null,null,6456,"西春日井農協"]
[null,null,null,null,6466,"あいち尾東農協"]
[null,null,null,null,6470,"愛知北農協"]
[null,null,null,null,6483,"愛知西農協"]
[null,null,null,null,6503,"海部東農協"]
[null,null,null,null,6514,"あいち海部農協"]
[null,null,null,null,6531,"あいち知多農協"]
[null,null,null,null,6552,"あいち中央農協"]
[null,null,null,null,6560,"西三河農協"]
[null,null,null,null,6572,"あいち三河農協"]
[null,null,null,null,6582,"あいち豊田農協"]
[null,null,null,null,6591,"愛知東農協"]
[null,null,null,null,6606,"蒲郡市農協"]
[null,null,null,null,6612,"ひまわり農協"]
[null,null,null,null,6615,"愛知みなみ農協"]
[null,null,null,null,6618,"豊橋農協"]
[null,null,null,null,6649,"三重北農協"]
[null,null,null,null,6665,"鈴鹿農協"]
[null,null,null,null,6673,"津安芸農協"]
[null,null,null,null,6677,"みえなか農協"]
[null,null,null,null,6697,"多気郡農協"]
[null,null,null,null,6731,"伊勢農協"]
[null,null,null,null,6758,"伊賀ふるさと農協"]
[null,null,null,null,6785,"福井県農協"]
[null,null,null,null,6853,"越前たけふ農協"]
[null,null,null,null,6874,"レーク滋賀農協"]
[null,null,null,null,6889,"甲賀農協"]
[null,null,null,null,6897,"グリーン近江農協"]
[null,null,null,null,6900,"滋賀蒲生町農協"]
[null,null,null,null,6909,"東能登川農協"]
[null,null,null,null,6911,"湖東農協"]
[null,null,null,null,6912,"東びわこ農協"]
[null,null,null,null,6919,"レーク伊吹農協"]
[null,null,null,null,6924,"北びわこ農協"]
[null,null,null,null,6941,"京都市農協"]
[null,null,null,null,6956,"京都中央農協"]
[null,null,null,null,6961,"京都やましろ農協"]
[null,null,null,null,6990,"京都農協"]
[null,null,null,null,6996,"京都丹の国農協"]
[null,null,null,null,7025,"北大阪農協"]
[null,null,null,null,7029,"高槻市農協"]
[null,null,null,null,7032,"茨木市農協"]
[null,null,null,null,7041,"大阪北部農協"]
[null,null,null,null,7087,"大阪泉州農協"]
[null,null,null,null,7092,"いずみの農協"]
[null,null,null,null,7111,"堺市農協"]
[null,null,null,null,7139,"大阪南農協"]
[null,null,null,null,7156,"グリーン大阪農協"]
[null,null,null,null,7164,"大阪中河内農協"]
[null,null,null,null,7184,"大阪東部農協"]
[null,null,null,null,7191,"九個荘農協"]
[null,null,null,null,7193,"北河内農協"]
[null,null,null,null,7200,"大阪市農協"]
[null,null,null,null,7213,"兵庫六甲農協"]
[null,null,null,null,7239,"あかし農協"]
[null,null,null,null,7240,"兵庫南農協"]
[null,null,null,null,7249,"みのり農協"]
[null,null,null,null,7264,"兵庫みらい農協"]
[null,null,null,null,7274,"加古川市南農協"]
[null,null,null,null,7288,"兵庫西農協"]
[null,null,null,null,7316,"相生市農協"]
[null,null,null,null,7326,"ハリマ農協"]
[null,null,null,null,7338,"たじま農協"]
[null,null,null,null,7353,"丹波ひかみ農協"]
[null,null,null,null,7362,"丹波ささやま農協"]
[null,null,null,null,7363,"淡路日の出農協"]
[null,null,null,null,7373,"あわじ島農協"]
[null,null,null,null,7387,"奈良県農協"]
[null,null,null,null,7532,"わかやま農協"]
[null,null,null,null,7541,"ながみね農協"]
[null,null,null,null,7543,"紀の里農協"]
[null,null,null,null,7550,"紀北川上農協"]
[null,null,null,null,7559,"ありだ農協"]
[null,null,null,null,7565,"紀州農協"]
[null,null,null,null,7576,"紀南農協"]
[null,null,null,null,7591,"みくまの農協"]
[null,null,null,null,7601,"鳥取いなば農協"]
[null,null,null,null,7625,"鳥取中央農協"]
[null,null,null,null,7641,"鳥取西部農協"]
[null,null,null,null,7708,"島根県農協"]
[null,null,null,null,7755,"岡山市農協"]
[null,null,null,null,7837,"晴れの国岡山農協"]
[null,null,null,null,7909,"広島市農協"]
[null,null,null,null,7913,"呉農協"]
[null,null,null,null,7916,"安芸農協"]
[null,null,null,null,7938,"佐伯中央農協"]
[null,null,null,null,7981,"広島北部農協"]
[null,null,null,null,7994,"広島中央農協"]
[null,null,null,null,8011,"芸南農協"]
[null,null,null,null,8019,"広島ゆたか農協"]
[null,null,null,null,8027,"三原農協"]
[null,null,null,null,8029,"尾道市農協"]
[null,null,null,null,8047,"福山市農協"]
[null,null,null,null,8069,"三次農協"]
[null,null,null,null,8076,"庄原農協"]
[null,null,null,null,8134,"山口県農協"]
[null,null,null,null,8231,"徳島市農協"]
[null,null,null,null,8234,"東とくしま農協"]
[null,null,null,null,8242,"名西郡農協"]
[null,null,null,null,8252,"板野郡農協"]
[null,null,null,null,8257,"徳島北農協"]
[null,null,null,null,8261,"大津松茂農協"]
[null,null,null,null,8263,"里浦農協"]
[null,null,null,null,8268,"阿南農協"]
[null,null,null,null,8288,"かいふ農協"]
[null,null,null,null,8296,"阿波市農協"]
[null,null,null,null,8305,"麻植郡農協"]
[null,null,null,null,8312,"美馬農協"]
[null,null,null,null,8323,"阿波みよし農協"]
[null,null,null,null,8332,"香川県農協"]
[null,null,null,null,8389,"うま農協"]
[null,null,null,null,8397,"えひめ未来農協"]
[null,null,null,null,8398,"周桑農協"]
[null,null,null,null,8400,"越智今治農協"]
[null,null,null,null,8401,"今治立花農協"]
[null,null,null,null,8425,"松山市農協"]
[null,null,null,null,8457,"愛媛たいき農協"]
[null,null,null,null,8463,"西宇和農協"]
[null,null,null,null,8477,"東宇和農協"]
[null,null,null,null,8482,"えひめ南農協"]
[null,null,null,null,8500,"えひめ中央農協"]
[null,null,null,null,8551,"高知市農協"]
[null,null,null,null,8582,"高知県農協"]
[null,null,null,null,8589,"土佐くろしお農協"]
[null,null,null,null,8621,"宗像農協"]
[null,null,null,null,8626,"粕屋農協"]
[null,null,null,null,8632,"福岡市東部農協"]
[null,null,null,null,8633,"福岡市農協"]
[null,null,null,null,8635,"糸島農協"]
[null,null,null,null,8636,"筑紫農協"]
[null,null,null,null,8645,"筑前あさくら農協"]
[null,null,null,null,8653,"にじ農協"]
[null,null,null,null,8656,"みい農協"]
[null,null,null,null,8660,"久留米市農協"]
[null,null,null,null,8664,"三潴町農協"]
[null,null,null,null,8667,"福岡大城農協"]
[null,null,null,null,8668,"福岡八女農協"]
[null,null,null,null,8680,"柳川農協"]
[null,null,null,null,8689,"南筑後農協"]
[null,null,null,null,8692,"北九州農協"]
[null,null,null,null,8694,"直鞍農協"]
[null,null,null,null,8701,"福岡嘉穂農協"]
[null,null,null,null,8715,"田川農協"]
[null,null,null,null,8730,"福岡京築農協"]
[null,null,null,null,8740,"佐賀市中央農協"]
[null,null,null,null,8762,"佐賀県農協"]
[null,null,null,null,8766,"唐津農協"]
[null,null,null,null,8771,"伊万里市農協"]
[null,null,null,null,8794,"長崎西彼農協"]
[null,null,null,null,8813,"長崎県央農協"]
[null,null,null,null,8829,"島原雲仙農協"]
[null,null,null,null,8857,"ながさき西海農協"]
[null,null,null,null,8893,"ごとう農協"]
[null,null,null,null,8905,"壱岐市農協"]
[null,null,null,null,8906,"対馬農協"]
[null,null,null,null,8916,"熊本市農協"]
[null,null,null,null,8926,"玉名農協"]
[null,null,null,null,8941,"鹿本農協"]
[null,null,null,null,8949,"菊池地域農協"]
[null,null,null,null,8964,"阿蘇農協"]
[null,null,null,null,8982,"上益城農協"]
[null,null,null,null,9010,"熊本宇城農協"]
[null,null,null,null,9017,"八代地域農協"]
[null,null,null,null,9043,"あしきた農協"]
[null,null,null,null,9048,"球磨地域農協"]
[null,null,null,null,9069,"本渡五和農協"]
[null,null,null,null,9070,"あまくさ農協"]
[null,null,null,null,9072,"苓北町農協"]
[null,null,null,null,9103,"べっぷ日出農協"]
[null,null,null,null,9104,"大分県農協"]
[null,null,null,null,9145,"大分大山町農協"]
[null,null,null,null,9169,"宮崎中央農協"]
[null,null,null,null,9177,"綾町農協"]
[null,null,null,null,9178,"はまゆう農協"]
[null,null,null,null,9181,"串間市大束農協"]
[null,null,null,null,9184,"都城農協"]
[null,null,null,null,9193,"こばやし農協"]
[null,null,null,null,9197,"えびの市農協"]
[null,null,null,null,9200,"児湯農協"]
[null,null,null,null,9203,"尾鈴農協"]
[null,null,null,null,9205,"西都農協"]
[null,null,null,null,9208,"延岡農協"]
[null,null,null,null,9213,"日向農協"]
[null,null,null,null,9221,"高千穂地区農協"]
[null,null,null,null,9229,"鹿児島みらい農協"]
[null,null,null,null,9251,"いぶすき農協"]
[null,null,null,null,9257,"南さつま農協"]
[null,null,null,null,9270,"さつま日置農協"]
[null,null,null,null,9296,"北さつま農協"]
[null,null,null,null,9302,"鹿児島いずみ農協"]
[null,null,null,null,9319,"あいら農協"]
[null,null,null,null,9332,"そお鹿児島農協"]
[null,null,null,null,9338,"あおぞら農協"]
[null,null,null,null,9341,"鹿児島きもつき農協"]
[null,null,null,null,9347,"肝付吾平町農協"]
[null,null,null,null,9353,"種子屋久農協"]
[null,null,null,null,9363,"あまみ農協"]
[null,null,null,null,9375,"沖縄県農協"]
[null,null,null,null,9450,"北海道信漁連"]
[null,null,null,null,9453,"宮城県漁協"]
[null,null,null,null,9456,"福島県信漁連"]
[null,null,null,null,9461,"東日本信漁連"]
[null,null,null,null,9475,"京都府信漁連"]
[null,null,null,null,9477,"なぎさ信漁連"]
[null,null,null,null,9481,"ＪＦしまね漁協"]
[null,null,null,null,9483,"広島県信漁連"]
[null,null,null,null,9484,"山口県漁協"]
[null,null,null,null,9485,"徳島県信漁連"]
[null,null,null,null,9486,"西日本信漁連"]
[null,null,null,null,9487,"愛媛県信漁連"]
[null,null,null,null,9489,"九州信漁連"]
[null,null,null,null,9493,"大分県漁協"]
[null,null,null,null,9900,"ゆうちょ"]

{"sheet":"レンタ","index":5,"n_rows":162,"n_cols":28,"rows_kept":162,"cut":false,"hidden":true,"merged":[[161,2,161,25],[153,2,153,25],[156,1,156,3],[156,4,156,7],[157,2,157,25],[160,1,160,3],[160,4,160,7],[145,2,145,25],[148,1,148,3],[148,4,148,7],[149,2,149,25],[152,1,152,3],[152,4,152,7],[137,2,137,25],[140,1,140,3],[140,4,140,7],[141,2,141,25],[144,1,144,3],[144,4,144,7],[129,2,129,25],[132,1,132,3],[132,4,132,7],[133,2,133,25],[136,1,136,3],[136,4,136,7],[125,1,125,7],[125,8,125,11],[125,12,125,14],[125,15,125,18],[127,1,127,7],[127,8,127,25],[118,1,118,25],[121,1,121,5],[121,6,121,9],[121,10,121,14],[121,15,121,25],[122,2,122,25],[117,19,117,22],[117,23,117,24],[90,13,90,16],[90,17,90,18],[90,19,90,22],[90,23,90,24],[117,1,117,4],[117,5,117,6],[117,7,117,10],[117,11,117,12],[117,13,117,16],[117,17,117,18],[105,1,105,24],[107,1,107,24],[113,1,113,4],[113,5,113,6],[113,7,113,10],[113,11,113,13],[113,14,113,15],[113,16,113,18],[113,19,113,20],[101,20,101,22],[101,23,101,24],[103,1,103,4],[103,5,103,6],[103,8,103,10],[103,11,103,12],[103,14,103,16],[103,17,103,18],[103,20,103,22],[103,23,103,24],[101,1,101,4],[101,5,101,6],[101,8,101,10],[101,11,101,12],[101,14,101,16],[101,17,101,18],[96,1,96,4],[96,5,96,6],[96,7,96,10],[96,11,96,12],[96,13,96,16],[96,17,96,18],[96,19,96,22],[96,23,96,24],[99,1,99,4],[99,5,99,6],[99,8,99,10],[99,11,99,12],[99,14,99,16],[99,17,99,18],[99,20,99,22],[99,23,99,24],[86,2,86,25],[90,1,90,4],[90,5,90,6],[90,7,90,10],[90,11,90,12],[92,1,92,4],[92,5,92,6],[92,7,92,10],[92,11,92,12],[92,13,92,16],[92,17,92,18],[92,19,92,22],[92,23,92,24],[83,19,83,22],[83,23,83,24],[85,1,85,7],[85,8,85,9],[85,10,85,16],[85,17,85,18],[85,19,85,22],[85,23,85,24],[78,17,78,18],[78,19,78,20],[78,21,78,22],[79,5,79,26],[83,1,83,4],[83,5,83,6],[83,7,83,10],[83,11,83,12],[83,13,83,16],[83,17,83,18],[78,1,78,6],[78,7,78,8],[78,9,78,10],[78,11,78,12],[78,13,78,14],[78,15,78,16],[72,2,72,25],[74,1,74,6],[74,7,74,9],[74,10,74,11],[74,12,74,14],[74,15,74,16],[74,17,74,19],[74,20,74,21],[67,19,67,22],[67,23,67,24],[69,1,69,4],[69,5,69,6],[69,7,69,24],[71,2,71,24],[65,1,65,4],[65,5,65,6],[65,7,65,24],[66,2,66,24],[67,1,67,4],[67,5,67,6],[67,7,67,10],[67,11,67,12],[67,13,67,16],[67,17,67,18],[60,1,60,4],[60,5,60,6],[60,7,60,24],[63,1,63,4],[63,5,63,6],[63,7,63,10],[63,11,63,12],[57,2,57,24],[58,1,58,4],[58,5,58,6],[58,7,58,10],[58,11,58,12],[58,13,58,16],[58,17,58,18],[58,19,58,22],[58,23,58,24],[53,1,53,4],[53,5,53,6],[53,7,53,24],[54,2,54,24],[55,2,55,24],[56,2,56,24],[49,23,49,24],[51,1,51,4],[51,5,51,6],[51,7,51,10],[51,11,51,12],[51,13,51,16],[51,17,51,18],[51,19,51,22],[51,23,51,24],[44,1,44,23],[45,1,45,25],[47,2,47,25],[49,1,49,4],[49,5,49,6],[49,7,49,10],[49,11,49,12],[49,13,49,16],[49,17,49,18],[49,19,49,22],[41,2,41,25],[38,2,38,25],[39,1,39,25],[40,1,40,3],[40,4,40,5],[40,6,40,8],[40,9,40,10],[40,11,40,13],[40,14,40,15],[35,21,35,25],[37,1,37,3],[37,4,37,6],[37,7,37,10],[37,11,37,13],[37,14,37,17],[37,18,37,20],[37,21,37,25],[35,1,35,3],[35,4,35,6],[35,7,35,10],[35,11,35,13],[35,14,35,17],[35,18,35,20],[31,21,31,25],[33,1,33,3],[33,4,33,6],[33,7,33,10],[33,11,33,13],[33,14,33,17],[33,18,33,20],[33,21,33,25],[31,1,31,3],[31,4,31,6],[31,7,31,10],[31,11,31,13],[31,14,31,17],[31,18,31,20],[0,0,0,26],[19,0,19,26],[21,1,21,23],[23,1,23,3],[23,4,23,13],[23,14,23,16],[23,17,23,25],[28,1,28,25],[29,1,29,3],[29,4,29,6],[29,7,29,10],[29,11,29,13],[29,14,29,17],[29,18,29,20],[29,21,29,25],[25,1,25,3],[25,4,25,6],[25,7,25,13],[25,14,25,16],[25,17,25,25],[27,1,27,23]]}
["令和元年度　レンタカー関係補助事業にかかる要望調査　回答票",null,null,null,null,null,null,null,null,null,null,null,null,null,null,null,null,null,null,null,null,null,null,null,null,null,null,"○"]
[]
[]
[]
[]
[]
[]
[]
[]
[]
[]
[]
[]
[]
[]
[]
[]
[]
[]
[" 上記をお読みいただけましたら、下記設問の回答にお進みください。"]
[]
["1．","ご回答様に関して"]
[]
[null,"会社名",null,null,null,null,null,null,null,null,null,null,null,null,"ご担当者名"]
[]
[null,"ご連絡先",null,null,"電話番号",null,null,null,null,null,null,null,null,null,"ＭＡＩＬアドレス"]
[]
["2．","補助事業の計画等に関して"]
[null,"Ｑ１．事業の実施を計画している都道府県、市町村名(事業実施路線が観光庁長官が国際観光振興法に\n      基づき指定した区間※に該当する場合は、そちらについてもお答えください（複数回答可）)。"]
[null,"実施地域①",null,null,"都道府県名",null,null,null,null,null,null,"市町村名",null,null,null,null,null,null,"指定区間名"]
[]
[null,"実施地域②",null,null,"都道府県名",null,null,null,null,null,null,"市町村名",null,null,null,null,null,null,"指定区間名"]
[]
[null,"実施地域③",null,null,"都道府県名",null,null,null,null,null,null,"市町村名",null,null,null,null,null,null,"指定区間名"]
[]
[null,"実施地域④",null,null,"都道府県名",null,null,null,null,null,null,"市町村名",null,null,null,null,null,null,"指定区間名"]
[]
[null,"実施地域⑤",null,null,"都道府県名",null,null,null,null,null,null,"市町村名",null,null,null,null,null,null,"指定区間名"]
[null,null,"※国際観光振興法（外国人観光旅客の来訪の促進等による国際観光の振興に関する法律）により、 観光庁長官は外国人観光旅客の利便の増進を図ることが特に必要であると認めるときは、多数の外国人観光旅客が利用する区間又は外国人観光旅客の利用の増加が見込まれる区間を「外国人観光旅客利便増進措置を講ずべき区間」として指定することができます。\n（国際観光振興法第８条）"]
[null,"Ｑ２．「公共交通利用環境刷新計画※」の提出状況をお答えください。該当する回答の回答欄に「○」をしてください。"]
[null,"提出済",null,null,null,null,"未提出",null,null,null,null,"提出予定なし"]
[null,null,"※訪日外国人旅行者のニーズが特に高い取り組みを一体的に進める事業で、重点的に国の支援を受ける（補助率１／２～）場合は、「観光振興事業費補助金交付要綱」第２６条に定める「公共交通利用環境刷新計画計画」を地方運輸局長、神戸運輸管理部長又は沖縄総合事務局長を通じて観光庁に提出の上、認定を受ける必要があります。"]
[]
[]
["3．","補助事業に関して"]
[null,"Ｑ４．今回補助制度を活用の上導入されたい対象物に関してご回答ください。\n　　　　（詳細については別添調査票にご記入ください。）"]
[null,"① 多言語、無料Ｗｉ-Ｆｉ、キャッシュレス関係"]
[null,"１）","（多言語）　"]
[null,"・","表示の多言語化　導入を予定しているものに全て「◎」を、導入済みのものに全て「○」を記入してください。"]
[null,"各種サイン※",null,null,null,null,null,"サイネージ等",null,null,null,null,null,"ＨＰ表示の多言語化※",null,null,null,null,null,"ＨＰ予約システムのクレジットカード等決済"]
[]
[null,"多言語アプリ入り\nタブレット※",null,null,null,null,null,"翻訳機器\n（ポケトーク等）",null,null,null,null,null,"ナンバリング",null,null,null,null,null,"ピクトグラム"]
[]
[null,"その他",null,null,null,null,null,"（具体的に）"]
[null,null,"※多言語化の対象となるサインは次の通りです。誘導サイン類（施設内の方向を指示するのに必要なサイン）、位置サイン類（施設等の位置を告知するのに必要なサイン）、\n　 案内サイン類（乗降条件や位置関係を案内するのに必要なサイン）、規制サイン類（利用者の行動を規制するのに必要なサイン）"]
[null,null,"※ＨＰはパソコン又は携帯電話、スマートフォン等から利用できるもので、経路検索又は予約システムを多言語で提供するものが\n　補助の対象となります。予約システムをＨＰで提供する場合は、クレジットカード等により決済できるものが望ましいとされています。"]
[null,null,"※多言語案内・翻訳用タブレット端末においては、多言語案内・翻訳アブリをインストールすることを条件とし、導入後は利用状況を把握する。路線図、時刻表等訪日外国人旅行者の\n   移動円滑化に資する多言語情報をインストールすることとされています。"]
[null,null,"多言語化対象言語　多言語化を予定している言語に全て「◎」を、多言語化済みのものに全て「○」を記入してください。"]
[null,"英語",null,null,null,null,null,"韓国語",null,null,null,null,null,"中国語（簡体字）",null,null,null,null,null,"中国語（繁体字）"]
[]
[null,"その他",null,null,null,null,null,"（具体的に）"]
[]
[null,"・","案内放送の多言語化　導入を予定しているものに全て「◎」をしてください。"]
[null,"案内放送(音声)",null,null,null,null,null,"スマホへのプッシュ式案内"]
[]
[null,"その他",null,null,null,null,null,"（具体的に）"]
[null,null,"多言語化対象言語　多言語化を予定している言語に全て「◎」を、多言語化済みのものに全て「○」を記入してください。"]
[null,"英語",null,null,null,null,null,"韓国語",null,null,null,null,null,"中国語（北京語）",null,null,null,null,null,"中国語（広東語）"]
[]
[null,"その他",null,null,null,null,null,"（具体的に）"]
[]
[null,null,"※多言語化の対象となるサインは次の通りです。誘導サイン類（施設内の方向を指示するのに必要なサイン）、位置サイン類（施設等の位置を告知するのに必要なサイン）、\n　 案内サイン類（乗降条件や位置関係を案内するのに必要なサイン）、規制サイン類（利用者の行動を規制するのに必要なサイン）"]
[null,"２）","（無料Ｗｉ-Ｆｉ）　導入にあたり、共通シンボルマーク（※Japan.Free　Wi-Fi）の申請状況で該当するものに「○」をしてください。"]
[]
[null,"共通シンボルマークの申請",null,null,null,null,null,"申請済",null,null,null,null,"申請予定",null,null,null,null,"申請予定なし"]
[]
[null,null,"　　　　　　　　　　　　採用予定の認証方法について以下のうち該当する方式に「○」をしてください。　　　　　　　　　　　　　"]
[]
[null,"採用予定認証方式",null,null,null,null,null,"①",null,null,null,"②＆③",null,null,null,"②ｏｒ③",null,null,null,"採用なし"]
[null,null,null,null,null,"＜採用予定認証方法（総務省推奨方式）＞ ① ＳＭＳ・電話番号を利用した方式、\n                                                              ② ＳＮＳアカウントを利用した方式、\n                                                              ③ 利用していることの確認を含めたメール認証方式"]
[null,"３）","（キャッシュレス）　"]
[null,null,"交通系ＩＣカード　導入を予定している対象に全て「○」をしてください。"]
[]
[null,"新規導入",null,null,null,null,null,"サービス提供区域の\n拡大",null,null,null,null,null,"サービス提供路線の\n拡大",null,null,null,null,null,"サービス提供車両の\n拡大"]
[]
[null,"バス車両内において次停留所に関する情報提供を実施済み又は実施予定",null,null,null,null,null,null,null,null,"旅客施設において施設名を多言語化",null,null,null,null,null,null,null,null,"１０カード導入"]
[null,null,"※１０カードとは、KＩｔａｃａ、Ｓｕｉｃａ、PASMO、ＴＯＩＣＡ、ｍａｎａｃａ、ＩCOCA、PiTaPa、SUGOCA、はやかけん、ｎｉｍｏｃａの全国主要エリアで利用可能な１０種類のカードを指します。"]
[]
[null,null,"クレジットカード、ＱＲコード、ＥＴＣカード　導入を予定している対象に全て「○」をしてください。"]
[]
[null,"クレジットカード",null,null,null,null,null,"ＱＲコード",null,null,null,null,null,"ＥＴＣカード",null,null,null,null,null,"ＥＴＣカード精算機\n（店舗用）"]
[]
[null,"新規導入",null,null,null,null,null,"サービス提供区域の\n拡大",null,null,null,null,null,"サービス提供路線の\n拡大",null,null,null,null,null,"サービス提供車両の\n拡大"]
[]
[null,null,"ＩＣ企画乗車券、企画乗船券　導入を予定しているものに全て「○」をしてください。"]
[]
[null,"ＩＣ企画乗車券",null,null,null,null,null,"企画乗船券造成",null,null,null,null,null,"利用状況確認方法想定済み",null,null,null,null,null,"利用状況確認方法未想定"]
[]
[null,"②車両"]
[null,"UDタクシー",null,null,null,null,null,"両","うち下記①に該当するもの",null,null,null,null,"両","うち下記②に該当するもの",null,null,null,null,"両","うち下記③に該当するもの",null,null,null,null,"両"]
[]
[null,"ジャンボタクシー",null,null,null,null,null,"両","うち下記①に該当するもの",null,null,null,null,"両","うち下記②に該当するもの",null,null,null,null,"両","うち下記③に該当するもの",null,null,null,null,"両"]
[]
[null,"その他",null,null,null,null,null,"両","うち下記①に該当するもの",null,null,null,null,"両","うち下記②に該当するもの",null,null,null,null,"両","うち下記③に該当するもの",null,null,null,null,"両"]
[]
[null,"（その他を具体的に）"]
[]
[null,"①　車両の導入と合わせ多言語、無料Ｗｉ-Ｆｉ、キャッシュレスを新規に全て導入。\n②　既に多言語、無料Ｗｉ-Ｆｉ、キャッシュレスを導入済みで今回車両の導入と合わせ、残りを全て導入。\n③　上記以外で、空港アクセス・観光周遊の乗合バス、として導入。"]
[]
[null,"③その他"]
[]
[null,"１）","（情報端末への電源供給機器、非常用電源装置［蓄電池システム、発電機］）　"]
[null,null,"該当する項目に全て「○」をしてください。"]
[null,"電源供給機器",null,null,null,null,null,"非常用電源装置",null,null,null,"蓄電池",null,null,null,null,"発電機"]
[]
[null,"２）","（外国語研修）　"]
[null,null,"該当する項目に全て「○」をしてください。"]
[null,"多言語研修",null,null,null,null,null,"接遇研修",null,null,null,null,null,"災害応対訓練研修",null,null,null,null,null,"外部講師の招聘"]
[null,"Ｑ４．事業計画と国交省観光施策の調和について　該当する内容を記入してください。"]
[]
[null,"・","広域観光周遊観光促進のための観光地支援事業※　"]
[null,"該当する地方ブロック名",null,null,null,null,null,null,null,null,"関係する取組み"]
[null,null,"※訪日外国人旅行者等の各地域への周遊を促進するため、ＤＭＯが中心となって行う、調査・戦略策定からそれに基づく滞在コンテンツの充実、　 広域周遊観光促進のための環境整備、情報発信・プロモーションといった、地域の関係者が広域的に連携して観光客の来訪・滞在促進を図る取組みに対して総合的な支援を行う事業。"]
[]
[null,"・","観光圏の整備※　"]
[null,"事業実施地域が該当する観光圏名",null,null,null,null,null,null,null,null,null,null,"市町村名"]
[]
[null,"活用した特例措置"]
[]
[null,null,"※「観光圏の整備による観光旅客の来訪及び滞在の促進に関する法律」（観光圏整備法）に基づき、各種法律の特例などにより「観光圏」の形成を支援し、国際競争力の高い魅力ある観光\n　 地域づくりを推進するもの（http://www.mlit.go.jp/common/001087871.pdf）。"]
[]
[null,"・","カテゴリーⅡ以上のＪＮＴＯ認定外国人観光案内所※が立地する地域"]
[null,"市町村名"]
[null,null,"※観光庁が定めた「外国人観光案内所の設置・運営のあり方指針（平成24年1月制定、平成30年4月改定）」に基づき、日本政府観光局（ＪＮＴＯ）が認定する外国人案内所\n　カテゴリー２は、少なくとも英語で対応可能なスタッフが常駐し、広域の案内を提供できるレベル。（https://www.jnto.go.jp/jpn/projects/visitor_support/tic_nintei.html）"]
[]
[null,"・","広域観光周遊ルート形成計画の広域観光拠点地区※"]
[null,"市町村名"]
[null,null,"※「広域観光周遊ルート形成計画」テーマ性・ストーリー性を有する魅力ある観光地域をネットワーク化し、訪日外国人旅行者の滞在日数に合わせた広域観光周遊ルートを形成する「広域観光周遊ルート形成促進事業」を実施するため、訪日外国人旅行者の周遊の促進を総合的かつ一体的に図るための計画。\n※「広域観光拠点地区」コンセプトに即した国際競争力のある観光資源を有し、本事業に重点的に取り組み、訪日外国人旅行者の集客の核となる地域"]
[]
[null,"・","「文化財を活かした観光戦略推進プラン」※に基づき文化財を中核とする観光拠点の整備に取り組む地域"]
[null,"市町村名"]
[null,null,"※文化財を中核とする観光拠点の整備や、当該拠点等において実施される文化財等の観光資源としての魅力を向上させる取組への支援を充実させるもの。\n　 直前に迫る2020年の観光立国の実現に向けて、「文化財活用・理解促進戦略プログラム2020」に基づく１０事業を実施することとしている。(http://wwwtb.mlit.go.jp/kinki/content/000093570.pdf)"]
[]
[null,"・","「国立公園満喫プロジェクト」の先導モデルとして選定され、「国立公園ステップアッププログラム２０２０」の策定に取り組む地域"]
[null,"市町村名"]
[null,null,"※2020年を目標にインバウンド対応の取組を計画的・集中的に実施し、日本の国立公園を世界の旅行者が長期滞在したいと憧れる旅行目的地にしようとするもの。\n　阿寒摩周国立公園、十和田八幡平国立公園、日光国立公園、伊勢志摩国立公園、大山隠岐国立公園、阿蘇くじゅう国立公園、霧島錦江湾国立公園、慶良間諸島国立公園の8か所の国立公園で「国立公園ステップアッププログラム2020」を策定（http://www.env.go.jp/nature/mankitsu-project/）。"]
[]
[null,"・","観光立国ショーケース※選定都市"]
[null,"市町村名"]
[null,null,"※観光立国ショーケースは、「日本再興戦略　改訂2015」（平成27年6月30日閣議決定）に基づき、多くの外国人旅行者に選ばれる、観光立国を体現する観光地域を作り、訪日外国人旅行者を地方へ誘客するモデルケースを形成しようとするもの（http://www.mlit.go.jp/common/001190393.pdf）。現在釧路市、金沢市、長崎市の３都市が選定都市とされている。"]
[]
[null,"・","東京オリンピック・パラリンピック競技会場立地都市"]
[null,"市町村名"]
[null,null,"※https://tokyo2020.org/jp/games/venue/olympic/"]
[]
[null,"・","ラグビーワールドカップ競技会場立地都市"]
[null,"市町村名"]
[null,null,"※https://www.rugbyworldcup.com/venues?lang=ja"]
[]
[null,"・","その他観光ビジョン推進地方ブロック戦略会議が訪日外国人旅行者の受入環境整備を実施すべきと認めたもの"]
[null,"市町村名"]
[null,null,"※地域における事業団体・地方自治体・関係する国の機関等からなる「観光ビジョン推進地方ブロック戦略会議」において、各地域における訪日外国人の受入環境に関する現状と課題、推進すべき観光施策等を検討することとしており、その過程で、訪日外国人旅行者受入環境整備緊急対策事業における補助事業の採択に当たり、訪日外国人旅行者への効果が高いものを優先的に採択している（https://www.gyoukaku.go.jp/review/aki/H30/img/s9.pdf）。"]